BEGIN:VCALENDAR
VERSION:2.0
PRODID:-//Sactown Supermom - ECPv6.15.20//NONSGML v1.0//EN
CALSCALE:GREGORIAN
METHOD:PUBLISH
X-WR-CALNAME:Sactown Supermom
X-ORIGINAL-URL:https://sactownsupermom.com
X-WR-CALDESC:Events for Sactown Supermom
REFRESH-INTERVAL;VALUE=DURATION:PT1H
X-Robots-Tag:noindex
X-PUBLISHED-TTL:PT1H
BEGIN:VTIMEZONE
TZID:America/Los_Angeles
BEGIN:DAYLIGHT
TZOFFSETFROM:-0800
TZOFFSETTO:-0700
TZNAME:PDT
DTSTART:20240310T100000
END:DAYLIGHT
BEGIN:STANDARD
TZOFFSETFROM:-0700
TZOFFSETTO:-0800
TZNAME:PST
DTSTART:20241103T090000
END:STANDARD
BEGIN:DAYLIGHT
TZOFFSETFROM:-0800
TZOFFSETTO:-0700
TZNAME:PDT
DTSTART:20250309T100000
END:DAYLIGHT
BEGIN:STANDARD
TZOFFSETFROM:-0700
TZOFFSETTO:-0800
TZNAME:PST
DTSTART:20251102T090000
END:STANDARD
BEGIN:DAYLIGHT
TZOFFSETFROM:-0800
TZOFFSETTO:-0700
TZNAME:PDT
DTSTART:20260308T100000
END:DAYLIGHT
BEGIN:STANDARD
TZOFFSETFROM:-0700
TZOFFSETTO:-0800
TZNAME:PST
DTSTART:20261101T090000
END:STANDARD
END:VTIMEZONE
BEGIN:VEVENT
DTSTART;TZID=America/Los_Angeles:20250420T093000
DTEND;TZID=America/Los_Angeles:20250420T110000
DTSTAMP:20260421T053440
CREATED:20250323T031558Z
LAST-MODIFIED:20260227T174607Z
UID:10000151-1745141400-1745146800@sactownsupermom.com
SUMMARY:The Wonder Grove Rock Egg Hunt
DESCRIPTION:The Wonder Grove’s Sunday Wiggle Worms play group will be a Rock Egg Hunt on Sunday\, April 20\, 2025. There will be rock eggs painting\, and an egg hunt. \nRock eggs painting will begin at 9:30am. The egg hunt will take place at 10:30am. There will also be other interactive activities like creating clay bunnies\, storytime\, and music. \nThe Wonder Grove recommends going on a nature walk before the event to hunt for an egg-shaped rock to bring for rock eggs painting.
URL:https://sactownsupermom.com/event/the-wonder-grove-rock-egg-hunt/
LOCATION:Wiggle Worms Play Group\, 1300 Lake Washington Blvd\, West Sacramento\, CA\, 95691
END:VEVENT
END:VCALENDAR