BEGIN:VCALENDAR
VERSION:2.0
PRODID:-//Sactown Supermom - ECPv6.15.20//NONSGML v1.0//EN
CALSCALE:GREGORIAN
METHOD:PUBLISH
X-ORIGINAL-URL:https://sactownsupermom.com
X-WR-CALDESC:Events for Sactown Supermom
REFRESH-INTERVAL;VALUE=DURATION:PT1H
X-Robots-Tag:noindex
X-PUBLISHED-TTL:PT1H
BEGIN:VTIMEZONE
TZID:America/Los_Angeles
BEGIN:DAYLIGHT
TZOFFSETFROM:-0800
TZOFFSETTO:-0700
TZNAME:PDT
DTSTART:20240310T100000
END:DAYLIGHT
BEGIN:STANDARD
TZOFFSETFROM:-0700
TZOFFSETTO:-0800
TZNAME:PST
DTSTART:20241103T090000
END:STANDARD
BEGIN:DAYLIGHT
TZOFFSETFROM:-0800
TZOFFSETTO:-0700
TZNAME:PDT
DTSTART:20250309T100000
END:DAYLIGHT
BEGIN:STANDARD
TZOFFSETFROM:-0700
TZOFFSETTO:-0800
TZNAME:PST
DTSTART:20251102T090000
END:STANDARD
BEGIN:DAYLIGHT
TZOFFSETFROM:-0800
TZOFFSETTO:-0700
TZNAME:PDT
DTSTART:20260308T100000
END:DAYLIGHT
BEGIN:STANDARD
TZOFFSETFROM:-0700
TZOFFSETTO:-0800
TZNAME:PST
DTSTART:20261101T090000
END:STANDARD
END:VTIMEZONE
BEGIN:VEVENT
DTSTART;TZID=America/Los_Angeles:20251024T174500
DTEND;TZID=America/Los_Angeles:20251024T220000
DTSTAMP:20260421T090614
CREATED:20250930T232033Z
LAST-MODIFIED:20250930T232033Z
UID:10000795-1761327900-1761343200@sactownsupermom.com
SUMMARY:Spookishly Fun Movie Night
DESCRIPTION:Spookishly Fun Movie Night will take place on Friday\, October 24\, 2025 at Veterans Field in Galt. This free event will include trick-or-treating and a movie showing of Disney’s Coco. Don’t forget blankets and chairs!
URL:https://sactownsupermom.com/event/spookishly-fun-movie-night/
LOCATION:Veterans Field\, 900 Caroline Avenue\, Galt\, CA\, 95632
CATEGORIES:Free Halloween
END:VEVENT
BEGIN:VEVENT
DTSTART;TZID=America/Los_Angeles:20250808T180000
DTEND;TZID=America/Los_Angeles:20250808T223000
DTSTAMP:20260421T090614
CREATED:20250805T062819Z
LAST-MODIFIED:20250805T062819Z
UID:10000514-1754676000-1754692200@sactownsupermom.com
SUMMARY:Friday Night Movies in Galt
DESCRIPTION:The free Summer Movie Series at Veterans Field in Galt returns in 2025. The movie Cars will be shown on Friday\, August 8\, 2025. \nBring blankets and lawn chairs for the showing. Food will be available for purchase. The movie will begin at dusk.
URL:https://sactownsupermom.com/event/friday-night-movies-in-galt/
LOCATION:Veterans Field\, 900 Caroline Avenue\, Galt\, CA\, 95632
CATEGORIES:Free
END:VEVENT
BEGIN:VEVENT
DTSTART;TZID=America/Los_Angeles:20250704T180000
DTEND;TZID=America/Los_Angeles:20250704T220000
DTSTAMP:20260421T090614
CREATED:20250617T035614Z
LAST-MODIFIED:20250617T035614Z
UID:10000351-1751652000-1751666400@sactownsupermom.com
SUMMARY:Galt Independence Day Celebration Fireworks
DESCRIPTION:As part of their Independence Day Celebration\, Galt will have a free fireworks show on July 4\, 2025 at Veterans Field. The fireworks show begins at 9:30pm. \nBeginning at 6pm\, there will be free live music entertainment by Rock-It. Kids can enjoy a Kids Zone for $10 per child. Food trucks will also be on-site. \n 
URL:https://sactownsupermom.com/event/galt-independence-day-celebration-fireworks/
LOCATION:Veterans Field\, 900 Caroline Avenue\, Galt\, CA\, 95632
CATEGORIES:4th of July Fireworks
END:VEVENT
END:VCALENDAR