BEGIN:VCALENDAR
VERSION:2.0
PRODID:-//Sactown Supermom - ECPv6.15.20//NONSGML v1.0//EN
CALSCALE:GREGORIAN
METHOD:PUBLISH
X-ORIGINAL-URL:https://sactownsupermom.com
X-WR-CALDESC:Events for Sactown Supermom
REFRESH-INTERVAL;VALUE=DURATION:PT1H
X-Robots-Tag:noindex
X-PUBLISHED-TTL:PT1H
BEGIN:VTIMEZONE
TZID:America/Los_Angeles
BEGIN:DAYLIGHT
TZOFFSETFROM:-0800
TZOFFSETTO:-0700
TZNAME:PDT
DTSTART:20240310T100000
END:DAYLIGHT
BEGIN:STANDARD
TZOFFSETFROM:-0700
TZOFFSETTO:-0800
TZNAME:PST
DTSTART:20241103T090000
END:STANDARD
BEGIN:DAYLIGHT
TZOFFSETFROM:-0800
TZOFFSETTO:-0700
TZNAME:PDT
DTSTART:20250309T100000
END:DAYLIGHT
BEGIN:STANDARD
TZOFFSETFROM:-0700
TZOFFSETTO:-0800
TZNAME:PST
DTSTART:20251102T090000
END:STANDARD
BEGIN:DAYLIGHT
TZOFFSETFROM:-0800
TZOFFSETTO:-0700
TZNAME:PDT
DTSTART:20260308T100000
END:DAYLIGHT
BEGIN:STANDARD
TZOFFSETFROM:-0700
TZOFFSETTO:-0800
TZNAME:PST
DTSTART:20261101T090000
END:STANDARD
BEGIN:DAYLIGHT
TZOFFSETFROM:-0800
TZOFFSETTO:-0700
TZNAME:PDT
DTSTART:20270314T100000
END:DAYLIGHT
BEGIN:STANDARD
TZOFFSETFROM:-0700
TZOFFSETTO:-0800
TZNAME:PST
DTSTART:20271107T090000
END:STANDARD
END:VTIMEZONE
BEGIN:VEVENT
DTSTART;TZID=America/Los_Angeles:20260418T100000
DTEND;TZID=America/Los_Angeles:20260418T160000
DTSTAMP:20260421T013554
CREATED:20260330T182254Z
LAST-MODIFIED:20260414T214624Z
UID:10001663-1776506400-1776528000@sactownsupermom.com
SUMMARY:UC Davis Picnic Day
DESCRIPTION:The annual UC Davis Picnic Day takes place on Saturday\, April 18\, 2026. This free\, family-friendly event is a beloved tradition that features parades\, hands-on exhibits\, animal encounters\, and a Children’s Discovery Fair across the UC Davis campus. \nThere are tons of activities for kids at the UC Davis Picnic Day! One of the highlights is the Children’s Discovery Fair which takes place on the Hoagland Lawn. \nThe Picnic Day Parade begins at 10:15am. Parade details\, including the route\, can be viewed here. \nAdditionally\, there are tons of family-friendly exhibits for kids of all ages like slime making\, a laser maze\, and a Chemistry show. Various animal encounters will be taking place throughout the campus\, like a petting zoo and a frisbee dog contest. \nThe best way to view all the many hands-on exhibits and activities is on the UC Davis Picnic Day website.
URL:https://sactownsupermom.com/event/uc-davis-picnic-day-2/
LOCATION:UC Davis\, Davis\, CA
CATEGORIES:April,April 17-19,Free
END:VEVENT
BEGIN:VEVENT
DTSTART;VALUE=DATE:20260221
DTEND;VALUE=DATE:20260222
DTSTAMP:20260421T013554
CREATED:20260131T204305Z
LAST-MODIFIED:20260218T181638Z
UID:10001418-1771632000-1771718399@sactownsupermom.com
SUMMARY:UC Davis Biodiversity Museum Day
DESCRIPTION:The 15th annual UC Davis Biodiversity Museum Day is Saturday\, February 21\, 2026\, where museums/collections will open their doors for free to the public. This event aims to inspire young kids to pursue careers in science. This event is free and family-friendly. Free parking is also available at all the institutions. \nThe following nine UC Davis museums/collections are participating in Biodiversity Museum Day: \nUC Davis Arboretum and Public Garden\, Habitat Gardens in the Environmental GATEway \n\nAdjacent to the Arboretum Teaching Nursery on Garrod Drive\n12pm to 4pm\n\nAnthropology Museum\, Wickson Hall (West Entrance) \n\n12pm to 4pm\n\nBee Haven\, 1 Bee Biology Road \n\n9am to 1pm\n\nBohart Museum of Entomology \n\nRoom 1124 and main hall of the Academic Surge Building\, 455 Crocker\n12pm to 4pm\n\nBotanical Conservatory \n\nThe greenhouses along Kleiber Hall Drive\n11am to 3pm\n\nCalifornia Raptor Center \n\n1340 Equine Lane\, off Old Davis Road\n9am to 3pm\n\nCenter for Plant Diversity\, Katherine Esau Science Hall \n\n10am to 2pm\n\nDesign Museum \n\nCruess Hall\, Room 124\n12pm to 4pm\n\nMuseum of Wildlife and Fish Biology \n\nRoom 1394\, Academic Surge Building\, 455 Crocker Lane\n10am to 2pm\n\nNematode Collection (part of the UC Davis Department of Entomology and Nematology) \n\nKatherine Esau Science Hall\, off Kleiber Hall Drive\n10am to 2pm\n\nPaleontology Collection\, Department of Earth and Planetary Sciences \n\n1309 Earth and Physical Sciences Building\, 434 LaRue Road\n12pm to 4pm\n\nPhaff Yeast Culture Collection\, Robert Mondavi Institute Brewery and Food Processing facility \n\n10am to 2pm
URL:https://sactownsupermom.com/event/uc-davis-biodiversity-museum-day-2026/
LOCATION:UC Davis\, Davis\, CA
CATEGORIES:Feb 20-22,February,Museums
END:VEVENT
BEGIN:VEVENT
DTSTART;TZID=America/Los_Angeles:20250511T100000
DTEND;TZID=America/Los_Angeles:20250511T170000
DTSTAMP:20260421T013554
CREATED:20250506T044928Z
LAST-MODIFIED:20250506T044928Z
UID:10000246-1746957600-1746982800@sactownsupermom.com
SUMMARY:Whole Earth Festival
DESCRIPTION:The annual Whole Earth Festival (WEF) returns to the UC Davis Quad during the weekend of May 9-11\, 2025. This is a free\, student-run family-friendly event that encourages living sustainably through music\, arts\, crafts\, and educational vendors.
URL:https://sactownsupermom.com/event/whole-earth-festival/2025-05-11/
LOCATION:UC Davis\, Davis\, CA
CATEGORIES:Free
END:VEVENT
BEGIN:VEVENT
DTSTART;TZID=America/Los_Angeles:20250412T100000
DTEND;TZID=America/Los_Angeles:20250412T160000
DTSTAMP:20260421T013554
CREATED:20250404T222410Z
LAST-MODIFIED:20260330T181915Z
UID:10000184-1744452000-1744473600@sactownsupermom.com
SUMMARY:UC Davis Picnic Day
DESCRIPTION:The annual UC Davis Picnic Day takes place on Saturday\, April 12\, 2025. This free\, family-friendly event is a beloved tradition that features parades\, hands-on exhibits\, animal encounters\, and a Children’s Discovery Fair across the UC Davis campus. \nThere are tons of activities for kids at the UC Davis Picnic Day! One of the highlights is the Children’s Discovery Fair which takes place on the Hoagland Lawn. \nThe Picnic Day Parade begins at 10:15am. Parade details\, including the route\, can be viewed here. \nAdditionally\, there are tons of family-friendly exhibits for kids of all ages like slime making\, a laser maze\, and a Chemistry show. Various animal encounters will be taking place throughout the campus\, like a petting zoo and a frisbee dog contest. \nThe best way to view all the many hands-on exhibits and activities is on the UC Davis Picnic Day website.
URL:https://sactownsupermom.com/event/uc-davis-picnic-day/
LOCATION:UC Davis\, Davis\, CA
CATEGORIES:Free
END:VEVENT
BEGIN:VEVENT
DTSTART;VALUE=DATE:20250208
DTEND;VALUE=DATE:20250209
DTSTAMP:20260421T013554
CREATED:20250120T161635Z
LAST-MODIFIED:20260201T050848Z
UID:10000037-1738972800-1739059199@sactownsupermom.com
SUMMARY:UC Davis Biodiversity Museum Day
DESCRIPTION:The 14th annual UC Davis Biodiversity Museum Day is Saturday\, February 8\, 2025\, where nine museums/collections will open their doors for free to the public. This event aims to inspire young kids to pursue careers in science. \nThis event is free and family-friendly. Free parking is also available at all the institutions. \nThe following nine UC Davis museums/collections are participating in Biodiversity Museum Day: \nUC Davis Arboretum and Public Garden\, Habitat Gardens in the Environmental GATEway \n\nAdjacent to the Arboretum Teaching Nursery on Garrod Drive\n12pm to 4pm\n\nBohart Museum of Entomology \n\nRoom 1124 and main hall of the Academic Surge Building\, 455 Crocker\n9am to 1pm\n\nBotanical Conservatory \n\nThe greenhouses along Kleiber Hall Drive\n10am to 2pm\n\nCalifornia Raptor Center \n\n1340 Equine Lane\, off Old Davis Road\n9am to 3pm\n\nNematode Collection (part of the UC Davis Department of Entomology and Nematology) \n\nKatherine Esau Science Hall\, off Kleiber Hall Drive\n10am to 2pm\n\nMuseum of Wildlife and Fish Biology \n\nRoom 1394\, Academic Surge Building\, 455 Crocker Lane\n10am to 2pm\n\nPaleontology Collection\, Department of Earth and Planetary Sciences \n\n1309 Earth and Physical Sciences Building\, 434 LaRue Road\n10am to 2pm\n\nPhaff Yeast Culture Collection\, Robert Mondavi Institute Brewery and Food Processing facility \n\nOld Davis Road\n10am to 2pm\n\nVisual Journal Exhibit (new)\, Design Museum at Cruess Hall\, Room 124 & Moth Documentary (new)\, Cruess Hall\, Room 100  \n\n375 California Ave\n1pm to 5pm (Visual Journal Exhibit in Room 124)\n2:45pm to 5pm (Moth Documentary in Room 100)
URL:https://sactownsupermom.com/event/uc-davis-biodiversity-museum-day/
LOCATION:UC Davis\, Davis\, CA
CATEGORIES:Museums
END:VEVENT
END:VCALENDAR