BEGIN:VCALENDAR
VERSION:2.0
PRODID:-//Sactown Supermom - ECPv6.15.20//NONSGML v1.0//EN
CALSCALE:GREGORIAN
METHOD:PUBLISH
X-ORIGINAL-URL:https://sactownsupermom.com
X-WR-CALDESC:Events for Sactown Supermom
REFRESH-INTERVAL;VALUE=DURATION:PT1H
X-Robots-Tag:noindex
X-PUBLISHED-TTL:PT1H
BEGIN:VTIMEZONE
TZID:America/Los_Angeles
BEGIN:DAYLIGHT
TZOFFSETFROM:-0800
TZOFFSETTO:-0700
TZNAME:PDT
DTSTART:20240310T100000
END:DAYLIGHT
BEGIN:STANDARD
TZOFFSETFROM:-0700
TZOFFSETTO:-0800
TZNAME:PST
DTSTART:20241103T090000
END:STANDARD
BEGIN:DAYLIGHT
TZOFFSETFROM:-0800
TZOFFSETTO:-0700
TZNAME:PDT
DTSTART:20250309T100000
END:DAYLIGHT
BEGIN:STANDARD
TZOFFSETFROM:-0700
TZOFFSETTO:-0800
TZNAME:PST
DTSTART:20251102T090000
END:STANDARD
BEGIN:DAYLIGHT
TZOFFSETFROM:-0800
TZOFFSETTO:-0700
TZNAME:PDT
DTSTART:20260308T100000
END:DAYLIGHT
BEGIN:STANDARD
TZOFFSETFROM:-0700
TZOFFSETTO:-0800
TZNAME:PST
DTSTART:20261101T090000
END:STANDARD
END:VTIMEZONE
BEGIN:VEVENT
DTSTART;TZID=America/Los_Angeles:20250921T100000
DTEND;TZID=America/Los_Angeles:20250921T140000
DTSTAMP:20260421T040213
CREATED:20250831T011908Z
LAST-MODIFIED:20250831T011908Z
UID:10000599-1758448800-1758463200@sactownsupermom.com
SUMMARY:Butterfly Fest at The Secret Garden
DESCRIPTION:The family-friendly Butterfly Fest at The Secret Garden returns to Elk Grove on September 13-14 and September 20-21\, 2025. Lifecycle Tours will take place each day at 11am. There will be face painting for kids and a coloring table. The Secret Garden also has scavenger hunts for kids. This is a free event and an RSVP is not required. \nButterfly headbands\, wands\, and pins will also be available for purchase. Note that butterflies will not be released at this event.
URL:https://sactownsupermom.com/event/butterfly-fest-at-the-secret-garden/2025-09-21/
LOCATION:The Secret Garden\, 8450 W Stockton Blvd\, Elk Grove\, CA\, 95758
CATEGORIES:Elk Grove
END:VEVENT
END:VCALENDAR