BEGIN:VCALENDAR
VERSION:2.0
PRODID:-//Sactown Supermom - ECPv6.15.20//NONSGML v1.0//EN
CALSCALE:GREGORIAN
METHOD:PUBLISH
X-ORIGINAL-URL:https://sactownsupermom.com
X-WR-CALDESC:Events for Sactown Supermom
REFRESH-INTERVAL;VALUE=DURATION:PT1H
X-Robots-Tag:noindex
X-PUBLISHED-TTL:PT1H
BEGIN:VTIMEZONE
TZID:America/Los_Angeles
BEGIN:DAYLIGHT
TZOFFSETFROM:-0800
TZOFFSETTO:-0700
TZNAME:PDT
DTSTART:20240310T100000
END:DAYLIGHT
BEGIN:STANDARD
TZOFFSETFROM:-0700
TZOFFSETTO:-0800
TZNAME:PST
DTSTART:20241103T090000
END:STANDARD
BEGIN:DAYLIGHT
TZOFFSETFROM:-0800
TZOFFSETTO:-0700
TZNAME:PDT
DTSTART:20250309T100000
END:DAYLIGHT
BEGIN:STANDARD
TZOFFSETFROM:-0700
TZOFFSETTO:-0800
TZNAME:PST
DTSTART:20251102T090000
END:STANDARD
BEGIN:DAYLIGHT
TZOFFSETFROM:-0800
TZOFFSETTO:-0700
TZNAME:PDT
DTSTART:20260308T100000
END:DAYLIGHT
BEGIN:STANDARD
TZOFFSETFROM:-0700
TZOFFSETTO:-0800
TZNAME:PST
DTSTART:20261101T090000
END:STANDARD
BEGIN:DAYLIGHT
TZOFFSETFROM:-0800
TZOFFSETTO:-0700
TZNAME:PDT
DTSTART:20270314T100000
END:DAYLIGHT
BEGIN:STANDARD
TZOFFSETFROM:-0700
TZOFFSETTO:-0800
TZNAME:PST
DTSTART:20271107T090000
END:STANDARD
END:VTIMEZONE
BEGIN:VEVENT
DTSTART;TZID=America/Los_Angeles:20260404T110000
DTEND;TZID=America/Los_Angeles:20260404T130000
DTSTAMP:20260421T084258
CREATED:20260309T064449Z
LAST-MODIFIED:20260401T170012Z
UID:10001577-1775300400-1775307600@sactownsupermom.com
SUMMARY:Easter Blast 2026 at Swanston Community Center
DESCRIPTION:Hop over to the Swanston Community Center in Sacramento for the annual\, free Easter Blast on Saturday\, April 4\, 2026\, for egg hunts\, photos with the Easter bunny\, and more kid-friendly activities.
URL:https://sactownsupermom.com/event/easter-blast-at-swanston-community-center-2/
LOCATION:Swanston Community Center\, 2350 Northrop Ave\, Sacramento\, CA\, 95825
CATEGORIES:April 3-5,Easter Egg Hunts
END:VEVENT
BEGIN:VEVENT
DTSTART;TZID=America/Los_Angeles:20251220T170000
DTEND;TZID=America/Los_Angeles:20251220T190000
DTSTAMP:20260421T084258
CREATED:20251126T043910Z
LAST-MODIFIED:20251216T050115Z
UID:10001121-1766250000-1766257200@sactownsupermom.com
SUMMARY:Winterfest at Swanston Community Center (Cancelled)
DESCRIPTION:NOTE: This event has been cancelled for 2025. Winterfest will take place on Saturday\, December 20\, 2025 at the Swanston Community Center. This free event will include train rides\, carnival games\, snow machines\, a dance party\, hot cocoa\, and more festive fun.
URL:https://sactownsupermom.com/event/winterfest-at-at-swanston-community-center/
LOCATION:Swanston Community Center\, 2350 Northrop Ave\, Sacramento\, CA\, 95825
CATEGORIES:Free Holidays
END:VEVENT
BEGIN:VEVENT
DTSTART;TZID=America/Los_Angeles:20251030T180000
DTEND;TZID=America/Los_Angeles:20251030T200000
DTSTAMP:20260421T084258
CREATED:20251017T203943Z
LAST-MODIFIED:20251017T203943Z
UID:10000862-1761847200-1761854400@sactownsupermom.com
SUMMARY:17th Annual Spooktacular
DESCRIPTION:The free 17th Annual Spooktacular takes place on Thursday\, October 30\, 2025 at Swanston Community Center. There will be trick-or-treating\, a pumpkin patch\, carnival\, games\, costume contest\, and more.
URL:https://sactownsupermom.com/event/17th-annual-spooktacular/
LOCATION:Swanston Community Center\, 2350 Northrop Ave\, Sacramento\, CA\, 95825
CATEGORIES:Free Halloween
END:VEVENT
BEGIN:VEVENT
DTSTART;TZID=America/Los_Angeles:20250419T110000
DTEND;TZID=America/Los_Angeles:20250419T130000
DTSTAMP:20260421T084258
CREATED:20250321T055704Z
LAST-MODIFIED:20260309T064519Z
UID:10000148-1745060400-1745067600@sactownsupermom.com
SUMMARY:Easter Blast 2025 at Swanston Community Center
DESCRIPTION:Hop to the Swanston Community Center in Sacramento for the annual\, free Easter Blast on Saturday\, April 19\, 2025\, for egg hunts and magic shows. \nThe event will also include photos with the Easter Bunny\, games\, and activities for kids of all ages. \nEgg hunts will take place by age ranges during the following times: \n\n11:40-11:50am – ages Walking – 2-years old at Tennis Courts\n11:40-11:50am – ages 3-5 years old at Grass Area\n12:20-12:30pm – ages 6-8 years old\n12:45-1pm – ages 9-12 years old\n\nTwo different magic shows for different age ranges will also take place during the following times: \n\n11:40am-12pm – ages 6-12 magic show\n12:30-12:50pm – ages 0-5 magic show
URL:https://sactownsupermom.com/event/easter-blast-at-swanston-community-center/
LOCATION:Swanston Community Center\, 2350 Northrop Ave\, Sacramento\, CA\, 95825
END:VEVENT
END:VCALENDAR