BEGIN:VCALENDAR
VERSION:2.0
PRODID:-//Sactown Supermom - ECPv6.15.20//NONSGML v1.0//EN
CALSCALE:GREGORIAN
METHOD:PUBLISH
X-WR-CALNAME:Sactown Supermom
X-ORIGINAL-URL:https://sactownsupermom.com
X-WR-CALDESC:Events for Sactown Supermom
REFRESH-INTERVAL;VALUE=DURATION:PT1H
X-Robots-Tag:noindex
X-PUBLISHED-TTL:PT1H
BEGIN:VTIMEZONE
TZID:America/Los_Angeles
BEGIN:DAYLIGHT
TZOFFSETFROM:-0800
TZOFFSETTO:-0700
TZNAME:PDT
DTSTART:20240310T100000
END:DAYLIGHT
BEGIN:STANDARD
TZOFFSETFROM:-0700
TZOFFSETTO:-0800
TZNAME:PST
DTSTART:20241103T090000
END:STANDARD
BEGIN:DAYLIGHT
TZOFFSETFROM:-0800
TZOFFSETTO:-0700
TZNAME:PDT
DTSTART:20250309T100000
END:DAYLIGHT
BEGIN:STANDARD
TZOFFSETFROM:-0700
TZOFFSETTO:-0800
TZNAME:PST
DTSTART:20251102T090000
END:STANDARD
BEGIN:DAYLIGHT
TZOFFSETFROM:-0800
TZOFFSETTO:-0700
TZNAME:PDT
DTSTART:20260308T100000
END:DAYLIGHT
BEGIN:STANDARD
TZOFFSETFROM:-0700
TZOFFSETTO:-0800
TZNAME:PST
DTSTART:20261101T090000
END:STANDARD
END:VTIMEZONE
BEGIN:VEVENT
DTSTART;TZID=America/Los_Angeles:20250201T073000
DTEND;TZID=America/Los_Angeles:20250201T140000
DTSTAMP:20260421T025923
CREATED:20250112T172942Z
LAST-MODIFIED:20260107T044401Z
UID:10000019-1738395000-1738418400@sactownsupermom.com
SUMMARY:Lunar New Year Fortune Run
DESCRIPTION:The Lunar New Year Fortune Run is an annual event in Sacramento that honors the rich traditions of the Lunar New Year. This year’s race will take place on Saturday\, February 1\, 2025 at Sutter’s Landing Regional Park. \nThe race brings together a community that honors rich traditions of Lunar New Year. Mini lanterns will available at the finish line. \nThe Lunar New Year Fortune Run is on pace to sell out quickly. Race options include: \n\n1-Mile Family Fun Run\n5k\n10k\n13.1 half marathon\n\nRace packets do not need to be picked up in advance. Swag will be shipped to runners before the race. Race bibs are provided on the day of the race. Note that this race does not have timing chips. \nSwag includes: \n\nRace t-shirt\nFinisher’s towel or giveaway\nFinisher’s medal\n\nRaces begin in three wave start times: \n\nWave A: 7:30am\nWave B: 8am\nWave C: 8:30am\n\n 
URL:https://sactownsupermom.com/event/lunar-new-year-fortune-run/
LOCATION:Sutter’s Landing Regional Park\, 20 28th St\, Sacramento\, CA\, 95816
END:VEVENT
END:VCALENDAR