BEGIN:VCALENDAR
VERSION:2.0
PRODID:-//Sactown Supermom - ECPv6.15.20//NONSGML v1.0//EN
CALSCALE:GREGORIAN
METHOD:PUBLISH
X-WR-CALNAME:Sactown Supermom
X-ORIGINAL-URL:https://sactownsupermom.com
X-WR-CALDESC:Events for Sactown Supermom
REFRESH-INTERVAL;VALUE=DURATION:PT1H
X-Robots-Tag:noindex
X-PUBLISHED-TTL:PT1H
BEGIN:VTIMEZONE
TZID:America/Los_Angeles
BEGIN:DAYLIGHT
TZOFFSETFROM:-0800
TZOFFSETTO:-0700
TZNAME:PDT
DTSTART:20240310T100000
END:DAYLIGHT
BEGIN:STANDARD
TZOFFSETFROM:-0700
TZOFFSETTO:-0800
TZNAME:PST
DTSTART:20241103T090000
END:STANDARD
BEGIN:DAYLIGHT
TZOFFSETFROM:-0800
TZOFFSETTO:-0700
TZNAME:PDT
DTSTART:20250309T100000
END:DAYLIGHT
BEGIN:STANDARD
TZOFFSETFROM:-0700
TZOFFSETTO:-0800
TZNAME:PST
DTSTART:20251102T090000
END:STANDARD
BEGIN:DAYLIGHT
TZOFFSETFROM:-0800
TZOFFSETTO:-0700
TZNAME:PDT
DTSTART:20260308T100000
END:DAYLIGHT
BEGIN:STANDARD
TZOFFSETFROM:-0700
TZOFFSETTO:-0800
TZNAME:PST
DTSTART:20261101T090000
END:STANDARD
BEGIN:DAYLIGHT
TZOFFSETFROM:-0800
TZOFFSETTO:-0700
TZNAME:PDT
DTSTART:20270314T100000
END:DAYLIGHT
BEGIN:STANDARD
TZOFFSETFROM:-0700
TZOFFSETTO:-0800
TZNAME:PST
DTSTART:20271107T090000
END:STANDARD
END:VTIMEZONE
BEGIN:VEVENT
DTSTART;TZID=America/Los_Angeles:20260418T100000
DTEND;TZID=America/Los_Angeles:20260418T160000
DTSTAMP:20260421T024051
CREATED:20260415T041923Z
LAST-MODIFIED:20260415T041923Z
UID:10001785-1776506400-1776528000@sactownsupermom.com
SUMMARY:Celebrate Earth Week at Sutter's Fort
DESCRIPTION:Celebrate Earth Week kicks off on Saturday\, April 18\, 2026 at Sutter’s Fort in Sacramento. This is free family-friendly event on the park grounds will include interactive crafts  and park cleanup opportunities. While this event is free\, it is a $5 admission to enter the museum\, which also grants access to the State Indian Museum.
URL:https://sactownsupermom.com/event/celebrate-earth-week-at-sutters-fort/
LOCATION:Sutter’s Fort\, 2701 L St\, Sacramento\, CA\, 95816\, United States
CATEGORIES:April 17-19
END:VEVENT
BEGIN:VEVENT
DTSTART;TZID=America/Los_Angeles:20260221T100000
DTEND;TZID=America/Los_Angeles:20260221T160000
DTSTAMP:20260421T024051
CREATED:20260219T043138Z
LAST-MODIFIED:20260219T043156Z
UID:10001486-1771668000-1771689600@sactownsupermom.com
SUMMARY:Demonstration Days at Sutter's Fort
DESCRIPTION:Kids can participate in hands-on historical activities at Sutter’s Fort monthly Demonstration Days on Saturday\, February 21\, 2026\, from 10am to 4pm. This event is for kids of all ages. $5 admission includes complimentary admission to the State Indian Museum. \nThe specific experiences scheduled for Demonstration Days may differ. Some example activities may include crafts\, blacksmith demonstrations\, baking bread in an outdoor oven\, hands-on engagements\, interactive educational experiences\, and different skills.
URL:https://sactownsupermom.com/event/demonstration-days-at-sutters-fort-2/
LOCATION:Sutter’s Fort\, 2701 L St\, Sacramento\, CA\, 95816\, United States
CATEGORIES:Feb 20-22,Sutter's Fort
END:VEVENT
BEGIN:VEVENT
DTSTART;TZID=America/Los_Angeles:20260117T100000
DTEND;TZID=America/Los_Angeles:20260117T160000
DTSTAMP:20260421T024051
CREATED:20251229T054918Z
LAST-MODIFIED:20260115T045947Z
UID:10001292-1768644000-1768665600@sactownsupermom.com
SUMMARY:Demonstration Days at Sutter's Fort
DESCRIPTION:Kids can participate in hands-on historical activities at Sutter’s Fort monthly Demonstration Days on Saturday\, January 17\, 2026\, from 10am to 4pm. This event is for kids of all ages. $5 admission includes complimentary admission to the State Indian Museum. \nThe specific experiences scheduled for Demonstration Days may differ. Some example activities may include crafts\, blacksmith demonstrations\, baking bread in an outdoor oven\, hands-on engagements\, interactive educational experiences\, and different skills.
URL:https://sactownsupermom.com/event/demonstration-days-at-sutters-fort/
LOCATION:Sutter’s Fort\, 2701 L St\, Sacramento\, CA\, 95816\, United States
CATEGORIES:Jan 16-19,January,Sutter's Fort
END:VEVENT
BEGIN:VEVENT
DTSTART;TZID=America/Los_Angeles:20250419T100000
DTEND;TZID=America/Los_Angeles:20250419T160000
DTSTAMP:20260421T024051
CREATED:20250415T205949Z
LAST-MODIFIED:20250415T205949Z
UID:10000191-1745056800-1745078400@sactownsupermom.com
SUMMARY:Celebrate Earth Day at Sutter's Fort
DESCRIPTION:Sutter’s Fort State Historic Park and the State Indian Museum will have an Earth Day Celebration on Saturday\, April 19\, 2025\, from 10am to 4pm. The day will include family-friendly DIY environmental activities. \nLearn about the environmental impacts of Sutter’s Fort in the 1840s while participating in the following Earth Day activities: \n\nGuided tours of native plants in the park\nDIY bird feeders (that include using California native plant seeds)\nCreate new bird boxes for the park\nCorn husk flower making with natural ingredients and natural dyes\n\nNormal hands-on demonstration stations at Sutter’s Fort will also take place at the event. \nAdmission is $5 for adults and $3 for youth. Children ages 5 and under receive free admission.
URL:https://sactownsupermom.com/event/celebrate-earth-day-at-sutters-fort/
LOCATION:Sutter’s Fort\, 2701 L St\, Sacramento\, CA\, 95816\, United States
CATEGORIES:Earth Day,Sutter's Fort
END:VEVENT
BEGIN:VEVENT
DTSTART;TZID=America/Los_Angeles:20250317T100000
DTEND;TZID=America/Los_Angeles:20250317T160000
DTSTAMP:20260421T024051
CREATED:20250425T035150Z
LAST-MODIFIED:20250425T035150Z
UID:10000220-1742205600-1742227200@sactownsupermom.com
SUMMARY:Demonstration Day at Sutter's Fort
DESCRIPTION:Kids can participate in hands-on historical activities at Sutter’s Fort monthly Demonstration Day on Saturday\, May 17\, 2025\, from 10am to 4pm. \nRegular Sutter’s Fort admission rates apply for the event. This event is for kids of all ages. \nThe specific experiences scheduled for Activity Days may differ. Some example activities may include crafts\, hands-on engagements\, interactive educational experiences\, and different skills.
URL:https://sactownsupermom.com/event/demonstration-day-at-sutters-fort/
LOCATION:Sutter’s Fort\, 2701 L St\, Sacramento\, CA\, 95816\, United States
CATEGORIES:Sutter's Fort
END:VEVENT
BEGIN:VEVENT
DTSTART;TZID=America/Los_Angeles:20250215T100000
DTEND;TZID=America/Los_Angeles:20250215T160000
DTSTAMP:20260421T024051
CREATED:20250203T050343Z
LAST-MODIFIED:20250203T050401Z
UID:10000075-1739613600-1739635200@sactownsupermom.com
SUMMARY:Activity Day at Sutter's Fort
DESCRIPTION:Kids can participate in hands-on historical activities at Sutter’s Fort monthly Activity Day on Saturday\, February 15\, 2025\, from 10am to 4pm. \nRegular Sutter’s Fort admission rates apply for the event. This event is for kids of all ages. \nThe specific experiences scheduled for Activity Days may differ. Some example activities may include crafts\, hands-on engagements\, interactive educational experiences\, and different skills.
URL:https://sactownsupermom.com/event/activity-day-at-sutters-fort/
LOCATION:Sutter’s Fort\, 2701 L St\, Sacramento\, CA\, 95816\, United States
CATEGORIES:Sutter's Fort
END:VEVENT
BEGIN:VEVENT
DTSTART;TZID=America/Los_Angeles:20250101T113000
DTEND;TZID=America/Los_Angeles:20250101T113000
DTSTAMP:20260421T024051
CREATED:20241219T211838Z
LAST-MODIFIED:20241219T211838Z
UID:10000005-1735731000-1735731000@sactownsupermom.com
SUMMARY:First Day Hikes at Sutter's Fort
DESCRIPTION:Kick off the new year with the first-ever New Year’s Day Nature Walk at Sutter’s Fort State Historic Park and explore the important role urban parks play in supporting ecosystems and communities. Hikes take place at 11:30am and 1pm. \n \nThis accessible\, family-friendly tour takes you through the park’s rich landscape of native plants and stately oak trees. The guided walk follows smooth pathways winding between historic buildings and tranquil natural spaces\, with minimal elevation changes. A few areas venture onto open lawns\, offering up-close views of fascinating features. \nNote that the State Indian Museum and Sutter’s Fort will be closed for the holiday\, but the park grounds will be open for the hike. No registration is required for the event.  \nMeet Pointing: The bridge between the ponds in the center of the park (between the State Indian Museum and Sutter’s Fort). \nThe guided hikes are suitable for all skill levels\, with little-to-no elevation changes. Bring water and wear comfortable attire. \n  \n 
URL:https://sactownsupermom.com/event/first-day-hikes-at-sutters-fort/
LOCATION:Sutter’s Fort\, 2701 L St\, Sacramento\, CA\, 95816\, United States
CATEGORIES:Free,Hiking,Sutter's Fort
END:VEVENT
END:VCALENDAR