BEGIN:VCALENDAR
VERSION:2.0
PRODID:-//Sactown Supermom - ECPv6.15.20//NONSGML v1.0//EN
CALSCALE:GREGORIAN
METHOD:PUBLISH
X-WR-CALNAME:Sactown Supermom
X-ORIGINAL-URL:https://sactownsupermom.com
X-WR-CALDESC:Events for Sactown Supermom
REFRESH-INTERVAL;VALUE=DURATION:PT1H
X-Robots-Tag:noindex
X-PUBLISHED-TTL:PT1H
BEGIN:VTIMEZONE
TZID:America/Los_Angeles
BEGIN:DAYLIGHT
TZOFFSETFROM:-0800
TZOFFSETTO:-0700
TZNAME:PDT
DTSTART:20240310T100000
END:DAYLIGHT
BEGIN:STANDARD
TZOFFSETFROM:-0700
TZOFFSETTO:-0800
TZNAME:PST
DTSTART:20241103T090000
END:STANDARD
BEGIN:DAYLIGHT
TZOFFSETFROM:-0800
TZOFFSETTO:-0700
TZNAME:PDT
DTSTART:20250309T100000
END:DAYLIGHT
BEGIN:STANDARD
TZOFFSETFROM:-0700
TZOFFSETTO:-0800
TZNAME:PST
DTSTART:20251102T090000
END:STANDARD
BEGIN:DAYLIGHT
TZOFFSETFROM:-0800
TZOFFSETTO:-0700
TZNAME:PDT
DTSTART:20260308T100000
END:DAYLIGHT
BEGIN:STANDARD
TZOFFSETFROM:-0700
TZOFFSETTO:-0800
TZNAME:PST
DTSTART:20261101T090000
END:STANDARD
BEGIN:DAYLIGHT
TZOFFSETFROM:-0800
TZOFFSETTO:-0700
TZNAME:PDT
DTSTART:20270314T100000
END:DAYLIGHT
BEGIN:STANDARD
TZOFFSETFROM:-0700
TZOFFSETTO:-0800
TZNAME:PST
DTSTART:20271107T090000
END:STANDARD
END:VTIMEZONE
BEGIN:VEVENT
DTSTART;TZID=America/Los_Angeles:20260228T090000
DTEND;TZID=America/Los_Angeles:20260228T103000
DTSTAMP:20260421T040341
CREATED:20260131T203007Z
LAST-MODIFIED:20260226T003507Z
UID:10001417-1772269200-1772274600@sactownsupermom.com
SUMMARY:Li'l Sprouts in the Garden: Plant Part Palooza (Sold Out)
DESCRIPTION:Li’l Sprouts in the Garden is a multi-sensory experience for toddlers ages 3-5 at Soil Born Farms in Rancho Cordova. There are multiple sessions\, each with different theme. This session will take place on Saturday\, February 28\, 2026 with the theme of Plant Part Palooza. \nKids will get to go to the Soil Barn Farms greenhouse to practice early math skills and learn about the six plant parts by singing a song. Mini-greenhouses will be built\, as well as creating their own plant with using veggies grown at Soil Born Farms. \nChildren will play games\, sing songs\, hear stories\, and use their senses to explore. They will also acquire new words while gaining social skills. \nLi’l Sprouts in the Garden requires an adult chaperone with each child who attends. The adult chaperone is free with a paid toddler.
URL:https://sactownsupermom.com/event/plant-part-palooza/
LOCATION:Soil Born Farms\, 2140 Chase Dr.\, Rancho Cordova\, CA\, 95670
CATEGORIES:Farms,Rancho Cordova
END:VEVENT
BEGIN:VEVENT
DTSTART;TZID=America/Los_Angeles:20260214T090000
DTEND;TZID=America/Los_Angeles:20260214T103000
DTSTAMP:20260421T040341
CREATED:20260131T202612Z
LAST-MODIFIED:20260211T052616Z
UID:10001416-1771059600-1771065000@sactownsupermom.com
SUMMARY:Li'l Sprouts in the Garden: Wonderful Water
DESCRIPTION:Li’l Sprouts in the Garden is a multi-sensory experience for toddlers ages 3-5 at Soil Born Farms in Rancho Cordova. There are multiple sessions\, each with different theme. This session will take place on Saturday\, February 14\, 2026 with the theme of Wonderful Water. \nKids will learn about water and get to built a felt water cycle and snow storms in a jar. A Water Movers game will be played and rain levels will be gauged and measured. ‘We Come From the Water’ will also be sung. \nChildren will play games\, sing songs\, hear stories\, and use their senses to explore. They will also acquire new words while gaining social skills. \nLi’l Sprouts in the Garden requires an adult chaperone with each child who attends. The adult chaperone is free with a paid toddler.
URL:https://sactownsupermom.com/event/wonderful-water/
LOCATION:Soil Born Farms\, 2140 Chase Dr.\, Rancho Cordova\, CA\, 95670
CATEGORIES:Farms,Feb 13-15,Rancho Cordova
END:VEVENT
BEGIN:VEVENT
DTSTART;TZID=America/Los_Angeles:20260207T090000
DTEND;TZID=America/Los_Angeles:20260207T120000
DTSTAMP:20260421T040341
CREATED:20260203T065856Z
LAST-MODIFIED:20260205T074018Z
UID:10001449-1770454800-1770465600@sactownsupermom.com
SUMMARY:Just For Kids: Cordova Creek Sneak and Splash (Sold Out)
DESCRIPTION:Kids can will hike to Cordova Creek as part of the Just For Kids program as Soil Born Farms on Saturday\, February 7\, 2026. Kids will get to explore along the creek\, sing songs\, and play games on this adventure. This program is for kids ages 6-11. Bring waterproof shoes. \n 
URL:https://sactownsupermom.com/event/just-for-kids-cordova-creek-sneak-and-splash/
LOCATION:Soil Born Farms\, 2140 Chase Dr.\, Rancho Cordova\, CA\, 95670
CATEGORIES:Rancho Cordova
END:VEVENT
BEGIN:VEVENT
DTSTART;TZID=America/Los_Angeles:20251213T090000
DTEND;TZID=America/Los_Angeles:20251213T100000
DTSTAMP:20260421T040341
CREATED:20251116T161627Z
LAST-MODIFIED:20251116T161627Z
UID:10001055-1765616400-1765620000@sactownsupermom.com
SUMMARY:Li'l Sprouts in the Garden: Twigs\, Tea\, and Everything in Between
DESCRIPTION:Li’l Sprouts in the Garden is a multi-sensory experience for toddlers ages 3-5 at Soil Born Farms in Rancho Cordova. There are multiple sessions\, each with different theme. This session will take place on Saturday\, December 13\, 2025 with the theme of Twigs\, Tea\, and Everything in Between. \nKids will get to build chimes out of sticks\, and produce paint brushes from natural materials found around the farm. They’ll also get to harvest herbs for a tea time. \nChildren will play games\, sing songs\, hear stories\, and use their senses to explore. They will also acquire new words while gaining social skills. \nLi’l Sprouts in the Garden requires an adult chaperone with each child who attends. The adult chaperone is free with a paid toddler.
URL:https://sactownsupermom.com/event/lil-sprouts-in-the-garden-twigs/
LOCATION:Soil Born Farms\, 2140 Chase Dr.\, Rancho Cordova\, CA\, 95670
CATEGORIES:Farms,Rancho Cordova
END:VEVENT
BEGIN:VEVENT
DTSTART;TZID=America/Los_Angeles:20251206T090000
DTEND;TZID=America/Los_Angeles:20251206T120000
DTSTAMP:20260421T040341
CREATED:20251204T062458Z
LAST-MODIFIED:20251204T062458Z
UID:10001149-1765011600-1765022400@sactownsupermom.com
SUMMARY:Just For Kids: Wreath Making
DESCRIPTION:Kids can participate in wreath making at Soil Born Farms on Saturday\, December 6\, 2025. Kids will get to search around the farm that they can use in natural wreaths they’ll create. This program is for kids ages 6-11.
URL:https://sactownsupermom.com/event/just-for-kids-wreath-making/
LOCATION:Soil Born Farms\, 2140 Chase Dr.\, Rancho Cordova\, CA\, 95670
CATEGORIES:Dec 5-7,Rancho Cordova
END:VEVENT
BEGIN:VEVENT
DTSTART;TZID=America/Los_Angeles:20251122T090000
DTEND;TZID=America/Los_Angeles:20251122T100000
DTSTAMP:20260421T040341
CREATED:20251104T023123Z
LAST-MODIFIED:20251118T155921Z
UID:10000943-1763802000-1763805600@sactownsupermom.com
SUMMARY:Li'l Sprouts in the Garden: Farm Animal Friends Art Day
DESCRIPTION:Li’l Sprouts in the Garden is a multi-sensory experience for toddlers ages 3-5 at Soil Born Farms in Rancho Cordova. There are multiple sessions\, each with different theme. This session will take place on Saturday\, November 22\, 2025 with the theme of Farm Animal Friends Art Day. \nKids will get to learn about farm animals by making foxes out of leaves\, and sheep out of cotton. They’ll also get to meet the chickens on the farm and make chicken art. \nChildren will play games\, sing songs\, hear stories\, and use their senses to explore. They will also acquire new words while gaining social skills. \nLi’l Sprouts in the Garden requires an adult chaperone with each child who attends. The adult chaperone is free with a paid toddler.
URL:https://sactownsupermom.com/event/lil-sprouts-in-the-garden-farm-animal-friends-art-day/
LOCATION:Soil Born Farms\, 2140 Chase Dr.\, Rancho Cordova\, CA\, 95670
CATEGORIES:Farms,Nov 21-23,Rancho Cordova
END:VEVENT
BEGIN:VEVENT
DTSTART;TZID=America/Los_Angeles:20251108T090000
DTEND;TZID=America/Los_Angeles:20251108T100000
DTSTAMP:20260421T040341
CREATED:20251104T015529Z
LAST-MODIFIED:20251104T015529Z
UID:10000942-1762592400-1762596000@sactownsupermom.com
SUMMARY:Li'l Sprouts in the Garden: Lovely Fall Leaf Fun
DESCRIPTION:Li’l Sprouts in the Garden is a multi-sensory experience for toddlers ages 3-5 at Soil Born Farms in Rancho Cordova. There are multiple sessions\, each with different theme. This session will take place on Saturday\, November 8\, 2025 with the theme of Lovely Fall Leaf Fun. \nKids will get to make art with leaves found in nature\, make a painted leaf collage\, craft a hedgehod\, and create a butterfly. \nChildren will play games\, sing songs\, hear stories\, and use their senses to explore. They will also acquire new words while gaining social skills. \nLi’l Sprouts in the Garden requires an adult chaperone with each child who attends. The adult chaperone is free with a paid toddler.
URL:https://sactownsupermom.com/event/lil-sprouts-in-the-garden-lovely-fall-leaf-fun/
LOCATION:Soil Born Farms\, 2140 Chase Dr.\, Rancho Cordova\, CA\, 95670
CATEGORIES:Nov 7-9,Rancho Cordova
END:VEVENT
BEGIN:VEVENT
DTSTART;TZID=America/Los_Angeles:20251025T090000
DTEND;TZID=America/Los_Angeles:20251025T130000
DTSTAMP:20260421T040341
CREATED:20251017T202009Z
LAST-MODIFIED:20251025T165356Z
UID:10000861-1761382800-1761397200@sactownsupermom.com
SUMMARY:Halloween at the Farm (Cancelled)
DESCRIPTION:Note: This event has been cancelled due to weather. Celebrate Halloween at the Farm on Saturday\, October 25\, 2025 at Soil Born Farms in Rancho Cordova. The Spooktacular Youth Garden will have nature crafts for kids\, pumpkin decorating\, and make-your-own flower crowns. There will also be a meet and greet with creepy crawlers. Adults receive free admission when accompanying their child.
URL:https://sactownsupermom.com/event/halloween-at-the-farm/
LOCATION:Soil Born Farms\, 2140 Chase Dr.\, Rancho Cordova\, CA\, 95670
CATEGORIES:Halloween,Oct 24-26
END:VEVENT
BEGIN:VEVENT
DTSTART;TZID=America/Los_Angeles:20250927T090000
DTEND;TZID=America/Los_Angeles:20250927T100000
DTSTAMP:20260421T040341
CREATED:20250830T220213Z
LAST-MODIFIED:20250830T220213Z
UID:10000594-1758963600-1758967200@sactownsupermom.com
SUMMARY:Li'l Sprouts in the Garden: Tree-mendous Tree Trek
DESCRIPTION:Li’l Sprouts in the Garden is a multi-sensory experience for toddlers ages 3-5 at Soil Born Farms in Rancho Cordova. There are multiple sessions\, each with different theme. This session will take place on Saturday\, September 27\, 2025 with the theme of Tree-mendous Tree Trek. \nKids will walk through the trees on the farm\, and create art with nature collected from the the trees. Crushed Oak galls will be painted and creatures will be made with acorns. Story time will be The Giving Tree\, and the song will be the Live Oak Song. \nChildren will play games\, sing songs\, hear stories\, and use their senses to explore. They will also acquire new words while gaining social skills. \nLi’l Sprouts in the Garden requires an adult chaperone with each child who attends. The adult chaperone is free with a paid toddler.
URL:https://sactownsupermom.com/event/lil-sprouts-in-the-garden-tree-mendous-tree-trek/
LOCATION:Soil Born Farms\, 2140 Chase Dr.\, Rancho Cordova\, CA\, 95670
CATEGORIES:Farms,Rancho Cordova
END:VEVENT
BEGIN:VEVENT
DTSTART;TZID=America/Los_Angeles:20250913T090000
DTEND;TZID=America/Los_Angeles:20250913T100000
DTSTAMP:20260421T040341
CREATED:20250830T215502Z
LAST-MODIFIED:20250830T215502Z
UID:10000593-1757754000-1757757600@sactownsupermom.com
SUMMARY:Li'l Sprouts in the Garden: Flying Feathered Friends
DESCRIPTION:Li’l Sprouts in the Garden is a multi-sensory experience for toddlers ages 3-5 at Soil Born Farms in Rancho Cordova. There are multiple sessions\, each with different theme. This session will take place on Saturday\, September 13\, 2025 with the theme of Flying Feathered Friends. \nKids will get to identify birds\, build their own binoculars\, and create paper feathers. A meet and greet with the chickens on the farm will also take place. \nChildren will play games\, sing songs\, hear stories\, and use their senses to explore. They will also acquire new words while gaining social skills. \nLi’l Sprouts in the Garden requires an adult chaperone with each child who attends. The adult chaperone is free with a paid toddler.
URL:https://sactownsupermom.com/event/lil-sprouts-in-the-garden-flying-feathered-friends/
LOCATION:Soil Born Farms\, 2140 Chase Dr.\, Rancho Cordova\, CA\, 95670
CATEGORIES:Farms,Rancho Cordova
END:VEVENT
BEGIN:VEVENT
DTSTART;TZID=America/Los_Angeles:20250823T090000
DTEND;TZID=America/Los_Angeles:20250823T100000
DTSTAMP:20260421T040341
CREATED:20250722T043632Z
LAST-MODIFIED:20250722T043632Z
UID:10000468-1755939600-1755943200@sactownsupermom.com
SUMMARY:Li'l Sprouts in the Garden: Spectacular Seeds
DESCRIPTION:Li’l Sprouts in the Garden is a multi-sensory experience for toddlers ages 3-5 at Soil Born Farms in Rancho Cordova. There are multiple sessions\, each with different theme. This session will take place on Saturday\, August 23\, 2025 with the theme of Insects Alive. \nKids will get to harvest seeds\, make a bird feeder with pine cones\, learn how to plant acorn seeds\, create a seed booklet\, and sing\, “The Farmer Plants the Seed.” \nChildren will play games\, sing songs\, hear stories\, and use their senses to explore. They will also acquire new words while gaining social skills. \nLi’l Sprouts in the Garden requires an adult chaperone with each child who attends. The adult chaperone is free with a paid toddler.
URL:https://sactownsupermom.com/event/lil-sprouts-in-the-garden-spectacular-seeds/
LOCATION:Soil Born Farms\, 2140 Chase Dr.\, Rancho Cordova\, CA\, 95670
CATEGORIES:Farms,Rancho Cordova
END:VEVENT
BEGIN:VEVENT
DTSTART;TZID=America/Los_Angeles:20250816T083000
DTEND;TZID=America/Los_Angeles:20250816T100000
DTSTAMP:20260421T040341
CREATED:20250814T023300Z
LAST-MODIFIED:20250814T023300Z
UID:10000524-1755333000-1755338400@sactownsupermom.com
SUMMARY:Eco Warriors: Cookin' Quesadillas with Solar Ovens
DESCRIPTION:Kids ages 12-15 can cook quesadillas with summer veggies in solar ovens that they build using their engineering skills. Eco Warriors: Cookin’ Quesadillas with Solar Ovens takes place on Saturday\, August 16\, 2025 at Soil Born Farms in Rancho Cordova. \n  \n 
URL:https://sactownsupermom.com/event/eco-warriors-cookin-quesadillas-with-solar-ovens/
LOCATION:Soil Born Farms\, 2140 Chase Dr.\, Rancho Cordova\, CA\, 95670
CATEGORIES:August,Rancho Cordova
END:VEVENT
BEGIN:VEVENT
DTSTART;TZID=America/Los_Angeles:20250809T090000
DTEND;TZID=America/Los_Angeles:20250809T100000
DTSTAMP:20260421T040341
CREATED:20250722T043419Z
LAST-MODIFIED:20250722T043659Z
UID:10000467-1754730000-1754733600@sactownsupermom.com
SUMMARY:Li'l Sprouts in the Garden: Insects Alive
DESCRIPTION:Li’l Sprouts in the Garden is a multi-sensory experience for toddlers ages 3-5 at Soil Born Farms in Rancho Cordova. There are multiple sessions\, each with different theme. This session will take place on Saturday\, August 9\, 2025 with the theme of Insects Alive. \nKids will get to explore various insects\, view insects with magnifying glasses\, and create an insect collage with crepe paper. Storytime will be The Very Hungry Caterpillar and the song will be the “Bug Parts” song. \nChildren will play games\, sing songs\, hear stories\, and use their senses to explore. They will also acquire new words while gaining social skills. \nLi’l Sprouts in the Garden requires an adult chaperone with each child who attends. The adult chaperone is free with a paid toddler.
URL:https://sactownsupermom.com/event/lil-sprouts-in-the-garden-insects-alive/
LOCATION:Soil Born Farms\, 2140 Chase Dr.\, Rancho Cordova\, CA\, 95670
CATEGORIES:Farms,Rancho Cordova
END:VEVENT
BEGIN:VEVENT
DTSTART;TZID=America/Los_Angeles:20250726T090000
DTEND;TZID=America/Los_Angeles:20250726T100000
DTSTAMP:20260421T040341
CREATED:20250624T053411Z
LAST-MODIFIED:20250624T053411Z
UID:10000387-1753520400-1753524000@sactownsupermom.com
SUMMARY:Li'l Sprouts in the Garden: Printmaking
DESCRIPTION:Li’l Sprouts in the Garden is a multi-sensory experience for toddlers ages 3-5 at Soil Born Farms in Rancho Cordova. There are multiple sessions\, each with different theme. This session will take place on Saturday\, July 12\, 2025 with the theme of Printmaking. \nNatural objects will be harvested from around Soil Born Farms to build small journals. Kids will also get to hone their handwriting skills and design and hand-print postcards. \nChildren will play games\, sing songs\, hear stories\, and use their senses to explore. They will also acquire new words while gaining social skills. \nLi’l Sprouts in the Garden requires an adult chaperone with each child who attends. The adult chaperone is free with a paid toddler.
URL:https://sactownsupermom.com/event/lil-sprouts-in-the-garden-printmaking-2/
LOCATION:Soil Born Farms\, 2140 Chase Dr.\, Rancho Cordova\, CA\, 95670
CATEGORIES:Farms,Rancho Cordova
END:VEVENT
BEGIN:VEVENT
DTSTART;TZID=America/Los_Angeles:20250712T090000
DTEND;TZID=America/Los_Angeles:20250712T100000
DTSTAMP:20260421T040341
CREATED:20250624T052852Z
LAST-MODIFIED:20250624T053220Z
UID:10000385-1752310800-1752314400@sactownsupermom.com
SUMMARY:Li'l Sprouts in the Garden: Flower Pressing
DESCRIPTION:Li’l Sprouts in the Garden is a multi-sensory experience for toddlers ages 3-5 at Soil Born Farms in Rancho Cordova. There are multiple sessions\, each with different theme. This session will take place on Saturday\, July 12\, 2025 with the theme of Flower Pressing. \nFlowers will be harvested from the Soil Born Garden and create mini-cardboard flower presses to take home. \nChildren will play games\, sing songs\, hear stories\, and use their senses to explore. They will also acquire new words while gaining social skills. \nLi’l Sprouts in the Garden requires an adult chaperone with each child who attends. The adult chaperone is free with a paid toddler.
URL:https://sactownsupermom.com/event/lil-sprouts-in-the-garden-flower-pressing/
LOCATION:Soil Born Farms\, 2140 Chase Dr.\, Rancho Cordova\, CA\, 95670
CATEGORIES:Farms,Rancho Cordova
END:VEVENT
BEGIN:VEVENT
DTSTART;TZID=America/Los_Angeles:20250628T090000
DTEND;TZID=America/Los_Angeles:20250628T100000
DTSTAMP:20260421T040341
CREATED:20250525T040417Z
LAST-MODIFIED:20250525T040417Z
UID:10000295-1751101200-1751104800@sactownsupermom.com
SUMMARY:Li'l Sprouts in the Garden: Building a Bouquet
DESCRIPTION:Li’l Sprouts in the Garden is a multi-sensory experience for toddlers ages 3-5 at Soil Born Farms in Rancho Cordova. There are multiple sessions\, each with different theme. This session will take place on Saturday\, June 28\, 2025 with the theme of Building a Bouquet. \nKids will get to practice colors\, shapes\, scents\, and numbers as flowers are harvested and built for tiny bouquets with natural materials. \nChildren will play games\, sing songs\, hear stories\, and use their senses to explore. They will also acquire new words while gaining social skills. \nLi’l Sprouts in the Garden requires an adult chaperone with each child who attends. The adult chaperone is free with a paid toddler.
URL:https://sactownsupermom.com/event/lil-sprouts-in-the-garden-building-a-bouquet/
LOCATION:Soil Born Farms\, 2140 Chase Dr.\, Rancho Cordova\, CA\, 95670
CATEGORIES:Farms,Rancho Cordova
END:VEVENT
BEGIN:VEVENT
DTSTART;TZID=America/Los_Angeles:20250614T090000
DTEND;TZID=America/Los_Angeles:20250614T100000
DTSTAMP:20260421T040341
CREATED:20250525T040133Z
LAST-MODIFIED:20250525T040454Z
UID:10000294-1749891600-1749895200@sactownsupermom.com
SUMMARY:Li'l Sprouts in the Garden: Bees\, Honey\, and Flowers
DESCRIPTION:Li’l Sprouts in the Garden is a multi-sensory experience for toddlers ages 3-5 at Soil Born Farms in Rancho Cordova. There are multiple sessions\, each with different theme. This session will take place on Saturday\, June 14\, 2025 with the theme of Bees\, Honey\, and Flowers. \nKids will get to do the following activities during Bees\, Honey\, and Flowers: \n\nObserve live bees in a hive\nBuild a pollinator\nSing the Busy Bee song\nTaste Soil Born’s honey\n\nChildren will play games\, sing songs\, hear stories\, and use their senses to explore. They will also acquire new words while gaining social skills. \nLi’l Sprouts in the Garden requires an adult chaperone with each child who attends. The adult chaperone is free with a paid toddler.
URL:https://sactownsupermom.com/event/lil-sprouts-in-the-garden-2/
LOCATION:Soil Born Farms\, 2140 Chase Dr.\, Rancho Cordova\, CA\, 95670
CATEGORIES:Farms,Rancho Cordova
END:VEVENT
BEGIN:VEVENT
DTSTART;TZID=America/Los_Angeles:20250607T090000
DTEND;TZID=America/Los_Angeles:20250607T120000
DTSTAMP:20260421T040341
CREATED:20250526T224714Z
LAST-MODIFIED:20250526T224714Z
UID:10000309-1749286800-1749297600@sactownsupermom.com
SUMMARY:Just for Kids: Flower Power
DESCRIPTION:Soil Born Farms has a Just for Kids nature farm adventure on the 1st Saturday of the month. Kids ages 6-11 can participate in the monthly program. The theme of Flower Power will take place on Saturday\, June 7\, 2025. \nActivities that will occur during the Flower Power themed class include: \n\nCreate your own flower presses and bouquets\nLook for creatures enjoying flowers\nLearn about bees visiting flowers\nSeed 6-pack of flowers to create your own garden at home if time allows\n\nThis three-hour class has a different theme each month. Parents do not have to attend with their children. Children will get to explore\, taste\, garden\, create\, and investigate during this program. Pre-registration is required.
URL:https://sactownsupermom.com/event/just-for-kids-flower-power/
LOCATION:Soil Born Farms\, 2140 Chase Dr.\, Rancho Cordova\, CA\, 95670
CATEGORIES:Farms,Rancho Cordova
END:VEVENT
BEGIN:VEVENT
DTSTART;TZID=America/Los_Angeles:20250524T090000
DTEND;TZID=America/Los_Angeles:20250524T103000
DTSTAMP:20260421T040341
CREATED:20250516T233330Z
LAST-MODIFIED:20250516T233330Z
UID:10000253-1748077200-1748082600@sactownsupermom.com
SUMMARY:Li'l Sprouts in the Garden
DESCRIPTION:Li’l Sprouts in the Garden is a multi-sensory experience for toddlers ages 3-5 at Soil Born Farms in Rancho Cordova. There are multiple sessions\, each with different theme. This session will take place on Saturday\, May 24\, 2025 with the theme of Finding Colors in Nature. \nFinding Colors in Nature will take place from 9-10:30am. Kids will explore the Soil Born Farms garden while searching for colors in nature to find plants\, flowers\, and leaves from trees on the farm. Other activities will include: \n\nMaking natural prints with flora\nCreating leaf rubbings\nTasting a rainbow of fruits and veggies harvested from the farm\n\nChildren will play games\, sing songs\, hear stories\, and use their senses to explore. They will also acquire new words while gaining social skills. \nLi’l Sprouts in the Garden requires an adult chaperone with each child who attends. The adult chaperone is free with a paid toddler.
URL:https://sactownsupermom.com/event/lil-sprouts-in-the-garden/
LOCATION:Soil Born Farms\, 2140 Chase Dr.\, Rancho Cordova\, CA\, 95670
CATEGORIES:Farms,Rancho Cordova
END:VEVENT
END:VCALENDAR