BEGIN:VCALENDAR
VERSION:2.0
PRODID:-//Sactown Supermom - ECPv6.15.20//NONSGML v1.0//EN
CALSCALE:GREGORIAN
METHOD:PUBLISH
X-WR-CALNAME:Sactown Supermom
X-ORIGINAL-URL:https://sactownsupermom.com
X-WR-CALDESC:Events for Sactown Supermom
REFRESH-INTERVAL;VALUE=DURATION:PT1H
X-Robots-Tag:noindex
X-PUBLISHED-TTL:PT1H
BEGIN:VTIMEZONE
TZID:America/Los_Angeles
BEGIN:DAYLIGHT
TZOFFSETFROM:-0800
TZOFFSETTO:-0700
TZNAME:PDT
DTSTART:20250309T100000
END:DAYLIGHT
BEGIN:STANDARD
TZOFFSETFROM:-0700
TZOFFSETTO:-0800
TZNAME:PST
DTSTART:20251102T090000
END:STANDARD
BEGIN:DAYLIGHT
TZOFFSETFROM:-0800
TZOFFSETTO:-0700
TZNAME:PDT
DTSTART:20260308T100000
END:DAYLIGHT
BEGIN:STANDARD
TZOFFSETFROM:-0700
TZOFFSETTO:-0800
TZNAME:PST
DTSTART:20261101T090000
END:STANDARD
BEGIN:DAYLIGHT
TZOFFSETFROM:-0800
TZOFFSETTO:-0700
TZNAME:PDT
DTSTART:20270314T100000
END:DAYLIGHT
BEGIN:STANDARD
TZOFFSETFROM:-0700
TZOFFSETTO:-0800
TZNAME:PST
DTSTART:20271107T090000
END:STANDARD
END:VTIMEZONE
BEGIN:VEVENT
DTSTART;TZID=America/Los_Angeles:20260516T100000
DTEND;TZID=America/Los_Angeles:20260516T123000
DTSTAMP:20260421T072542
CREATED:20260323T195811Z
LAST-MODIFIED:20260323T195811Z
UID:10001629-1778925600-1778934600@sactownsupermom.com
SUMMARY:Safetyville Bike Rodeos
DESCRIPTION:Kids can take to the miniature Sacramento streets of Safetyville USA to ride their bikes and learn about bike safety at Safetyville Bike Rodeos. While this is a free event\, pre-registration is required. \nChildren of all ages can bring their bikes or scooters to ride around in a safe\, open environment. Helmets are required for all Bike Rodeo participants. All riders must wear helmets. The event includes helmet fittings\, family-friendly activities\, and safety demonstrations. \nSafetyville Bike Rodeos will take place on the following dates in 2026: \n\nSaturday\, March 28\nSaturday\, April 18\nSaturday\, May 16\n\nSafetyville Bike Rodeos are free\, though donations are welcome. \nSafetyville will also provide helmets to kids who might need one. Loaner bikes are also available on a first-come\, first-serve basis.
URL:https://sactownsupermom.com/event/safetyville-bike-rodeos-2/2026-05-16/
LOCATION:Safetyville USA\, 3909 Bradshaw Rd\, Sacramento\, CA\, 95827
CATEGORIES:Safetyville
END:VEVENT
BEGIN:VEVENT
DTSTART;TZID=America/Los_Angeles:20260516T100000
DTEND;TZID=America/Los_Angeles:20260516T123000
DTSTAMP:20260421T072542
CREATED:20260409T014633Z
LAST-MODIFIED:20260409T235934Z
UID:10001750-1778925600-1778934600@sactownsupermom.com
SUMMARY:Maggie's Ride at Safetyville USA (Postponed)
DESCRIPTION:Note: This event has been postponed due to rain. Head to Safetyville USA on Saturday\, May 16\, 2026 for Maggie’s Ride\, a free family event where kids can safely learn how to ride bikes. Free bike helmets will also be provided. This is a free event\, but pre-registration is required.
URL:https://sactownsupermom.com/event/maggies-ride-at-safetyville-usa/
LOCATION:Safetyville USA\, 3909 Bradshaw Rd\, Sacramento\, CA\, 95827
END:VEVENT
END:VCALENDAR