BEGIN:VCALENDAR
VERSION:2.0
PRODID:-//Sactown Supermom - ECPv6.15.20//NONSGML v1.0//EN
CALSCALE:GREGORIAN
METHOD:PUBLISH
X-WR-CALNAME:Sactown Supermom
X-ORIGINAL-URL:https://sactownsupermom.com
X-WR-CALDESC:Events for Sactown Supermom
REFRESH-INTERVAL;VALUE=DURATION:PT1H
X-Robots-Tag:noindex
X-PUBLISHED-TTL:PT1H
BEGIN:VTIMEZONE
TZID:America/Los_Angeles
BEGIN:DAYLIGHT
TZOFFSETFROM:-0800
TZOFFSETTO:-0700
TZNAME:PDT
DTSTART:20240310T100000
END:DAYLIGHT
BEGIN:STANDARD
TZOFFSETFROM:-0700
TZOFFSETTO:-0800
TZNAME:PST
DTSTART:20241103T090000
END:STANDARD
BEGIN:DAYLIGHT
TZOFFSETFROM:-0800
TZOFFSETTO:-0700
TZNAME:PDT
DTSTART:20250309T100000
END:DAYLIGHT
BEGIN:STANDARD
TZOFFSETFROM:-0700
TZOFFSETTO:-0800
TZNAME:PST
DTSTART:20251102T090000
END:STANDARD
BEGIN:DAYLIGHT
TZOFFSETFROM:-0800
TZOFFSETTO:-0700
TZNAME:PDT
DTSTART:20260308T100000
END:DAYLIGHT
BEGIN:STANDARD
TZOFFSETFROM:-0700
TZOFFSETTO:-0800
TZNAME:PST
DTSTART:20261101T090000
END:STANDARD
BEGIN:DAYLIGHT
TZOFFSETFROM:-0800
TZOFFSETTO:-0700
TZNAME:PDT
DTSTART:20270314T100000
END:DAYLIGHT
BEGIN:STANDARD
TZOFFSETFROM:-0700
TZOFFSETTO:-0800
TZNAME:PST
DTSTART:20271107T090000
END:STANDARD
END:VTIMEZONE
BEGIN:VEVENT
DTSTART;TZID=America/Los_Angeles:20260418T100000
DTEND;TZID=America/Los_Angeles:20260418T123000
DTSTAMP:20260420T005926
CREATED:20260414T214453Z
LAST-MODIFIED:20260414T214454Z
UID:10001628-1776506400-1776515400@sactownsupermom.com
SUMMARY:Safetyville Bike Rodeos
DESCRIPTION:Kids can take to the miniature Sacramento streets of Safetyville USA to ride their bikes and learn about bike safety at Safetyville Bike Rodeos. While this is a free event\, pre-registration is required. \nChildren of all ages can bring their bikes or scooters to ride around in a safe\, open environment. Helmets are required for all Bike Rodeo participants. All riders must wear helmets. The event includes helmet fittings\, family-friendly activities\, and safety demonstrations. \nSafetyville Bike Rodeos will take place on the following dates in 2026: \n\nSaturday\, March 28\nSaturday\, April 18\nSaturday\, May 16\n\nSafetyville Bike Rodeos are free\, though donations are welcome. \nSafetyville will also provide helmets to kids who might need one. Loaner bikes are also available on a first-come\, first-serve basis.
URL:https://sactownsupermom.com/event/safetyville-bike-rodeos-2-3/
LOCATION:Safetyville USA\, 3909 Bradshaw Rd\, Sacramento\, CA\, 95827
CATEGORIES:April 17-19,Safetyville
END:VEVENT
BEGIN:VEVENT
DTSTART;TZID=America/Los_Angeles:20260203T150000
DTEND;TZID=America/Los_Angeles:20260203T163000
DTSTAMP:20260420T005926
CREATED:20260202T192544Z
LAST-MODIFIED:20260202T192544Z
UID:10001439-1770130800-1770136200@sactownsupermom.com
SUMMARY:Pop Up Open Play at Safetyville USA
DESCRIPTION:With nice weather ahead\, there will be Pop Up Open Play at Safetyville USA on February 3 & 5\, 2026. Kids can bike the Safetyville streets to learn safe riding skills while enjoying the sunshine. Bring your own bike helmets. Pre-registration is not required and tickets will be sold at the gate.
URL:https://sactownsupermom.com/event/pop-up-open-play-at-safetyville-usa/
LOCATION:Safetyville USA\, 3909 Bradshaw Rd\, Sacramento\, CA\, 95827
CATEGORIES:Safetyville
END:VEVENT
BEGIN:VEVENT
DTSTART;TZID=America/Los_Angeles:20251210T143000
DTEND;TZID=America/Los_Angeles:20251210T163000
DTSTAMP:20260420T005926
CREATED:20251210T005319Z
LAST-MODIFIED:20251210T005331Z
UID:10001171-1765377000-1765384200@sactownsupermom.com
SUMMARY:Holiday Canned Food Drive at Safetyville
DESCRIPTION:Bring a canned food or pantry item donation to support local Sacramento area families to receive free open play at Safetyville USA on December 9 & 10\, 2025. These two hour events will also include complimentary hot cocoa and cookies.
URL:https://sactownsupermom.com/event/holiday-canned-food-drive-at-safetyville/2025-12-10/
LOCATION:Safetyville USA\, 3909 Bradshaw Rd\, Sacramento\, CA\, 95827
CATEGORIES:December,Rancho Cordova
END:VEVENT
BEGIN:VEVENT
DTSTART;TZID=America/Los_Angeles:20251025T110000
DTEND;TZID=America/Los_Angeles:20251025T170000
DTSTAMP:20260420T005926
CREATED:20251003T050056Z
LAST-MODIFIED:20251021T033127Z
UID:10000809-1761390000-1761411600@sactownsupermom.com
SUMMARY:Trick or Treat Safetyville
DESCRIPTION:Kids can safely trick-or-treat in the miniature city of Safetyville on Saturday\, October 25\, 2025. Trick-or-treat stations will be set up throughout the mini city. While Safetyville USA is typically known for biking\, there will be no bikes or scooters allowed at this event. \nChoose from 3 timed event entries. Food and activities will be at the event including face painting\, pumpkin decorating\, caramel apple making\, etc. These activities cost extra and are paid for by tickets.
URL:https://sactownsupermom.com/event/trick-or-treat-safetyville/
LOCATION:Safetyville USA\, 3909 Bradshaw Rd\, Sacramento\, CA\, 95827
CATEGORIES:Halloween,Oct 24-26
END:VEVENT
BEGIN:VEVENT
DTSTART;TZID=America/Los_Angeles:20250927T091500
DTEND;TZID=America/Los_Angeles:20250927T160000
DTSTAMP:20260420T005926
CREATED:20250901T193055Z
LAST-MODIFIED:20250901T193055Z
UID:10000645-1758964500-1758988800@sactownsupermom.com
SUMMARY:Nerf Battle at Safetyville USA
DESCRIPTION:The biggest Nerf war in Sacramento will take place on Saturday\, September 27\, 2025 at Safetyville USA. The battle will be put on by Mobile Foam Fights. \nThere are two time slots and different Nerf equipment to choose from; Stock Blasters shoot full-length darts while Pro Blasters shoot short darts. The Stock Blasters Nerf battle will occur at 10am. The Pro Blasters battle begins at 2pm. Food will be available on-site for purchase. \nEvent Schedule: \n\n9:15-10am – Check-In / Blaster Check\n10am-12pm – Stock Blaster Battle\n12-1pm – Lunch Break\n1:15-2pm – Check-In / Blaster Check\n2-4pm – Pro Blaster Battle
URL:https://sactownsupermom.com/event/nerf-battle-at-safetyville-usa/
LOCATION:Safetyville USA\, 3909 Bradshaw Rd\, Sacramento\, CA\, 95827
CATEGORIES:September
END:VEVENT
BEGIN:VEVENT
DTSTART;TZID=America/Los_Angeles:20250828T163000
DTEND;TZID=America/Los_Angeles:20250828T190000
DTSTAMP:20260420T005926
CREATED:20250812T020319Z
LAST-MODIFIED:20250812T020319Z
UID:10000520-1756398600-1756407600@sactownsupermom.com
SUMMARY:Back to School Event & Bike Rodeo
DESCRIPTION:Safetyville USA will have a free back to school & bike rodeo event on Thursday\, August 28\, 2025. The event will provide shoe tying clinics\, helmet fittings\, bike tune-ups\, a DIY bike decorating station\, and bike safety education. \nKids can bike over to various interactive stations during the event. \nWhile this is a free event\, pre-registration is required.
URL:https://sactownsupermom.com/event/back-to-school-event-bike-rodeo/
LOCATION:Safetyville USA\, 3909 Bradshaw Rd\, Sacramento\, CA\, 95827
CATEGORIES:Rancho Cordova
END:VEVENT
BEGIN:VEVENT
DTSTART;TZID=America/Los_Angeles:20250726T100000
DTEND;TZID=America/Los_Angeles:20250726T123000
DTSTAMP:20260420T005926
CREATED:20250723T052946Z
LAST-MODIFIED:20250723T052946Z
UID:10000474-1753524000-1753533000@sactownsupermom.com
SUMMARY:Safetyville Open Play & Water Safety Education
DESCRIPTION:Safetyville USA will have open play and water safety education on Saturday\, July 26\, 2025. Kids can bike around Safetyville USA while visiting stations about safe practices when being around water sources like pools or open water. There will be hands-on activities for kids. \nThis event is free however pre-registration is required. \nLoaner bikes are available by request. Email Safetyville USA for a loaner bike request.
URL:https://sactownsupermom.com/event/safetyville-open-play-water-safety-education/
LOCATION:Safetyville USA\, 3909 Bradshaw Rd\, Sacramento\, CA\, 95827
CATEGORIES:Free
END:VEVENT
BEGIN:VEVENT
DTSTART;TZID=America/Los_Angeles:20250621T100000
DTEND;TZID=America/Los_Angeles:20250621T140000
DTSTAMP:20260420T005926
CREATED:20250523T234837Z
LAST-MODIFIED:20250523T234837Z
UID:10000270-1750500000-1750514400@sactownsupermom.com
SUMMARY:Family Day at Safetyville USA
DESCRIPTION:Safetyville USA will have a free Family Day on Saturday\, June 21\, 2025. Resources and information will be available to Sacramento families. \nNote that Family Day is not a bike event and bike riding will not occur at the event. \nActivities at Family Day will include: \n\nInformational and resource booths\nGiveaways\nSafety demos\nFood & refreshments will be available for purchase\n\nFamily Day is free but pre-registration is encouraged.
URL:https://sactownsupermom.com/event/family-day-at-safetyville-usa/
LOCATION:Safetyville USA\, 3909 Bradshaw Rd\, Sacramento\, CA\, 95827
CATEGORIES:Free,Rancho Cordova,Safetyville
END:VEVENT
BEGIN:VEVENT
DTSTART;TZID=America/Los_Angeles:20250517T090000
DTEND;TZID=America/Los_Angeles:20250517T120000
DTSTAMP:20260420T005926
CREATED:20250424T050305Z
LAST-MODIFIED:20250425T013438Z
UID:10000202-1747472400-1747483200@sactownsupermom.com
SUMMARY:Pancake Palooza at Safetyville USA
DESCRIPTION:Safetyville USA will have a Pancake Palooza on Saturday\, May 17\, 2025. Breakfast will be served\, and bikes will be ridden safely with helmets. \nBreakfast will include pancakes\, sausage\, and drinks\, and be served from 9-11am. Safetyville USA will remain open until 12pm for bike riding. All riders must wear helmets.
URL:https://sactownsupermom.com/event/pancake-palooza-at-safetyville-usa/
LOCATION:Safetyville USA\, 3909 Bradshaw Rd\, Sacramento\, CA\, 95827
CATEGORIES:May,Safetyville
END:VEVENT
END:VCALENDAR