BEGIN:VCALENDAR
VERSION:2.0
PRODID:-//Sactown Supermom - ECPv6.15.20//NONSGML v1.0//EN
CALSCALE:GREGORIAN
METHOD:PUBLISH
X-ORIGINAL-URL:https://sactownsupermom.com
X-WR-CALDESC:Events for Sactown Supermom
REFRESH-INTERVAL;VALUE=DURATION:PT1H
X-Robots-Tag:noindex
X-PUBLISHED-TTL:PT1H
BEGIN:VTIMEZONE
TZID:America/Los_Angeles
BEGIN:DAYLIGHT
TZOFFSETFROM:-0800
TZOFFSETTO:-0700
TZNAME:PDT
DTSTART:20240310T100000
END:DAYLIGHT
BEGIN:STANDARD
TZOFFSETFROM:-0700
TZOFFSETTO:-0800
TZNAME:PST
DTSTART:20241103T090000
END:STANDARD
BEGIN:DAYLIGHT
TZOFFSETFROM:-0800
TZOFFSETTO:-0700
TZNAME:PDT
DTSTART:20250309T100000
END:DAYLIGHT
BEGIN:STANDARD
TZOFFSETFROM:-0700
TZOFFSETTO:-0800
TZNAME:PST
DTSTART:20251102T090000
END:STANDARD
BEGIN:DAYLIGHT
TZOFFSETFROM:-0800
TZOFFSETTO:-0700
TZNAME:PDT
DTSTART:20260308T100000
END:DAYLIGHT
BEGIN:STANDARD
TZOFFSETFROM:-0700
TZOFFSETTO:-0800
TZNAME:PST
DTSTART:20261101T090000
END:STANDARD
END:VTIMEZONE
BEGIN:VEVENT
DTSTART;TZID=America/Los_Angeles:20250426T153000
DTEND;TZID=America/Los_Angeles:20250426T183000
DTSTAMP:20260421T024922
CREATED:20250324T024959Z
LAST-MODIFIED:20250324T024959Z
UID:10000154-1745681400-1745692200@sactownsupermom.com
SUMMARY:2025 Annual Soccer Shots Fun Fest
DESCRIPTION:The 2025 Annual Soccer Shots Fun Fest will take place on Saturday\, April 26\, 2025 at Olympus Park in Roseville. Soccer Shots families can participate in an afternoon of soccer\, interactive activities\, games\, and more\, \nThe fun will include bounce houses\, face painting\, balloon animals\, and activities with coaches. Kids under the age of 2 can attend for free and don’t need to register for the event.
URL:https://sactownsupermom.com/event/2025-annual-soccer-shots-fun-fest/
LOCATION:Olympus Park\, 2551 La Croix Dr\, Roseville\, CA\, 95661
CATEGORIES:Sports
END:VEVENT
END:VCALENDAR