BEGIN:VCALENDAR
VERSION:2.0
PRODID:-//Sactown Supermom - ECPv6.15.20//NONSGML v1.0//EN
CALSCALE:GREGORIAN
METHOD:PUBLISH
X-ORIGINAL-URL:https://sactownsupermom.com
X-WR-CALDESC:Events for Sactown Supermom
REFRESH-INTERVAL;VALUE=DURATION:PT1H
X-Robots-Tag:noindex
X-PUBLISHED-TTL:PT1H
BEGIN:VTIMEZONE
TZID:America/Los_Angeles
BEGIN:DAYLIGHT
TZOFFSETFROM:-0800
TZOFFSETTO:-0700
TZNAME:PDT
DTSTART:20250309T100000
END:DAYLIGHT
BEGIN:STANDARD
TZOFFSETFROM:-0700
TZOFFSETTO:-0800
TZNAME:PST
DTSTART:20251102T090000
END:STANDARD
BEGIN:DAYLIGHT
TZOFFSETFROM:-0800
TZOFFSETTO:-0700
TZNAME:PDT
DTSTART:20260308T100000
END:DAYLIGHT
BEGIN:STANDARD
TZOFFSETFROM:-0700
TZOFFSETTO:-0800
TZNAME:PST
DTSTART:20261101T090000
END:STANDARD
BEGIN:DAYLIGHT
TZOFFSETFROM:-0800
TZOFFSETTO:-0700
TZNAME:PDT
DTSTART:20270314T100000
END:DAYLIGHT
BEGIN:STANDARD
TZOFFSETFROM:-0700
TZOFFSETTO:-0800
TZNAME:PST
DTSTART:20271107T090000
END:STANDARD
END:VTIMEZONE
BEGIN:VEVENT
DTSTART;TZID=America/Los_Angeles:20260604T180000
DTEND;TZID=America/Los_Angeles:20260604T220000
DTSTAMP:20260419T223105
CREATED:20260419T225206Z
LAST-MODIFIED:20260419T225206Z
UID:10001798-1780596000-1780610400@sactownsupermom.com
SUMMARY:Movie in the Park (Southgate)
DESCRIPTION:Southgate Recreation & Park’s District free annual Movie in the Park series returns on various Tuesday and Thursday summer evenings in 2026. Each movie will be shown at a different park. Arrive early at 6pm for kid-friendly activities from the R.E.C. Van\, games\, and crafts. Movies will begin playing at sunset. 2026 Movie in the Park (Southgate) Details – \n\n\nThursday\, June 4 at Larry Gury Community Park: Lilo & Stitch (live-action)\n\n\n\nThursday\, June 11 at Bowling Green Park: Minecraft\n\n\n\nTuesday\, June 23 at Perry Avenue Park: Bad Guys 2\n\n\n\nTuesday\, July 14 at Norman S. Waters Park: Smurfs\n\n\n\nThursday\, August 6 at Don & Brenda Nottoli Community Park (Sacramento\, not Elk Grove!): Zootopia 2
URL:https://sactownsupermom.com/event/movie-in-the-park-southgate/2026-06-04/
LOCATION:Larry Gury Community Park\, 9875 Wildhawk West Drive\, Sacramento\, CA\, 95829
CATEGORIES:Free
END:VEVENT
END:VCALENDAR