BEGIN:VCALENDAR
VERSION:2.0
PRODID:-//Sactown Supermom - ECPv6.15.20//NONSGML v1.0//EN
CALSCALE:GREGORIAN
METHOD:PUBLISH
X-ORIGINAL-URL:https://sactownsupermom.com
X-WR-CALDESC:Events for Sactown Supermom
REFRESH-INTERVAL;VALUE=DURATION:PT1H
X-Robots-Tag:noindex
X-PUBLISHED-TTL:PT1H
BEGIN:VTIMEZONE
TZID:America/Los_Angeles
BEGIN:DAYLIGHT
TZOFFSETFROM:-0800
TZOFFSETTO:-0700
TZNAME:PDT
DTSTART:20250309T100000
END:DAYLIGHT
BEGIN:STANDARD
TZOFFSETFROM:-0700
TZOFFSETTO:-0800
TZNAME:PST
DTSTART:20251102T090000
END:STANDARD
BEGIN:DAYLIGHT
TZOFFSETFROM:-0800
TZOFFSETTO:-0700
TZNAME:PDT
DTSTART:20260308T100000
END:DAYLIGHT
BEGIN:STANDARD
TZOFFSETFROM:-0700
TZOFFSETTO:-0800
TZNAME:PST
DTSTART:20261101T090000
END:STANDARD
BEGIN:DAYLIGHT
TZOFFSETFROM:-0800
TZOFFSETTO:-0700
TZNAME:PDT
DTSTART:20270314T100000
END:DAYLIGHT
BEGIN:STANDARD
TZOFFSETFROM:-0700
TZOFFSETTO:-0800
TZNAME:PST
DTSTART:20271107T090000
END:STANDARD
END:VTIMEZONE
BEGIN:VEVENT
DTSTART;TZID=America/Los_Angeles:20260425T140000
DTEND;TZID=America/Los_Angeles:20260425T190000
DTSTAMP:20260422T191612
CREATED:20260422T211747Z
LAST-MODIFIED:20260422T211747Z
UID:10001815-1777125600-1777143600@sactownsupermom.com
SUMMARY:MOSAIC Camp Day (Woodland)
DESCRIPTION:The MOSAIC Children’s Museum in Woodland will have a Camp Day Fundraiser for families on Saturday\, April 25\, 2026 at Nelson’s Grove. Kids will get to build and race mini derby cars\, water play\, boat building\, songs and dances\, balloon creations\, and carnival-like activities.
URL:https://sactownsupermom.com/event/mosaic-camp-day-woodland/
LOCATION:Nelson’s Grove\, 15285 County Road 99E\, Woodland\, CA\, 95695
CATEGORIES:April 24-26
END:VEVENT
END:VCALENDAR