BEGIN:VCALENDAR
VERSION:2.0
PRODID:-//Sactown Supermom - ECPv6.15.20//NONSGML v1.0//EN
CALSCALE:GREGORIAN
METHOD:PUBLISH
X-ORIGINAL-URL:https://sactownsupermom.com
X-WR-CALDESC:Events for Sactown Supermom
REFRESH-INTERVAL;VALUE=DURATION:PT1H
X-Robots-Tag:noindex
X-PUBLISHED-TTL:PT1H
BEGIN:VTIMEZONE
TZID:America/Los_Angeles
BEGIN:DAYLIGHT
TZOFFSETFROM:-0800
TZOFFSETTO:-0700
TZNAME:PDT
DTSTART:20240310T100000
END:DAYLIGHT
BEGIN:STANDARD
TZOFFSETFROM:-0700
TZOFFSETTO:-0800
TZNAME:PST
DTSTART:20241103T090000
END:STANDARD
BEGIN:DAYLIGHT
TZOFFSETFROM:-0800
TZOFFSETTO:-0700
TZNAME:PDT
DTSTART:20250309T100000
END:DAYLIGHT
BEGIN:STANDARD
TZOFFSETFROM:-0700
TZOFFSETTO:-0800
TZNAME:PST
DTSTART:20251102T090000
END:STANDARD
BEGIN:DAYLIGHT
TZOFFSETFROM:-0800
TZOFFSETTO:-0700
TZNAME:PDT
DTSTART:20260308T100000
END:DAYLIGHT
BEGIN:STANDARD
TZOFFSETFROM:-0700
TZOFFSETTO:-0800
TZNAME:PST
DTSTART:20261101T090000
END:STANDARD
BEGIN:DAYLIGHT
TZOFFSETFROM:-0800
TZOFFSETTO:-0700
TZNAME:PDT
DTSTART:20270314T100000
END:DAYLIGHT
BEGIN:STANDARD
TZOFFSETFROM:-0700
TZOFFSETTO:-0800
TZNAME:PST
DTSTART:20271107T090000
END:STANDARD
END:VTIMEZONE
BEGIN:VEVENT
DTSTART;TZID=America/Los_Angeles:20260328T100000
DTEND;TZID=America/Los_Angeles:20260328T130000
DTSTAMP:20260419T053035
CREATED:20260224T154654Z
LAST-MODIFIED:20260326T145029Z
UID:10001499-1774692000-1774702800@sactownsupermom.com
SUMMARY:The Micke Grove Easter Egg Hunt (Lodi) (Sold Out)
DESCRIPTION:An Easter egg hunt for kids will take place in Micke Grove Regional Park in Lodi on Saturday\, March 28\, 2026. Over 25\,000 eggs will be filled with candy and toys. The event will take place from 10am to 1pm and will include the Easter bunny\, face painting\, crafts and games for kids\, and food trucks. \nPre-registration is required for this event and will open on Monday\, March 2\, 2026.   \nDon’t forget your own basket for the egg hunt! \n\nGates open at 9:30am\nThe Easter egg hunt begins at 11am
URL:https://sactownsupermom.com/event/the-micke-grove-easter-egg-hunt-2026/
LOCATION:Micke Grove Regional Park\, 11793 N. Micke Grove Rd.\, Lodi\, CA\, 95240
CATEGORIES:Easter Egg Hunts
END:VEVENT
BEGIN:VEVENT
DTSTART;TZID=America/Los_Angeles:20250412T100000
DTEND;TZID=America/Los_Angeles:20250412T130000
DTSTAMP:20260419T053035
CREATED:20250314T032402Z
LAST-MODIFIED:20260224T154324Z
UID:10000131-1744452000-1744462800@sactownsupermom.com
SUMMARY:The Micke Grove Easter Egg Hunt (Sold Out)
DESCRIPTION:An Easter egg hunt for kids 12 and under will take place in Micke Grove Regional Park in Lodi on Saturday\, April 12\, 2025. Over 25\,000 eggs will be filled with candy and toys. \nThe event will take place from 10am to 1pm and will include the Easter bunny\, face painting\, crafts and games for kids\, and food trucks. Don’t forget your own basket for the egg hunt! \n\nGates open at 9:30am\nThe Easter egg hunt begins at 11am\n\nPre-registration is required for this event and will open on Monday\, March 24\, 2025.  
URL:https://sactownsupermom.com/event/the-micke-grove-easter-egg-hunt/
LOCATION:Micke Grove Regional Park\, 11793 N. Micke Grove Rd.\, Lodi\, CA\, 95240
END:VEVENT
END:VCALENDAR