BEGIN:VCALENDAR
VERSION:2.0
PRODID:-//Sactown Supermom - ECPv6.15.20//NONSGML v1.0//EN
CALSCALE:GREGORIAN
METHOD:PUBLISH
X-ORIGINAL-URL:https://sactownsupermom.com
X-WR-CALDESC:Events for Sactown Supermom
REFRESH-INTERVAL;VALUE=DURATION:PT1H
X-Robots-Tag:noindex
X-PUBLISHED-TTL:PT1H
BEGIN:VTIMEZONE
TZID:America/Los_Angeles
BEGIN:DAYLIGHT
TZOFFSETFROM:-0800
TZOFFSETTO:-0700
TZNAME:PDT
DTSTART:20240310T100000
END:DAYLIGHT
BEGIN:STANDARD
TZOFFSETFROM:-0700
TZOFFSETTO:-0800
TZNAME:PST
DTSTART:20241103T090000
END:STANDARD
BEGIN:DAYLIGHT
TZOFFSETFROM:-0800
TZOFFSETTO:-0700
TZNAME:PDT
DTSTART:20250309T100000
END:DAYLIGHT
BEGIN:STANDARD
TZOFFSETFROM:-0700
TZOFFSETTO:-0800
TZNAME:PST
DTSTART:20251102T090000
END:STANDARD
BEGIN:DAYLIGHT
TZOFFSETFROM:-0800
TZOFFSETTO:-0700
TZNAME:PDT
DTSTART:20260308T100000
END:DAYLIGHT
BEGIN:STANDARD
TZOFFSETFROM:-0700
TZOFFSETTO:-0800
TZNAME:PST
DTSTART:20261101T090000
END:STANDARD
BEGIN:DAYLIGHT
TZOFFSETFROM:-0800
TZOFFSETTO:-0700
TZNAME:PDT
DTSTART:20270314T100000
END:DAYLIGHT
BEGIN:STANDARD
TZOFFSETFROM:-0700
TZOFFSETTO:-0800
TZNAME:PST
DTSTART:20271107T090000
END:STANDARD
END:VTIMEZONE
BEGIN:VEVENT
DTSTART;TZID=America/Los_Angeles:20260328T100000
DTEND;TZID=America/Los_Angeles:20260328T150000
DTSTAMP:20260421T065428
CREATED:20260308T000136Z
LAST-MODIFIED:20260325T205906Z
UID:10001545-1774692000-1774710000@sactownsupermom.com
SUMMARY:Downtown Winters Spring Open
DESCRIPTION:Spring is in the air in downtown Winters! The Downtown Winters Spring Open takes place over two days on March 27 & 28\, 2026. The two-day event will have local vendors\, food trucks\, live music\, and kids activities that include an egg hunt. The egg hunt will occur on Saturday\, March 28\, 2026. 
URL:https://sactownsupermom.com/event/downtown-winters-spring-open-2-2/
LOCATION:Main Street\, Winters\, CA
CATEGORIES:Easter Egg Hunts,March 27-29,Spring
END:VEVENT
BEGIN:VEVENT
DTSTART;TZID=America/Los_Angeles:20250328T170000
DTEND;TZID=America/Los_Angeles:20250329T150000
DTSTAMP:20260421T065428
CREATED:20250309T212402Z
LAST-MODIFIED:20260308T000724Z
UID:10000111-1743181200-1743260400@sactownsupermom.com
SUMMARY:Downtown Winters Spring Open
DESCRIPTION:Spring is in the air in downtown Winters during their Spring Open on March 28-29\, 2025. The two-day event will have local vendors\, food trucks\, live music\, and kids activities that include an egg hunt\, the Easter bunny\, and face painting. \nFriday\, March 28\, 5-10pm \n\nKids can participate in an egg hunt\, meet the Easter bunny\, and face painting.\nLive music and food vendors\nMain Street\, downtown Winters\n\nSaturday\, March 29\, 10am-3pm \n\nKids can meet the Easter bunny\, and enjoy a golden egg scavenger hunt\nFood trucks\nLive music\nDowntown Winters
URL:https://sactownsupermom.com/event/downtown-winters-spring-open/
LOCATION:Main Street\, Winters\, CA
CATEGORIES:Spring
END:VEVENT
END:VCALENDAR