BEGIN:VCALENDAR
VERSION:2.0
PRODID:-//Sactown Supermom - ECPv6.15.20//NONSGML v1.0//EN
CALSCALE:GREGORIAN
METHOD:PUBLISH
X-ORIGINAL-URL:https://sactownsupermom.com
X-WR-CALDESC:Events for Sactown Supermom
REFRESH-INTERVAL;VALUE=DURATION:PT1H
X-Robots-Tag:noindex
X-PUBLISHED-TTL:PT1H
BEGIN:VTIMEZONE
TZID:America/Los_Angeles
BEGIN:DAYLIGHT
TZOFFSETFROM:-0800
TZOFFSETTO:-0700
TZNAME:PDT
DTSTART:20240310T100000
END:DAYLIGHT
BEGIN:STANDARD
TZOFFSETFROM:-0700
TZOFFSETTO:-0800
TZNAME:PST
DTSTART:20241103T090000
END:STANDARD
BEGIN:DAYLIGHT
TZOFFSETFROM:-0800
TZOFFSETTO:-0700
TZNAME:PDT
DTSTART:20250309T100000
END:DAYLIGHT
BEGIN:STANDARD
TZOFFSETFROM:-0700
TZOFFSETTO:-0800
TZNAME:PST
DTSTART:20251102T090000
END:STANDARD
BEGIN:DAYLIGHT
TZOFFSETFROM:-0800
TZOFFSETTO:-0700
TZNAME:PDT
DTSTART:20260308T100000
END:DAYLIGHT
BEGIN:STANDARD
TZOFFSETFROM:-0700
TZOFFSETTO:-0800
TZNAME:PST
DTSTART:20261101T090000
END:STANDARD
END:VTIMEZONE
BEGIN:VEVENT
DTSTART;TZID=America/Los_Angeles:20251123T090000
DTEND;TZID=America/Los_Angeles:20251123T130000
DTSTAMP:20260421T162837
CREATED:20251112T224543Z
LAST-MODIFIED:20251120T031458Z
UID:10001016-1763888400-1763902800@sactownsupermom.com
SUMMARY:Harvest of Thanks Celebration
DESCRIPTION:The Harvest of Thanks Celebration takes place on Sunday\, November 23\, 2025 at the Maidu Park Farmers Market. There will be inflatables for kids\, games\, pie walks\, and shopping specials.
URL:https://sactownsupermom.com/event/harvest-of-thanks-celebration/
LOCATION:Maidu Park Farmers Market\, 1550 Maidu Park Dr\, Roseville\, CA\, 95661
CATEGORIES:Nov 21-23,Roseville
END:VEVENT
BEGIN:VEVENT
DTSTART;TZID=America/Los_Angeles:20251019T090000
DTEND;TZID=America/Los_Angeles:20251019T130000
DTSTAMP:20260421T162837
CREATED:20251015T041630Z
LAST-MODIFIED:20251015T041642Z
UID:10000854-1760864400-1760878800@sactownsupermom.com
SUMMARY:Farm to Family Halloween Fest
DESCRIPTION:Farm to Family Halloween Fest takes place on Sunday\, October 19\, 2025 at the Maidu Park Farmers Market in Roseville. There will be a pumpkin patch\, pumpkin painting\, kids zone with inflatables\, and a costume contest. The kids zone is $5 entry\, and pumpkin painting is $4.
URL:https://sactownsupermom.com/event/farm-to-family-halloween-fest/
LOCATION:Maidu Park Farmers Market\, 1550 Maidu Park Dr\, Roseville\, CA\, 95661
CATEGORIES:Roseville
END:VEVENT
END:VCALENDAR