BEGIN:VCALENDAR
VERSION:2.0
PRODID:-//Sactown Supermom - ECPv6.15.20//NONSGML v1.0//EN
CALSCALE:GREGORIAN
METHOD:PUBLISH
X-ORIGINAL-URL:https://sactownsupermom.com
X-WR-CALDESC:Events for Sactown Supermom
REFRESH-INTERVAL;VALUE=DURATION:PT1H
X-Robots-Tag:noindex
X-PUBLISHED-TTL:PT1H
BEGIN:VTIMEZONE
TZID:America/Los_Angeles
BEGIN:DAYLIGHT
TZOFFSETFROM:-0800
TZOFFSETTO:-0700
TZNAME:PDT
DTSTART:20240310T100000
END:DAYLIGHT
BEGIN:STANDARD
TZOFFSETFROM:-0700
TZOFFSETTO:-0800
TZNAME:PST
DTSTART:20241103T090000
END:STANDARD
BEGIN:DAYLIGHT
TZOFFSETFROM:-0800
TZOFFSETTO:-0700
TZNAME:PDT
DTSTART:20250309T100000
END:DAYLIGHT
BEGIN:STANDARD
TZOFFSETFROM:-0700
TZOFFSETTO:-0800
TZNAME:PST
DTSTART:20251102T090000
END:STANDARD
BEGIN:DAYLIGHT
TZOFFSETFROM:-0800
TZOFFSETTO:-0700
TZNAME:PDT
DTSTART:20260308T100000
END:DAYLIGHT
BEGIN:STANDARD
TZOFFSETFROM:-0700
TZOFFSETTO:-0800
TZNAME:PST
DTSTART:20261101T090000
END:STANDARD
END:VTIMEZONE
BEGIN:VEVENT
DTSTART;TZID=America/Los_Angeles:20250823T160000
DTEND;TZID=America/Los_Angeles:20250823T210000
DTSTAMP:20260419T142316
CREATED:20250812T022145Z
LAST-MODIFIED:20250812T022145Z
UID:10000521-1755964800-1755982800@sactownsupermom.com
SUMMARY:Owl Release and Picnic
DESCRIPTION:Heringer Estates and the Wildlife Care Association of Sacramento will have a family-friendly Owl Release and Picnic on Saturday\, August 23\, 2025. Relax in Marjorie’s Garden with food and drinks while the evening culminates into the release of a rehabilitated owl into the wild. \nThe owl will be released at dusk around 8-8:30pm. \nBring blankets or lawn chairs to the event for family fun. Sustainable farming will also be celebrated. Outside food is allowed\, but food will also be available for purchase at the vineyard from Hot Dogger and Sips & Floss. Wine slushies will be available for adults. \nTicket proceeds will be donated to the Wildlife Care Association of Sacramento. Wildlife Care representatives will also be on-site with critter friends. \nTickets for the event must be purchased in advance. Prices are below: \n\n$15 Adults\n$8 Children (12 and under)\nFree for ages 2 and under
URL:https://sactownsupermom.com/event/owl-release-and-picnic/
LOCATION:Heringer Estates Vineyards & Winery\, 37375 Netherlands Road\, Clarksburg\, CA\, 95612
CATEGORIES:August
END:VEVENT
END:VCALENDAR