BEGIN:VCALENDAR
VERSION:2.0
PRODID:-//Sactown Supermom - ECPv6.15.20//NONSGML v1.0//EN
CALSCALE:GREGORIAN
METHOD:PUBLISH
X-ORIGINAL-URL:https://sactownsupermom.com
X-WR-CALDESC:Events for Sactown Supermom
REFRESH-INTERVAL;VALUE=DURATION:PT1H
X-Robots-Tag:noindex
X-PUBLISHED-TTL:PT1H
BEGIN:VTIMEZONE
TZID:America/Los_Angeles
BEGIN:DAYLIGHT
TZOFFSETFROM:-0800
TZOFFSETTO:-0700
TZNAME:PDT
DTSTART:20240310T100000
END:DAYLIGHT
BEGIN:STANDARD
TZOFFSETFROM:-0700
TZOFFSETTO:-0800
TZNAME:PST
DTSTART:20241103T090000
END:STANDARD
BEGIN:DAYLIGHT
TZOFFSETFROM:-0800
TZOFFSETTO:-0700
TZNAME:PDT
DTSTART:20250309T100000
END:DAYLIGHT
BEGIN:STANDARD
TZOFFSETFROM:-0700
TZOFFSETTO:-0800
TZNAME:PST
DTSTART:20251102T090000
END:STANDARD
BEGIN:DAYLIGHT
TZOFFSETFROM:-0800
TZOFFSETTO:-0700
TZNAME:PDT
DTSTART:20260308T100000
END:DAYLIGHT
BEGIN:STANDARD
TZOFFSETFROM:-0700
TZOFFSETTO:-0800
TZNAME:PST
DTSTART:20261101T090000
END:STANDARD
END:VTIMEZONE
BEGIN:VEVENT
DTSTART;TZID=America/Los_Angeles:20250920T110000
DTEND;TZID=America/Los_Angeles:20250920T150000
DTSTAMP:20260422T094411
CREATED:20250830T203343Z
LAST-MODIFIED:20250918T000646Z
UID:10000589-1758366000-1758380400@sactownsupermom.com
SUMMARY:2025 'Girls in Aviation Day' (Event Full)
DESCRIPTION:Girls in Aviation Day will take place on Saturday\, September 20\, 2025 at Hangar 6 at Mather Airport. The California Capital Airshow invites girls interested in learning about opportunities in aviation. Attendees will be able to hear a speaker’s panel and participate in interactive STEM and aviation activities. \nWhile this event is free\, space is limited and pre-registration is required. This event is only for students and parents must drop-off students. \nSchedule of events: \n\n10:30am – Gates open; Parents drop students off\n11am – Interactive STEM & Aviation Panel begins (Lunch will be provided)\n1pm – Hands-on STEM and aircraft activities\n3pm – Gates close; Parents pick up students
URL:https://sactownsupermom.com/event/girls-in-aviation-day/
LOCATION:Hangar Six – Mather Airport\, 10425 Norden Ave\, Sacramento\, CA\, 95655
CATEGORIES:Free
END:VEVENT
END:VCALENDAR