BEGIN:VCALENDAR
VERSION:2.0
PRODID:-//Sactown Supermom - ECPv6.15.20//NONSGML v1.0//EN
CALSCALE:GREGORIAN
METHOD:PUBLISH
X-WR-CALNAME:Sactown Supermom
X-ORIGINAL-URL:https://sactownsupermom.com
X-WR-CALDESC:Events for Sactown Supermom
REFRESH-INTERVAL;VALUE=DURATION:PT1H
X-Robots-Tag:noindex
X-PUBLISHED-TTL:PT1H
BEGIN:VTIMEZONE
TZID:America/Los_Angeles
BEGIN:DAYLIGHT
TZOFFSETFROM:-0800
TZOFFSETTO:-0700
TZNAME:PDT
DTSTART:20250309T100000
END:DAYLIGHT
BEGIN:STANDARD
TZOFFSETFROM:-0700
TZOFFSETTO:-0800
TZNAME:PST
DTSTART:20251102T090000
END:STANDARD
BEGIN:DAYLIGHT
TZOFFSETFROM:-0800
TZOFFSETTO:-0700
TZNAME:PDT
DTSTART:20260308T100000
END:DAYLIGHT
BEGIN:STANDARD
TZOFFSETFROM:-0700
TZOFFSETTO:-0800
TZNAME:PST
DTSTART:20261101T090000
END:STANDARD
BEGIN:DAYLIGHT
TZOFFSETFROM:-0800
TZOFFSETTO:-0700
TZNAME:PDT
DTSTART:20270314T100000
END:DAYLIGHT
BEGIN:STANDARD
TZOFFSETFROM:-0700
TZOFFSETTO:-0800
TZNAME:PST
DTSTART:20271107T090000
END:STANDARD
END:VTIMEZONE
BEGIN:VEVENT
DTSTART;TZID=America/Los_Angeles:20260425T110000
DTEND;TZID=America/Los_Angeles:20260425T150000
DTSTAMP:20260421T020544
CREATED:20260331T222654Z
LAST-MODIFIED:20260331T222654Z
UID:10001714-1777114800-1777129200@sactownsupermom.com
SUMMARY:36th Annual Kids Day (Rancho Cordova)
DESCRIPTION:The 36th Annual Kids Day will take place on Saturday\, April 25\, 2026 at Hagan Community Park in Rancho Cordova. This free community event will include kid-friendly activities\, attractions\, parent resources\, and giveaways. While this is a free event\, there is a $6 vehicle entry fee into the park.
URL:https://sactownsupermom.com/event/36th-annual-kids-day-rancho-cordova/
LOCATION:Hagan Community Park\, 2197 Chase Dr\, Rancho Cordova\, CA\, 95670
CATEGORIES:April
END:VEVENT
BEGIN:VEVENT
DTSTART;TZID=America/Los_Angeles:20260516T100000
DTEND;TZID=America/Los_Angeles:20260516T160000
DTSTAMP:20260421T020544
CREATED:20260421T033212Z
LAST-MODIFIED:20260421T033212Z
UID:10001805-1778925600-1778947200@sactownsupermom.com
SUMMARY:California Mermaid Convention
DESCRIPTION:The California Mermaid Convention swims into Rancho Cordova with children’s activities taking place on Saturday and Sunday\, May 16 & 17\, 2026\, each day from 10am to 4pm. This is a family-friendly event that includes specific children’s programming such as kids swimming with mermaids\, and participating in land-based games and treasure hunts. \nChildren’s activities are included with a Main Entry (Children’s & Parent) ticket which includes admission for one child and one adult. Additional adults have to purchase a Landlubber (spectator) ticket in order to attend. \nChildren’s programming at the California Mermaid Convention in 2026 will include: \n\nChildren’s swim with a mermaid entertainer each hour in a zero-depth entry pool\nChildren’s swim classes\nTreasure hunts and games in the Atlantis Play Area
URL:https://sactownsupermom.com/event/california-mermaid-convention-4/2026-05-16/
LOCATION:Hagan Community Park\, 2197 Chase Dr\, Rancho Cordova\, CA\, 95670
CATEGORIES:Rancho Cordova
ATTACH;FMTTYPE=image/jpeg:https://sactownsupermom.com/wp-content/uploads/2026/04/Mermaid-Convention-2026.jpg
END:VEVENT
END:VCALENDAR