BEGIN:VCALENDAR
VERSION:2.0
PRODID:-//Sactown Supermom - ECPv6.15.20//NONSGML v1.0//EN
CALSCALE:GREGORIAN
METHOD:PUBLISH
X-ORIGINAL-URL:https://sactownsupermom.com
X-WR-CALDESC:Events for Sactown Supermom
REFRESH-INTERVAL;VALUE=DURATION:PT1H
X-Robots-Tag:noindex
X-PUBLISHED-TTL:PT1H
BEGIN:VTIMEZONE
TZID:America/Los_Angeles
BEGIN:DAYLIGHT
TZOFFSETFROM:-0800
TZOFFSETTO:-0700
TZNAME:PDT
DTSTART:20240310T100000
END:DAYLIGHT
BEGIN:STANDARD
TZOFFSETFROM:-0700
TZOFFSETTO:-0800
TZNAME:PST
DTSTART:20241103T090000
END:STANDARD
BEGIN:DAYLIGHT
TZOFFSETFROM:-0800
TZOFFSETTO:-0700
TZNAME:PDT
DTSTART:20250309T100000
END:DAYLIGHT
BEGIN:STANDARD
TZOFFSETFROM:-0700
TZOFFSETTO:-0800
TZNAME:PST
DTSTART:20251102T090000
END:STANDARD
BEGIN:DAYLIGHT
TZOFFSETFROM:-0800
TZOFFSETTO:-0700
TZNAME:PDT
DTSTART:20260308T100000
END:DAYLIGHT
BEGIN:STANDARD
TZOFFSETFROM:-0700
TZOFFSETTO:-0800
TZNAME:PST
DTSTART:20261101T090000
END:STANDARD
END:VTIMEZONE
BEGIN:VEVENT
DTSTART;TZID=America/Los_Angeles:20251123T080000
DTEND;TZID=America/Los_Angeles:20251123T130000
DTSTAMP:20260421T042540
CREATED:20251111T062546Z
LAST-MODIFIED:20251111T062546Z
UID:10000989-1763884800-1763902800@sactownsupermom.com
SUMMARY:Ceaze the Moment Thanksgiving Turkey Giveaway
DESCRIPTION:Ceaze the Moment will be having a free Thanksgiving Turkey Giveaway on Sunday\, November 23\, 2025 in Oak Park. They plan to distribute 500 turkeys to families in need\, which are first come\, first serve starting at 8am. Turkeys limited to 1 per family/vehicle.
URL:https://sactownsupermom.com/event/ceaze-the-moment-thanksgiving-turkey-giveaway/
LOCATION:Father Keith B. Kenney Elementary School – Parking Lot\, 3525 Martin Luther King Jr. Blvd.\, Sacramento\, CA\, 95817
CATEGORIES:Turkey Giveaways
END:VEVENT
END:VCALENDAR