BEGIN:VCALENDAR
VERSION:2.0
PRODID:-//Sactown Supermom - ECPv6.15.20//NONSGML v1.0//EN
CALSCALE:GREGORIAN
METHOD:PUBLISH
X-ORIGINAL-URL:https://sactownsupermom.com
X-WR-CALDESC:Events for Sactown Supermom
REFRESH-INTERVAL;VALUE=DURATION:PT1H
X-Robots-Tag:noindex
X-PUBLISHED-TTL:PT1H
BEGIN:VTIMEZONE
TZID:America/Los_Angeles
BEGIN:DAYLIGHT
TZOFFSETFROM:-0800
TZOFFSETTO:-0700
TZNAME:PDT
DTSTART:20240310T100000
END:DAYLIGHT
BEGIN:STANDARD
TZOFFSETFROM:-0700
TZOFFSETTO:-0800
TZNAME:PST
DTSTART:20241103T090000
END:STANDARD
BEGIN:DAYLIGHT
TZOFFSETFROM:-0800
TZOFFSETTO:-0700
TZNAME:PDT
DTSTART:20250309T100000
END:DAYLIGHT
BEGIN:STANDARD
TZOFFSETFROM:-0700
TZOFFSETTO:-0800
TZNAME:PST
DTSTART:20251102T090000
END:STANDARD
BEGIN:DAYLIGHT
TZOFFSETFROM:-0800
TZOFFSETTO:-0700
TZNAME:PDT
DTSTART:20260308T100000
END:DAYLIGHT
BEGIN:STANDARD
TZOFFSETFROM:-0700
TZOFFSETTO:-0800
TZNAME:PST
DTSTART:20261101T090000
END:STANDARD
BEGIN:DAYLIGHT
TZOFFSETFROM:-0800
TZOFFSETTO:-0700
TZNAME:PDT
DTSTART:20270314T100000
END:DAYLIGHT
BEGIN:STANDARD
TZOFFSETFROM:-0700
TZOFFSETTO:-0800
TZNAME:PST
DTSTART:20271107T090000
END:STANDARD
END:VTIMEZONE
BEGIN:VEVENT
DTSTART;TZID=America/Los_Angeles:20260418T100000
DTEND;TZID=America/Los_Angeles:20260418T150000
DTSTAMP:20260421T055720
CREATED:20260412T230741Z
LAST-MODIFIED:20260414T214554Z
UID:10001767-1776506400-1776524400@sactownsupermom.com
SUMMARY:Earth Day Celebration at Fairytale Town
DESCRIPTION:Celebrate Earth Day at Fairytale Town on Saturday\, April 18\, 2026 for a fun day of eco-friendly festivities from gardening activities\, sustainable crafts\, cooking demos\, games\, shows\, and vendors.
URL:https://sactownsupermom.com/event/earth-day-celebration-at-fairytale-town/
LOCATION:Fairytale Town
CATEGORIES:April 17-19,Fairytale Town
END:VEVENT
BEGIN:VEVENT
DTSTART;TZID=America/Los_Angeles:20260405T100000
DTEND;TZID=America/Los_Angeles:20260405T150000
DTSTAMP:20260421T055720
CREATED:20260307T234957Z
LAST-MODIFIED:20260307T235257Z
UID:10001542-1775383200-1775401200@sactownsupermom.com
SUMMARY:Spring Eggstravaganza at Fairytale Town
DESCRIPTION:Fairytale Town will have a two-day Spring Eggstravaganza with egg hunts\, Peter Cottontail\, and spring-themed family fun on Saturday and Sunday\, April 4 & 5\, 2026. Take your own photos with Peter Cottontail on the Mother Goose Stage from 10am to 2pm. Egg hunts will occur throughout the day on the Mother Goose lawn. Don’t forget to bring your own Easter basket for the egg hunt! \nA Bunny Boot Camp puppet show will also take place inside the Children’s Theater at 11:30am and 1pm. The puppet show is included with event admission. Advance tickets are $15\, while day of tickets are $18. \n 
URL:https://sactownsupermom.com/event/spring-eggstravaganza-at-fairytale-town-2/2026-04-05/
LOCATION:Fairytale Town
CATEGORIES:Fairytale Town
END:VEVENT
BEGIN:VEVENT
DTSTART;TZID=America/Los_Angeles:20260320T100000
DTEND;TZID=America/Los_Angeles:20260320T140000
DTSTAMP:20260421T055720
CREATED:20260224T025552Z
LAST-MODIFIED:20260318T224244Z
UID:10001492-1774000800-1774015200@sactownsupermom.com
SUMMARY:Won't You Be My Neighbor Day
DESCRIPTION:Celebrate Mr. Rogers and his legacy at Won’t You Be My Neighbor Day on Friday\, March 20\, 2026 at Fairytale Town. Activities will take place inside the Story Center and will include storytime\, crafts\, and a puppetry workshop.
URL:https://sactownsupermom.com/event/wont-you-be-my-neighbor-day/
LOCATION:Fairytale Town
CATEGORIES:Fairytale Town,March 20-22
END:VEVENT
BEGIN:VEVENT
DTSTART;TZID=America/Los_Angeles:20260317T100000
DTEND;TZID=America/Los_Angeles:20260317T140000
DTSTAMP:20260421T055720
CREATED:20260307T231932Z
LAST-MODIFIED:20260307T231932Z
UID:10001538-1773741600-1773756000@sactownsupermom.com
SUMMARY:St. Patrick's Day at Fairytale Town
DESCRIPTION:Fairytale Town will have a kid-friendly St. Patrick’s Day Celebration on Tuesday\, March 17\, 2026\, from 10am to 2pm. Kids can participate in a scavenger hunt to search for a pot of gold. There will also be crafts. Don’t forget to wear your green! \nThe St. Patrick’s Day Celebration is included with regular Fairytale admission. Check the official venue website for weather updates.
URL:https://sactownsupermom.com/event/st-patricks-day-at-fairytale-town-2/
LOCATION:Fairytale Town
CATEGORIES:Fairytale Town,March
END:VEVENT
BEGIN:VEVENT
DTSTART;TZID=America/Los_Angeles:20260313T170000
DTEND;TZID=America/Los_Angeles:20260313T210000
DTSTAMP:20260421T055720
CREATED:20260307T233719Z
LAST-MODIFIED:20260312T021251Z
UID:10001539-1773421200-1773435600@sactownsupermom.com
SUMMARY:Kid's Night Out: Mad Tea Party
DESCRIPTION:Parents can drop off kids ages 4-12 for a Mad Tea Party-themed night of fun and activities at Fairytale Town on Friday\, March 13\, 2026\, from 5-9pm. Kids will get to do activities\, crafts\, games\, have dinner\, and watch a movie while making new friends and participating in entertaining activities. \nA schedule of events is as follows: \n\n5-6pm: Check-in/Free Time\n6-6:30pm: Dinner\n6:30-7pm: Activity 1\n7-7:30pm: Activity 2\n7:30-8pm: Activity 3\n8-9pm: Movie and Free Play\n\nAll activities are supervised by the staff at Fairytale Town. Spaces are limited\, so register early.
URL:https://sactownsupermom.com/event/kids-night-out-mad-tea-party/
LOCATION:Fairytale Town
CATEGORIES:Fairytale Town,March 13-15
END:VEVENT
BEGIN:VEVENT
DTSTART;TZID=America/Los_Angeles:20260307T100000
DTEND;TZID=America/Los_Angeles:20260307T140000
DTSTAMP:20260421T055720
CREATED:20260215T212015Z
LAST-MODIFIED:20260304T042831Z
UID:10001482-1772877600-1772892000@sactownsupermom.com
SUMMARY:Festival of Colors Celebration (Fairytale Town)
DESCRIPTION:Fairytale Town will have a Festival of Colors Celebration on Saturday\, March 7\, 2026. There will be rangoli art\, a dance party\, and a color powder throw at 12pm. It’s recommended to wear white clothing for the color throw and all color powder is non-toxic and skin-safe.
URL:https://sactownsupermom.com/event/festival-of-colors-celebration-fairytale-town/
LOCATION:Fairytale Town
CATEGORIES:March,March 6-8
END:VEVENT
BEGIN:VEVENT
DTSTART;TZID=America/Los_Angeles:20260215T100000
DTEND;TZID=America/Los_Angeles:20260215T140000
DTSTAMP:20260421T055720
CREATED:20260108T201728Z
LAST-MODIFIED:20260211T053100Z
UID:10001321-1771149600-1771164000@sactownsupermom.com
SUMMARY:Lunar New Year at Fairytale Town
DESCRIPTION:A Lunar New Year celebration will occur at Fairytale Town in Land Park on Sunday\, February 15\, 2026. Kids can enjoy storytime inside the Story Center and participate in crafts. \nAdmission to Lunar New Year at Fairytale Town is included with weekend admission to Fairytale Town. \nNote that Fairytale Town will close in poor weather conditions. Call (916) 808-5233 to confirm if the event is happening.
URL:https://sactownsupermom.com/event/lunar-new-year-at-fairytale-town-2/
LOCATION:Fairytale Town
CATEGORIES:Feb 13-15,February,Lunar New Year
END:VEVENT
BEGIN:VEVENT
DTSTART;TZID=America/Los_Angeles:20251214T130000
DTEND;TZID=America/Los_Angeles:20251214T190000
DTSTAMP:20260421T055720
CREATED:20251112T065826Z
LAST-MODIFIED:20251204T173339Z
UID:10001014-1765717200-1765738800@sactownsupermom.com
SUMMARY:Winter Wonderland at Fairytale Town
DESCRIPTION:Fairytale Town will turn into a Winter Wonderland from December 6-7 and 13-14\, 2025. Expect a festive atmosphere with holiday-themed crafts and story times in the Story Center\, a holiday scavenger hunt\, games\, and photo ops with Santa Claus and the Grinch. Holiday lights will dazzle visitors beginning at dusk and a nightly snowfall will occur at 6pm near the Mother Goose stage.
URL:https://sactownsupermom.com/event/winter-wonderland-at-fairytale-town/2025-12-14/
LOCATION:Fairytale Town
CATEGORIES:Fairytale Town
END:VEVENT
BEGIN:VEVENT
DTSTART;TZID=America/Los_Angeles:20251102T100000
DTEND;TZID=America/Los_Angeles:20251102T150000
DTSTAMP:20260421T055720
CREATED:20251025T152227Z
LAST-MODIFIED:20251029T061202Z
UID:10000894-1762077600-1762095600@sactownsupermom.com
SUMMARY:Day of the Dead at Fairytale Town
DESCRIPTION:A Day of the Dead Celebration will take place on Sunday\, November 2\, 2025 at Fairytale Town. There will be face painting\, stories\, and crafting sugar skull masks. Families can add mementos to the ofrenda. A special dance performance will take place at 12pm and 1:30pm.
URL:https://sactownsupermom.com/event/day-of-the-dead-at-fairytale-town/
LOCATION:Fairytale Town
CATEGORIES:Dia de los Muertos,Nov 1-2,November
END:VEVENT
BEGIN:VEVENT
DTSTART;TZID=America/Los_Angeles:20251031T100000
DTEND;TZID=America/Los_Angeles:20251031T150000
DTSTAMP:20260421T055720
CREATED:20251003T043019Z
LAST-MODIFIED:20251003T043019Z
UID:10000806-1761904800-1761922800@sactownsupermom.com
SUMMARY:Halloween Fun at Fairytale Town
DESCRIPTION:Start off Halloween morning with a spooky dance party at Fairytale Town on Friday\, October 31\, 2025. There will be trick-or-treating and a scavenger hunt on Halloween.
URL:https://sactownsupermom.com/event/halloween-fun-at-fairytale-town/
LOCATION:Fairytale Town
CATEGORIES:Halloween
END:VEVENT
BEGIN:VEVENT
DTSTART;TZID=America/Los_Angeles:20251019T170000
DTEND;TZID=America/Los_Angeles:20251019T210000
DTSTAMP:20260421T055720
CREATED:20250921T045022Z
LAST-MODIFIED:20250921T045137Z
UID:10000694-1760893200-1760907600@sactownsupermom.com
SUMMARY:Safe & Super Halloween at Fairytale Town
DESCRIPTION:Safe & Super Halloween at Fairytale Town will occur October 11-12 & 17-19\, 2025. This beloved Land Park locale will transform into the world of Auradon and the Isle of the Lost. Kids will get to trick-or-treat and participate in interactive activities. Kids 2 and under are free.
URL:https://sactownsupermom.com/event/safe-super-halloween-at-fairytale-town/2025-10-19/
LOCATION:Fairytale Town
END:VEVENT
BEGIN:VEVENT
DTSTART;TZID=America/Los_Angeles:20250921T090000
DTEND;TZID=America/Los_Angeles:20250921T100000
DTSTAMP:20260421T055720
CREATED:20250831T021752Z
LAST-MODIFIED:20250831T021752Z
UID:10000605-1758445200-1758448800@sactownsupermom.com
SUMMARY:Dignity Health Dirty Kid Obstacle Race at Fairytale Town
DESCRIPTION:Kids ages 4-15 can participate in the Dignity Health Dirty Kid Obstacle Race at Fairytale Town on Sunday\, September 21\, 2025. Obstacles over and through Fairytale Town’s notable play structures will be a whole new way to experience this beloved Land Park attraction. \nRacer fees will include a family pass for 4  (including the racer) to Fairytale Town to stay and play after the race. \n\nAges 4-5 – A quarter mile race with 10 obstacles\nAges 6-15 – A half mile race with approximately 16 obstacles\nBoth races will include water wading and bubbles (no mud will be included at either race)\n\nRacers will be grouped together by ages for start times as follows – \n\nAges 6-7 – 9am\nAges 8-9 – 9:10am\nAges 10-15 – 9:20am\nAges 4-5 – 9:30am
URL:https://sactownsupermom.com/event/dignity-health-dirty-kid-obstacle-race-at-fairytale-town/
LOCATION:Fairytale Town
CATEGORIES:Fairytale Town,September
END:VEVENT
BEGIN:VEVENT
DTSTART;TZID=America/Los_Angeles:20250920T110000
DTEND;TZID=America/Los_Angeles:20250920T140000
DTSTAMP:20260421T055720
CREATED:20250825T044503Z
LAST-MODIFIED:20250825T044503Z
UID:10000558-1758366000-1758376800@sactownsupermom.com
SUMMARY:Ghostbusters Day at Fairytale Town
DESCRIPTION:Ghostbusters Day takes place at Fairytale Town on Saturday\, September 20\, 2025. There will be arts & crafts\, Ghostbusters games\, and surprises. This event is included with regular admission.
URL:https://sactownsupermom.com/event/ghostbusters-day-at-fairytale-town/
LOCATION:Fairytale Town
CATEGORIES:September
END:VEVENT
BEGIN:VEVENT
DTSTART;TZID=America/Los_Angeles:20250829T110000
DTEND;TZID=America/Los_Angeles:20250829T140000
DTSTAMP:20260421T055720
CREATED:20250802T022512Z
LAST-MODIFIED:20250828T051307Z
UID:10000501-1756465200-1756476000@sactownsupermom.com
SUMMARY:Humpty Dumpty's Birthday Celebration
DESCRIPTION:Join Fairytale Town as they celebrate their 66th birthday on Friday\, August 29\, 2025. Humpty Dumpty will lead a “Happy Birthday” sing-along at 12pm in the Story Center. There will be photo ops\, crafts\, and egg-themed games. \nThis event is included with regular museum admission.
URL:https://sactownsupermom.com/event/humpty-dumptys-birthday-celebration/
LOCATION:Fairytale Town
CATEGORIES:August,Fairytale Town
END:VEVENT
BEGIN:VEVENT
DTSTART;TZID=America/Los_Angeles:20250823T170000
DTEND;TZID=America/Los_Angeles:20250823T210000
DTSTAMP:20260421T055720
CREATED:20250820T043811Z
LAST-MODIFIED:20250820T043811Z
UID:10000536-1755968400-1755982800@sactownsupermom.com
SUMMARY:Tales & Ales Brewfest
DESCRIPTION:The Tales & Ales Brewfest will take place on Saturday\, August 23\, 2025 at Fairytale Town. Adults can enjoy beverages from local craft brews\, wineries\, and cideries\, while kids can enjoy root beer floats and hands-on activities. This is an all ages event. Food trucks will be on-site.
URL:https://sactownsupermom.com/event/tales-ales-brewfest/
LOCATION:Fairytale Town
CATEGORIES:Food
END:VEVENT
BEGIN:VEVENT
DTSTART;TZID=America/Los_Angeles:20250726T170000
DTEND;TZID=America/Los_Angeles:20250726T210000
DTSTAMP:20260421T055720
CREATED:20250625T203702Z
LAST-MODIFIED:20250625T203702Z
UID:10000391-1753549200-1753563600@sactownsupermom.com
SUMMARY:Early Learning: Family Fun & Playfest
DESCRIPTION:The Sacramento County Office of Education will host a free Family Fun & Playfest on Saturday July 26\, 2025 at Fairytale Town. Note that RSVPs are full for this event. However\, families are still welcome to attend\, they may just not receive educational materials or food without a registration. \nFamilies will be able to learn about available community resources while getting to play at Fairytale Town on a Saturday evening. This event is for ages 0-5 years old. \nThere will be interactive play stations\, read alouds\, developmental screening stations\, giveaways\, and more.
URL:https://sactownsupermom.com/event/early-learning-family-fun-playfest/
LOCATION:Fairytale Town
CATEGORIES:July
END:VEVENT
BEGIN:VEVENT
DTSTART;TZID=America/Los_Angeles:20250621T170000
DTEND;TZID=America/Los_Angeles:20250621T210000
DTSTAMP:20260421T055720
CREATED:20250523T034932Z
LAST-MODIFIED:20250523T034932Z
UID:10000261-1750525200-1750539600@sactownsupermom.com
SUMMARY:A Midsummer Night’s Dream & Crystal Ice Cream Fantasy
DESCRIPTION:An all-you-can-eat Crystal ice cream fantasy awaits during the evening of Saturday\, June 21\, 2025 at Fairytale Town. It will be a Midsummer Night’s Dream of ice cream combined with a comedic Shakespeare play. \nThe evening will include: \n\nIce cream tasting stations\nInteractive activities\nEnchanted marketplace\n\nFairy-themed or Renaissance costumes are encouraged for the event.
URL:https://sactownsupermom.com/event/a-midsummer-nights-dream-crystal-ice-cream-fantasy/
LOCATION:Fairytale Town
CATEGORIES:Fairytale Town,June
END:VEVENT
BEGIN:VEVENT
DTSTART;TZID=America/Los_Angeles:20250504T100000
DTEND;TZID=America/Los_Angeles:20250504T140000
DTSTAMP:20260421T055720
CREATED:20250425T034127Z
LAST-MODIFIED:20250425T034127Z
UID:10000218-1746352800-1746367200@sactownsupermom.com
SUMMARY:Star Wars Day at Fairytale Town
DESCRIPTION:Step into a galaxy far far away on Star Wars Day at Fairytale Town on Sunday\, May 4\, 2025. Costumed characters will be out in force. There will also be a game and interactive craft.
URL:https://sactownsupermom.com/event/star-wars-day-at-fairytale-town/
LOCATION:Fairytale Town
CATEGORIES:Fairytale Town,May
END:VEVENT
BEGIN:VEVENT
DTSTART;TZID=America/Los_Angeles:20250428T100000
DTEND;TZID=America/Los_Angeles:20250428T140000
DTSTAMP:20260421T055720
CREATED:20250313T044447Z
LAST-MODIFIED:20250313T044447Z
UID:10000115-1745834400-1745848800@sactownsupermom.com
SUMMARY:Superhero Day at Fairytale Town
DESCRIPTION:Dress up as your favorite superhero and head to Fairtytale Town for Superhero Day on Monday\, April 28\, 2025. \nThere will be a superhero craft\, and meet and greets with superheroes. Costumes encouraged\, especially ones with capes and masks. \nSuperhero Day is included with Fairytale Town admission. Kids dressed up will receive half off one child admission with one paid adult ticket.
URL:https://sactownsupermom.com/event/superhero-day-at-fairytale-town/
LOCATION:Fairytale Town
CATEGORIES:Fairytale Town
END:VEVENT
BEGIN:VEVENT
DTSTART;TZID=America/Los_Angeles:20250419T090000
DTEND;TZID=America/Los_Angeles:20250420T160000
DTSTAMP:20260421T055720
CREATED:20250314T031216Z
LAST-MODIFIED:20260307T235219Z
UID:10000130-1745053200-1745164800@sactownsupermom.com
SUMMARY:Spring Eggstravaganza at Fairytale Town
DESCRIPTION:Fairytale Town will have a two-day Spring Eggstravaganza with egg hunts\, Peter Cottontail\, and spring-themed family fun on Saturday and Sunday\, April 19 & 20\, 2025. \nTake your own photos with Peter Cottontail on the Mother Goose Stage from 10am to 3pm. Egg hunts will occur throughout the day on the Mother Goose lawn. Don’t forget to bring your own Easter basket for the egg hunt! \nA Bunny Boot Camp puppet show will also take place inside the Children’s Theater at 11:30am and 12:30pm. The puppet show is included with event admission. \nAdvance tickets are $15\, while day of tickets are $18. \n 
URL:https://sactownsupermom.com/event/spring-eggstravaganza-at-fairytale-town/
LOCATION:Fairytale Town
CATEGORIES:Fairytale Town
END:VEVENT
BEGIN:VEVENT
DTSTART;TZID=America/Los_Angeles:20250317T100000
DTEND;TZID=America/Los_Angeles:20250317T150000
DTSTAMP:20260421T055720
CREATED:20250207T170946Z
LAST-MODIFIED:20260224T004151Z
UID:10000087-1742205600-1742223600@sactownsupermom.com
SUMMARY:St. Patrick's Day at Fairytale Town
DESCRIPTION:Fairytale Town will have a kid-friendly St. Patrick’s Day Celebration on Monday\, March 17\, 2025\, from 10am to 3pm. \nKids can participate in a scavenger hunt to search for a pot of gold\, and may even run into a leprechaun. There will also be hands-on activities\, like crafts. Don’t forget to wear your green! \nThe St. Patrick’s Day Celebration is included with regular Fairytale admission. Check the official venue website for weather updates.
URL:https://sactownsupermom.com/event/st-patricks-day-at-fairytale-town/
LOCATION:Fairytale Town
CATEGORIES:Fairytale Town
END:VEVENT
BEGIN:VEVENT
DTSTART;TZID=America/Los_Angeles:20250315T100000
DTEND;TZID=America/Los_Angeles:20250315T150000
DTSTAMP:20260421T055720
CREATED:20250207T164319Z
LAST-MODIFIED:20260215T210037Z
UID:10000086-1742032800-1742050800@sactownsupermom.com
SUMMARY:Holi Celebration at Fairytale Town
DESCRIPTION:Fairytale Town will celebrate Holi\, a festival of colors\, on Saturday\, March 15\, 2025\, from 10am to 3pm. \nThe Holi Celebration is included with regular Fairytale admission. Check the official website venue for weather updates.
URL:https://sactownsupermom.com/event/holi-celebration-at-fairytale-town/
LOCATION:Fairytale Town
CATEGORIES:Fairytale Town
END:VEVENT
BEGIN:VEVENT
DTSTART;TZID=America/Los_Angeles:20250302T100000
DTEND;TZID=America/Los_Angeles:20250302T150000
DTSTAMP:20260421T055720
CREATED:20250204T054654Z
LAST-MODIFIED:20260215T160051Z
UID:10000081-1740909600-1740927600@sactownsupermom.com
SUMMARY:Read Across America Celebration
DESCRIPTION:Fairytale Town will celebrate Read Across America week on Sunday\, March 2\, 2025. Kids can participate in literacy-themed activities\, and arts and crafts. \nThere will also be a nonstop reading of beloved children’s books on the Mother Goose Stage. \nThe Read Across America Celebration is included with regular Fairytale Town admission. Check the official Fairytale Town website for event weather updates.
URL:https://sactownsupermom.com/event/read-across-america-celebration/
LOCATION:Fairytale Town
CATEGORIES:Fairytale Town
END:VEVENT
BEGIN:VEVENT
DTSTART;TZID=America/Los_Angeles:20250228T173000
DTEND;TZID=America/Los_Angeles:20250228T210000
DTSTAMP:20260421T055720
CREATED:20250120T150327Z
LAST-MODIFIED:20250120T150327Z
UID:10000035-1740763800-1740776400@sactownsupermom.com
SUMMARY:Kid's Night Out (Taylor's Version)
DESCRIPTION:Parents can drop off kids ages 4-12 for a Taylor Swift-themed night of fun and activities at Fairytale Town on Friday\, February 28\, 2025\, from 5:30-9pm. \nKids can shake it off with dance parties\, craft friendship bracelets\, enjoy dinner\, and fun while making new friends and participating in entertaining activities. \nA schedule of events is as follows: \n\n5-6pm: Check-in/Free Time\n6-6:30pm: Dinner\n6:30-7pm: Activity 1\n7-7:30pm: Activity 2\n7:30-8pm: Activity 3\n8-9pm: Movie and Free Play\n\nAll activities are supervised by the staff at Fairytale Town. \nSpaces are limited\, so register early.
URL:https://sactownsupermom.com/event/kids-night-out-taylors-version/
LOCATION:Fairytale Town
CATEGORIES:Fairytale Town
END:VEVENT
BEGIN:VEVENT
DTSTART;TZID=America/Los_Angeles:20250208T100000
DTEND;TZID=America/Los_Angeles:20250208T140000
DTSTAMP:20260421T055720
CREATED:20250120T145534Z
LAST-MODIFIED:20250120T151829Z
UID:10000034-1739008800-1739023200@sactownsupermom.com
SUMMARY:Neverland Day at Fairytale Town
DESCRIPTION:Kids can fly away to Neverland for a day with a little bit of pixie dust at Fairytale Town on Saturday\, February 8\, 2025. Games\, arts and crafts\, and other magical surprises will await kids on this fun adventure-fueled day. \nRegular weekend Fairytale Town admission applies to the event. \nNote that this event is weather-dependent. Check the Fairytale Town social media channels for potential weather updates.
URL:https://sactownsupermom.com/event/neverland-day-at-fairytale-town/
LOCATION:Fairytale Town
CATEGORIES:Fairytale Town
END:VEVENT
BEGIN:VEVENT
DTSTART;TZID=America/Los_Angeles:20250201T100000
DTEND;TZID=America/Los_Angeles:20250201T140000
DTSTAMP:20260421T055720
CREATED:20250107T203206Z
LAST-MODIFIED:20260201T050727Z
UID:10000010-1738404000-1738418400@sactownsupermom.com
SUMMARY:Lunar New Year at Fairytale Town
DESCRIPTION:A Lunar New Year celebration will occur at Fairytale Town in Land Park on Saturday\, February 1\, 2025. Kids can enjoy storytime inside the Story Center and participate in crafts. \nAdmission to Lunar New Year at Fairytale Town is included with weekend admission to Fairytale Town. \nNote that Fairytale Town will close in poor weather conditions. Call (916) 808-5233 to confirm if the event is happening.
URL:https://sactownsupermom.com/event/lunar-new-year-at-fairytale-town/
LOCATION:Fairytale Town
END:VEVENT
END:VCALENDAR