BEGIN:VCALENDAR
VERSION:2.0
PRODID:-//Sactown Supermom - ECPv6.15.20//NONSGML v1.0//EN
CALSCALE:GREGORIAN
METHOD:PUBLISH
X-ORIGINAL-URL:https://sactownsupermom.com
X-WR-CALDESC:Events for Sactown Supermom
REFRESH-INTERVAL;VALUE=DURATION:PT1H
X-Robots-Tag:noindex
X-PUBLISHED-TTL:PT1H
BEGIN:VTIMEZONE
TZID:America/Los_Angeles
BEGIN:DAYLIGHT
TZOFFSETFROM:-0800
TZOFFSETTO:-0700
TZNAME:PDT
DTSTART:20250309T100000
END:DAYLIGHT
BEGIN:STANDARD
TZOFFSETFROM:-0700
TZOFFSETTO:-0800
TZNAME:PST
DTSTART:20251102T090000
END:STANDARD
BEGIN:DAYLIGHT
TZOFFSETFROM:-0800
TZOFFSETTO:-0700
TZNAME:PDT
DTSTART:20260308T100000
END:DAYLIGHT
BEGIN:STANDARD
TZOFFSETFROM:-0700
TZOFFSETTO:-0800
TZNAME:PST
DTSTART:20261101T090000
END:STANDARD
BEGIN:DAYLIGHT
TZOFFSETFROM:-0800
TZOFFSETTO:-0700
TZNAME:PDT
DTSTART:20270314T100000
END:DAYLIGHT
BEGIN:STANDARD
TZOFFSETFROM:-0700
TZOFFSETTO:-0800
TZNAME:PST
DTSTART:20271107T090000
END:STANDARD
END:VTIMEZONE
BEGIN:VEVENT
DTSTART;TZID=America/Los_Angeles:20260221T160000
DTEND;TZID=America/Los_Angeles:20260221T180000
DTSTAMP:20260421T042532
CREATED:20260209T074523Z
LAST-MODIFIED:20260209T074523Z
UID:10001459-1771689600-1771696800@sactownsupermom.com
SUMMARY:Princess Pink Party (Lincoln)
DESCRIPTION:Megan Ashley’s Princess Pink Party will take place on Saturday\, February 21\, 2026 at Expressions Academy of Dance in Lincoln. The afternoon will include princess songs\, dancing\, glitter tattoos\, face painting\, princesses\, and more.
URL:https://sactownsupermom.com/event/princess-pink-party-lincoln/
LOCATION:Expressions Academy of Dance\, 780 Sterling Parkway #30\, Lincoln\, CA\, 95648
CATEGORIES:Lincoln
END:VEVENT
END:VCALENDAR