BEGIN:VCALENDAR
VERSION:2.0
PRODID:-//Sactown Supermom - ECPv6.15.20//NONSGML v1.0//EN
CALSCALE:GREGORIAN
METHOD:PUBLISH
X-ORIGINAL-URL:https://sactownsupermom.com
X-WR-CALDESC:Events for Sactown Supermom
REFRESH-INTERVAL;VALUE=DURATION:PT1H
X-Robots-Tag:noindex
X-PUBLISHED-TTL:PT1H
BEGIN:VTIMEZONE
TZID:America/Los_Angeles
BEGIN:DAYLIGHT
TZOFFSETFROM:-0800
TZOFFSETTO:-0700
TZNAME:PDT
DTSTART:20240310T100000
END:DAYLIGHT
BEGIN:STANDARD
TZOFFSETFROM:-0700
TZOFFSETTO:-0800
TZNAME:PST
DTSTART:20241103T090000
END:STANDARD
BEGIN:DAYLIGHT
TZOFFSETFROM:-0800
TZOFFSETTO:-0700
TZNAME:PDT
DTSTART:20250309T100000
END:DAYLIGHT
BEGIN:STANDARD
TZOFFSETFROM:-0700
TZOFFSETTO:-0800
TZNAME:PST
DTSTART:20251102T090000
END:STANDARD
BEGIN:DAYLIGHT
TZOFFSETFROM:-0800
TZOFFSETTO:-0700
TZNAME:PDT
DTSTART:20260308T100000
END:DAYLIGHT
BEGIN:STANDARD
TZOFFSETFROM:-0700
TZOFFSETTO:-0800
TZNAME:PST
DTSTART:20261101T090000
END:STANDARD
END:VTIMEZONE
BEGIN:VEVENT
DTSTART;TZID=America/Los_Angeles:20250914T093000
DTEND;TZID=America/Los_Angeles:20250914T113000
DTSTAMP:20260421T110635
CREATED:20250826T225616Z
LAST-MODIFIED:20250826T225616Z
UID:10000565-1757842200-1757849400@sactownsupermom.com
SUMMARY:Wiggle Worms Pop-Up
DESCRIPTION:Wiggle Worms will have a pop-up play session on Sunday\, September 14\, 2025 at Emile “Whitey” Boisclair Park. There will be songs\, nature exploration\, story time\, and lots of play. Sessions are for kids ages 2-9\, and a parent or caregiver must be present the whole time.
URL:https://sactownsupermom.com/event/wiggle-worms-pop-up/
LOCATION:Emile “Whitey” Boisclair Park\, 728 Lake Washington Boulevard\, West Sacramento\, CA\, 95691
CATEGORIES:Free
END:VEVENT
END:VCALENDAR