BEGIN:VCALENDAR
VERSION:2.0
PRODID:-//Sactown Supermom - ECPv6.15.20//NONSGML v1.0//EN
CALSCALE:GREGORIAN
METHOD:PUBLISH
X-ORIGINAL-URL:https://sactownsupermom.com
X-WR-CALDESC:Events for Sactown Supermom
REFRESH-INTERVAL;VALUE=DURATION:PT1H
X-Robots-Tag:noindex
X-PUBLISHED-TTL:PT1H
BEGIN:VTIMEZONE
TZID:America/Los_Angeles
BEGIN:DAYLIGHT
TZOFFSETFROM:-0800
TZOFFSETTO:-0700
TZNAME:PDT
DTSTART:20240310T100000
END:DAYLIGHT
BEGIN:STANDARD
TZOFFSETFROM:-0700
TZOFFSETTO:-0800
TZNAME:PST
DTSTART:20241103T090000
END:STANDARD
BEGIN:DAYLIGHT
TZOFFSETFROM:-0800
TZOFFSETTO:-0700
TZNAME:PDT
DTSTART:20250309T100000
END:DAYLIGHT
BEGIN:STANDARD
TZOFFSETFROM:-0700
TZOFFSETTO:-0800
TZNAME:PST
DTSTART:20251102T090000
END:STANDARD
BEGIN:DAYLIGHT
TZOFFSETFROM:-0800
TZOFFSETTO:-0700
TZNAME:PDT
DTSTART:20260308T100000
END:DAYLIGHT
BEGIN:STANDARD
TZOFFSETFROM:-0700
TZOFFSETTO:-0800
TZNAME:PST
DTSTART:20261101T090000
END:STANDARD
BEGIN:DAYLIGHT
TZOFFSETFROM:-0800
TZOFFSETTO:-0700
TZNAME:PDT
DTSTART:20270314T100000
END:DAYLIGHT
BEGIN:STANDARD
TZOFFSETFROM:-0700
TZOFFSETTO:-0800
TZNAME:PST
DTSTART:20271107T090000
END:STANDARD
END:VTIMEZONE
BEGIN:VEVENT
DTSTART;TZID=America/Los_Angeles:20260328T130000
DTEND;TZID=America/Los_Angeles:20260328T193000
DTSTAMP:20260421T013830
CREATED:20260326T042422Z
LAST-MODIFIED:20260326T042422Z
UID:10001633-1774702800-1774726200@sactownsupermom.com
SUMMARY:Easter Event at Elys Play House
DESCRIPTION:Join the Easter fun at Elys Play House on Saturday\, March 28\, 2026 in Citrus Heights. For $20\, kids can participate in an egg hunt\, visit with the Easter bunny\, have pizza and juice\, and enjoy open play. \nTo reserve a spot for this event\, email timetoplay@elysplayhouse.com. $20 admission price includes 1 adult.
URL:https://sactownsupermom.com/event/easter-event-at-elys-play-house/
LOCATION:Ely’s Play House\, 7777 Sunrise Blvd Ste 1700\, Citrus Heights\, CA\, 95610
CATEGORIES:Easter Egg Hunts,March 27-29
END:VEVENT
BEGIN:VEVENT
DTSTART;TZID=America/Los_Angeles:20260315T133000
DTEND;TZID=America/Los_Angeles:20260315T153000
DTSTAMP:20260421T013830
CREATED:20260224T031152Z
LAST-MODIFIED:20260312T021708Z
UID:10001494-1773581400-1773588600@sactownsupermom.com
SUMMARY:St. Patrick's Day at Elys Play House
DESCRIPTION:Celebrate St. Patrick’s Day at Elys Play House in Citrus Heights on Sunday\, March 15\, 2026. Kids will get to go on a gold treasure hunt\, see the Heeler sisters\, do a paint project\, enjoy open play\, and will receive a goodie bag. Spots to attend the event must be reserved by emailing timetoplay@elysplayhouse.com. \nPrice is $15\, but increases to $18 after March 10. \nEvent Schedule: \n\n1:30-2pm – Search for Gold\n2-3:30pm – Heeler Sisters & Playtime
URL:https://sactownsupermom.com/event/st-patricks-day-at-elys-play-house/
LOCATION:Ely’s Play House\, 7777 Sunrise Blvd Ste 1700\, Citrus Heights\, CA\, 95610
CATEGORIES:March,March 13-15
END:VEVENT
BEGIN:VEVENT
DTSTART;TZID=America/Los_Angeles:20260306T173000
DTEND;TZID=America/Los_Angeles:20260306T183000
DTSTAMP:20260421T013830
CREATED:20260304T035544Z
LAST-MODIFIED:20260304T193023Z
UID:10001525-1772818200-1772821800@sactownsupermom.com
SUMMARY:Heeler Sisters at Ely's Play House
DESCRIPTION:Kids can visit with the Heeler Sisters on Friday\, March 6\, 2026 at Ely’s Play House in Citrus Heights. Take photos with Bluey and Bingo and enjoy a fun evening of play. This event is included with admission.
URL:https://sactownsupermom.com/event/heeler-sisters-at-elys-play-house/
LOCATION:Ely’s Play House\, 7777 Sunrise Blvd Ste 1700\, Citrus Heights\, CA\, 95610
CATEGORIES:March 6-8
END:VEVENT
BEGIN:VEVENT
DTSTART;TZID=America/Los_Angeles:20250419T093000
DTEND;TZID=America/Los_Angeles:20250419T120000
DTSTAMP:20260421T013830
CREATED:20250330T000916Z
LAST-MODIFIED:20260309T061216Z
UID:10000176-1745055000-1745064000@sactownsupermom.com
SUMMARY:Ely's Play House Easter Bunny Breakfast
DESCRIPTION:Breakfast with the Easter Bunny and Snow White will take place at Ely’s Play House in Citrus Heights on Saturday\, April 19\, 2025 from 9:30am to 12pm. The morning will also include character photos and an egg hunt. \nBreakfast will begin at 9:30am and include fare such as waffles\, bagels\, donuts\, coffee\, and cocoa. Photos with the Easter Bunny and Snow White will take place from 9:30-10am. \nThe egg hunt will take place from 10-10:30am.
URL:https://sactownsupermom.com/event/elys-play-house-easter-bunny-breakfast/
LOCATION:Ely’s Play House\, 7777 Sunrise Blvd Ste 1700\, Citrus Heights\, CA\, 95610
END:VEVENT
BEGIN:VEVENT
DTSTART;TZID=America/Los_Angeles:20250411T170000
DTEND;TZID=America/Los_Angeles:20250411T193000
DTSTAMP:20260421T013830
CREATED:20250318T021531Z
LAST-MODIFIED:20260309T064901Z
UID:10000143-1744390800-1744399800@sactownsupermom.com
SUMMARY:Glow in the Dark Easter Egg Hunt
DESCRIPTION:Find eggs in the dark at a Glow in the Dark Easter Egg Hunt at Ely’s Play House in Citrus Heights on Friday\, April 11\, 2025. \nIn addition to the unique indoor egg hunt\, $20 per child will include: \n\nA goodie bag that includes eggs to take home\nA visit with the Easter Bunny\nPlay time at the play space\n\nAdvance registration is required to participate. \n 
URL:https://sactownsupermom.com/event/glow-in-the-dark-easter-egg-hunt/
LOCATION:Ely’s Play House\, 7777 Sunrise Blvd Ste 1700\, Citrus Heights\, CA\, 95610
END:VEVENT
END:VCALENDAR