BEGIN:VCALENDAR
VERSION:2.0
PRODID:-//Sactown Supermom - ECPv6.15.20//NONSGML v1.0//EN
CALSCALE:GREGORIAN
METHOD:PUBLISH
X-WR-CALNAME:Sactown Supermom
X-ORIGINAL-URL:https://sactownsupermom.com
X-WR-CALDESC:Events for Sactown Supermom
REFRESH-INTERVAL;VALUE=DURATION:PT1H
X-Robots-Tag:noindex
X-PUBLISHED-TTL:PT1H
BEGIN:VTIMEZONE
TZID:America/Los_Angeles
BEGIN:DAYLIGHT
TZOFFSETFROM:-0800
TZOFFSETTO:-0700
TZNAME:PDT
DTSTART:20240310T100000
END:DAYLIGHT
BEGIN:STANDARD
TZOFFSETFROM:-0700
TZOFFSETTO:-0800
TZNAME:PST
DTSTART:20241103T090000
END:STANDARD
BEGIN:DAYLIGHT
TZOFFSETFROM:-0800
TZOFFSETTO:-0700
TZNAME:PDT
DTSTART:20250309T100000
END:DAYLIGHT
BEGIN:STANDARD
TZOFFSETFROM:-0700
TZOFFSETTO:-0800
TZNAME:PST
DTSTART:20251102T090000
END:STANDARD
BEGIN:DAYLIGHT
TZOFFSETFROM:-0800
TZOFFSETTO:-0700
TZNAME:PDT
DTSTART:20260308T100000
END:DAYLIGHT
BEGIN:STANDARD
TZOFFSETFROM:-0700
TZOFFSETTO:-0800
TZNAME:PST
DTSTART:20261101T090000
END:STANDARD
END:VTIMEZONE
BEGIN:VEVENT
DTSTART;TZID=America/Los_Angeles:20251125T083000
DTEND;TZID=America/Los_Angeles:20251125T160000
DTSTAMP:20260419T092207
CREATED:20251118T061045Z
LAST-MODIFIED:20251118T061045Z
UID:10001079-1764059400-1764086400@sactownsupermom.com
SUMMARY:Holiday Food Distribution (Elica Health Centers)
DESCRIPTION:A free Holiday Food Distribution will take place on Tuesday\, November 25\, 2025 in North Highlands. Food boxes and gift cards will be available at the event (no frozen turkeys). Limited to 1 family while supplies last starting at 8:30am.
URL:https://sactownsupermom.com/event/holiday-food-distribution-elica-health-centers/
LOCATION:Elica Resource Center\, 5735 Watt Ave.\, North Highlands\, CA\, 95660
CATEGORIES:Turkey Giveaways
END:VEVENT
END:VCALENDAR