BEGIN:VCALENDAR
VERSION:2.0
PRODID:-//Sactown Supermom - ECPv6.15.20//NONSGML v1.0//EN
CALSCALE:GREGORIAN
METHOD:PUBLISH
X-ORIGINAL-URL:https://sactownsupermom.com
X-WR-CALDESC:Events for Sactown Supermom
REFRESH-INTERVAL;VALUE=DURATION:PT1H
X-Robots-Tag:noindex
X-PUBLISHED-TTL:PT1H
BEGIN:VTIMEZONE
TZID:America/Los_Angeles
BEGIN:DAYLIGHT
TZOFFSETFROM:-0800
TZOFFSETTO:-0700
TZNAME:PDT
DTSTART:20250309T100000
END:DAYLIGHT
BEGIN:STANDARD
TZOFFSETFROM:-0700
TZOFFSETTO:-0800
TZNAME:PST
DTSTART:20251102T090000
END:STANDARD
BEGIN:DAYLIGHT
TZOFFSETFROM:-0800
TZOFFSETTO:-0700
TZNAME:PDT
DTSTART:20260308T100000
END:DAYLIGHT
BEGIN:STANDARD
TZOFFSETFROM:-0700
TZOFFSETTO:-0800
TZNAME:PST
DTSTART:20261101T090000
END:STANDARD
BEGIN:DAYLIGHT
TZOFFSETFROM:-0800
TZOFFSETTO:-0700
TZNAME:PDT
DTSTART:20270314T100000
END:DAYLIGHT
BEGIN:STANDARD
TZOFFSETFROM:-0700
TZOFFSETTO:-0800
TZNAME:PST
DTSTART:20271107T090000
END:STANDARD
END:VTIMEZONE
BEGIN:VEVENT
DTSTART;TZID=America/Los_Angeles:20260328T130000
DTEND;TZID=America/Los_Angeles:20260328T150000
DTSTAMP:20260421T053346
CREATED:20260309T060418Z
LAST-MODIFIED:20260325T210700Z
UID:10001573-1774702800-1774710000@sactownsupermom.com
SUMMARY:Aqua Egg Hunt (El Dorado Hills)
DESCRIPTION:Splash into an Aqua Egg Hunt on Saturday\, March 28\, 2026 at Community Pool in El Dorado Hills. The Easter bunny will also be available at the event for photos. This event requires registration.
URL:https://sactownsupermom.com/event/aqua-egg-hunt-el-dorado-hills/
LOCATION:EDH Community Pool\, 1021 Harvard Way\, El Dorado Hills\, CA\, 95762
CATEGORIES:Easter Egg Hunts,March 27-29
END:VEVENT
END:VCALENDAR