BEGIN:VCALENDAR
VERSION:2.0
PRODID:-//Sactown Supermom - ECPv6.15.20//NONSGML v1.0//EN
CALSCALE:GREGORIAN
METHOD:PUBLISH
X-WR-CALNAME:Sactown Supermom
X-ORIGINAL-URL:https://sactownsupermom.com
X-WR-CALDESC:Events for Sactown Supermom
REFRESH-INTERVAL;VALUE=DURATION:PT1H
X-Robots-Tag:noindex
X-PUBLISHED-TTL:PT1H
BEGIN:VTIMEZONE
TZID:America/Los_Angeles
BEGIN:DAYLIGHT
TZOFFSETFROM:-0800
TZOFFSETTO:-0700
TZNAME:PDT
DTSTART:20240310T100000
END:DAYLIGHT
BEGIN:STANDARD
TZOFFSETFROM:-0700
TZOFFSETTO:-0800
TZNAME:PST
DTSTART:20241103T090000
END:STANDARD
BEGIN:DAYLIGHT
TZOFFSETFROM:-0800
TZOFFSETTO:-0700
TZNAME:PDT
DTSTART:20250309T100000
END:DAYLIGHT
BEGIN:STANDARD
TZOFFSETFROM:-0700
TZOFFSETTO:-0800
TZNAME:PST
DTSTART:20251102T090000
END:STANDARD
BEGIN:DAYLIGHT
TZOFFSETFROM:-0800
TZOFFSETTO:-0700
TZNAME:PDT
DTSTART:20260308T100000
END:DAYLIGHT
BEGIN:STANDARD
TZOFFSETFROM:-0700
TZOFFSETTO:-0800
TZNAME:PST
DTSTART:20261101T090000
END:STANDARD
END:VTIMEZONE
BEGIN:VEVENT
DTSTART;TZID=America/Los_Angeles:20251206T130000
DTEND;TZID=America/Los_Angeles:20251206T210000
DTSTAMP:20260421T083907
CREATED:20251121T060109Z
LAST-MODIFIED:20251204T071451Z
UID:10001116-1765026000-1765054800@sactownsupermom.com
SUMMARY:Winters Lighted Tractor Parade
DESCRIPTION:The annual Winters Lighted Tractor Parade will take place on Saturday\, December 6\, 2025. The parade will begin at 6pm in downtown Winters. There will be family-friendly holiday activities during the day before the parade beginning at 1pm. \n  \n 
URL:https://sactownsupermom.com/event/winters-lighted-tractor-parade/
LOCATION:Downtown Winters\, Winters\, CA
CATEGORIES:Christmas Parades,Dec 5-7
END:VEVENT
END:VCALENDAR