BEGIN:VCALENDAR
VERSION:2.0
PRODID:-//Sactown Supermom - ECPv6.15.20//NONSGML v1.0//EN
CALSCALE:GREGORIAN
METHOD:PUBLISH
X-WR-CALNAME:Sactown Supermom
X-ORIGINAL-URL:https://sactownsupermom.com
X-WR-CALDESC:Events for Sactown Supermom
REFRESH-INTERVAL;VALUE=DURATION:PT1H
X-Robots-Tag:noindex
X-PUBLISHED-TTL:PT1H
BEGIN:VTIMEZONE
TZID:America/Los_Angeles
BEGIN:DAYLIGHT
TZOFFSETFROM:-0800
TZOFFSETTO:-0700
TZNAME:PDT
DTSTART:20250309T100000
END:DAYLIGHT
BEGIN:STANDARD
TZOFFSETFROM:-0700
TZOFFSETTO:-0800
TZNAME:PST
DTSTART:20251102T090000
END:STANDARD
BEGIN:DAYLIGHT
TZOFFSETFROM:-0800
TZOFFSETTO:-0700
TZNAME:PDT
DTSTART:20260308T100000
END:DAYLIGHT
BEGIN:STANDARD
TZOFFSETFROM:-0700
TZOFFSETTO:-0800
TZNAME:PST
DTSTART:20261101T090000
END:STANDARD
BEGIN:DAYLIGHT
TZOFFSETFROM:-0800
TZOFFSETTO:-0700
TZNAME:PDT
DTSTART:20270314T100000
END:DAYLIGHT
BEGIN:STANDARD
TZOFFSETFROM:-0700
TZOFFSETTO:-0800
TZNAME:PST
DTSTART:20271107T090000
END:STANDARD
END:VTIMEZONE
BEGIN:VEVENT
DTSTART;TZID=America/Los_Angeles:20260321T090000
DTEND;TZID=America/Los_Angeles:20260321T163000
DTSTAMP:20260421T013849
CREATED:20260306T205352Z
LAST-MODIFIED:20260318T224435Z
UID:10001528-1774083600-1774110600@sactownsupermom.com
SUMMARY:Peter Rabbit Ballet Camps (Sacramento)
DESCRIPTION:Dancers ages 4-6 and 7-10 can participate in a Peter Rabbit Ballet Day Camp on Saturday\, March 21\, 2026 at the Davis Arts Center. In advance of the Sacramento Ballet’s Second Company upcoming performances of Peter Rabbit\, dancers can learn ballet technique exploring characters from the production while making crafts. There will also be a mini performance at the end of the day. \nPeter Rabbit Ballet Camps Details: \n\nAges 4-6: 9am-12pm\nAges 7-10: 1-4:30pm\n\nDancers will need the following for camp: \n\nSnack\nWater\nWear a leotard\, tights\nBallet slippers\n\nStudents participating in the Peter Rabbit Ballet Camps can purchase discounted tickets to the upcoming Peter Rabbit Sacramento Ballet Family Series performances taking place April 11 & 12\, 2026 at C.K. McClatchy Auditorium.
URL:https://sactownsupermom.com/event/peter-rabbit-ballet-camps-sacramento-2/
LOCATION:Davis Arts Center\, 1919 F St\, Davis\, CA\, 95616
CATEGORIES:Ballet,March 20-22
END:VEVENT
BEGIN:VEVENT
DTSTART;TZID=America/Los_Angeles:20260207T090000
DTEND;TZID=America/Los_Angeles:20260207T163000
DTSTAMP:20260421T013849
CREATED:20260127T174352Z
LAST-MODIFIED:20260203T235926Z
UID:10001366-1770454800-1770481800@sactownsupermom.com
SUMMARY:Sleeping Beauty Ballet Camps (Davis)
DESCRIPTION:Dancers ages 4-6 and 7-10 can participate in a Sleeping Beauty Ballet Day Camp on Saturday\, February 7\, 2026 at the Davis Arts Center. In advance of the Sacramento Ballet’s upcoming performances of The Sleeping Beauty\, dancers can learn ballet technique exploring characters from the production while making crafts. There will also be a mini performance at the end of the day. \nSleeping Beauty Ballet Camps Details: \n\nAges 4-6: 9am-12pm\nAges 7-10: 1-4:30pm\n\nDancers will need the following for camp: \n\nSnack\nWater\nWear a leotard\, tights\nBallet slippers\n\nStudents participating in the Sleeping Beauty Ballet Camps can purchase discounted tickets to the upcoming The Sleeping Beauty Sacramento Ballet performances taking place February 13-15\, 2026 at the SAFE Credit Union Performing Arts Center.
URL:https://sactownsupermom.com/event/sleeping-beauty-ballet-camps-davis/
LOCATION:Davis Arts Center\, 1919 F St\, Davis\, CA\, 95616
CATEGORIES:Ballet,Feb 6-8
END:VEVENT
END:VCALENDAR