BEGIN:VCALENDAR
VERSION:2.0
PRODID:-//Sactown Supermom - ECPv6.15.20//NONSGML v1.0//EN
CALSCALE:GREGORIAN
METHOD:PUBLISH
X-WR-CALNAME:Sactown Supermom
X-ORIGINAL-URL:https://sactownsupermom.com
X-WR-CALDESC:Events for Sactown Supermom
REFRESH-INTERVAL;VALUE=DURATION:PT1H
X-Robots-Tag:noindex
X-PUBLISHED-TTL:PT1H
BEGIN:VTIMEZONE
TZID:America/Los_Angeles
BEGIN:DAYLIGHT
TZOFFSETFROM:-0800
TZOFFSETTO:-0700
TZNAME:PDT
DTSTART:20240310T100000
END:DAYLIGHT
BEGIN:STANDARD
TZOFFSETFROM:-0700
TZOFFSETTO:-0800
TZNAME:PST
DTSTART:20241103T090000
END:STANDARD
BEGIN:DAYLIGHT
TZOFFSETFROM:-0800
TZOFFSETTO:-0700
TZNAME:PDT
DTSTART:20250309T100000
END:DAYLIGHT
BEGIN:STANDARD
TZOFFSETFROM:-0700
TZOFFSETTO:-0800
TZNAME:PST
DTSTART:20251102T090000
END:STANDARD
BEGIN:DAYLIGHT
TZOFFSETFROM:-0800
TZOFFSETTO:-0700
TZNAME:PDT
DTSTART:20260308T100000
END:DAYLIGHT
BEGIN:STANDARD
TZOFFSETFROM:-0700
TZOFFSETTO:-0800
TZNAME:PST
DTSTART:20261101T090000
END:STANDARD
END:VTIMEZONE
BEGIN:VEVENT
DTSTART;TZID=America/Los_Angeles:20251017T170000
DTEND;TZID=America/Los_Angeles:20251017T200000
DTSTAMP:20260422T030424
CREATED:20251014T052453Z
LAST-MODIFIED:20251014T052453Z
UID:10000851-1760720400-1760731200@sactownsupermom.com
SUMMARY:The Great Trunk-or-Treat 2025
DESCRIPTION:The Great Trunk-or-Treat 2025 takes place on Friday\, October 17\, 2025 in Cameron Park. This is a free Halloween event for kids that will have a trunk-or-treat\, Franken-sweets walk\, and a costume contest. While this is a free event\, pre-registration is required by October 15\, 2025.
URL:https://sactownsupermom.com/event/the-great-trunk-or-treat-2025/
LOCATION:Cameron Park CSD Campus\, Cameron Park\, CA\, 95682
CATEGORIES:Free Halloween
END:VEVENT
END:VCALENDAR