BEGIN:VCALENDAR
VERSION:2.0
PRODID:-//Sactown Supermom - ECPv6.15.20//NONSGML v1.0//EN
CALSCALE:GREGORIAN
METHOD:PUBLISH
X-ORIGINAL-URL:https://sactownsupermom.com
X-WR-CALDESC:Events for Sactown Supermom
REFRESH-INTERVAL;VALUE=DURATION:PT1H
X-Robots-Tag:noindex
X-PUBLISHED-TTL:PT1H
BEGIN:VTIMEZONE
TZID:America/Los_Angeles
BEGIN:DAYLIGHT
TZOFFSETFROM:-0800
TZOFFSETTO:-0700
TZNAME:PDT
DTSTART:20240310T100000
END:DAYLIGHT
BEGIN:STANDARD
TZOFFSETFROM:-0700
TZOFFSETTO:-0800
TZNAME:PST
DTSTART:20241103T090000
END:STANDARD
BEGIN:DAYLIGHT
TZOFFSETFROM:-0800
TZOFFSETTO:-0700
TZNAME:PDT
DTSTART:20250309T100000
END:DAYLIGHT
BEGIN:STANDARD
TZOFFSETFROM:-0700
TZOFFSETTO:-0800
TZNAME:PST
DTSTART:20251102T090000
END:STANDARD
BEGIN:DAYLIGHT
TZOFFSETFROM:-0800
TZOFFSETTO:-0700
TZNAME:PDT
DTSTART:20260308T100000
END:DAYLIGHT
BEGIN:STANDARD
TZOFFSETFROM:-0700
TZOFFSETTO:-0800
TZNAME:PST
DTSTART:20261101T090000
END:STANDARD
END:VTIMEZONE
BEGIN:VEVENT
DTSTART;TZID=America/Los_Angeles:20250923T090000
DTEND;TZID=America/Los_Angeles:20250923T093000
DTSTAMP:20260421T060032
CREATED:20250831T041948Z
LAST-MODIFIED:20250831T041948Z
UID:10000630-1758618000-1758619800@sactownsupermom.com
SUMMARY:The Polar Express Train Ride Tickets Go On Sale
DESCRIPTION:All aboard for one of the most popular holiday events in Sacramento for kids! Tickets for the California Railroad Museum’s annual and beloved The Polar Express train ride go on sale to the general public on Tuesday\, September 23\, 2025. You’ll want to act fast on these tickets as they sell out quickly!
URL:https://sactownsupermom.com/event/the-polar-express-train-ride-tickets-go-on-sale/
LOCATION:California State Railroad Museum\, 125 I St\, Sacramento\, CA\, 95814
CATEGORIES:Holidays,September
END:VEVENT
BEGIN:VEVENT
DTSTART;TZID=America/Los_Angeles:20250426T113000
DTEND;TZID=America/Los_Angeles:20250426T150000
DTSTAMP:20260421T060032
CREATED:20250423T162728Z
LAST-MODIFIED:20250423T162728Z
UID:10000196-1745667000-1745679600@sactownsupermom.com
SUMMARY:Harmony Across Time - A Purple Silk Concert
DESCRIPTION:The Great Wall Youth Orchestra will perform live on traditional Chinese instruments in the California State Railroad Museum’s roundhouse on Saturday\, April 26\, 2025. \nThe performances will bring a multisensory experience to the museum as the music will be performed among locomotives on exhibit and the music will be heard throughout the museum. \nSchedule: \n\n11:30-12:30pm – Smaller performances will take place at different locations in the museum\n1:30pm-2:30pm – The main performance will occur in the museum’s roundhouse\n2:30-3pm – The audience can meet the students and observe the traditional Chinese instruments
URL:https://sactownsupermom.com/event/harmony-across-time-a-purple-silk-concert/
LOCATION:California State Railroad Museum\, 125 I St\, Sacramento\, CA\, 95814
CATEGORIES:Museums
END:VEVENT
END:VCALENDAR