BEGIN:VCALENDAR
VERSION:2.0
PRODID:-//Sactown Supermom - ECPv6.15.20//NONSGML v1.0//EN
CALSCALE:GREGORIAN
METHOD:PUBLISH
X-WR-CALNAME:Sactown Supermom
X-ORIGINAL-URL:https://sactownsupermom.com
X-WR-CALDESC:Events for Sactown Supermom
REFRESH-INTERVAL;VALUE=DURATION:PT1H
X-Robots-Tag:noindex
X-PUBLISHED-TTL:PT1H
BEGIN:VTIMEZONE
TZID:America/Los_Angeles
BEGIN:DAYLIGHT
TZOFFSETFROM:-0800
TZOFFSETTO:-0700
TZNAME:PDT
DTSTART:20240310T100000
END:DAYLIGHT
BEGIN:STANDARD
TZOFFSETFROM:-0700
TZOFFSETTO:-0800
TZNAME:PST
DTSTART:20241103T090000
END:STANDARD
BEGIN:DAYLIGHT
TZOFFSETFROM:-0800
TZOFFSETTO:-0700
TZNAME:PDT
DTSTART:20250309T100000
END:DAYLIGHT
BEGIN:STANDARD
TZOFFSETFROM:-0700
TZOFFSETTO:-0800
TZNAME:PST
DTSTART:20251102T090000
END:STANDARD
BEGIN:DAYLIGHT
TZOFFSETFROM:-0800
TZOFFSETTO:-0700
TZNAME:PDT
DTSTART:20260308T100000
END:DAYLIGHT
BEGIN:STANDARD
TZOFFSETFROM:-0700
TZOFFSETTO:-0800
TZNAME:PST
DTSTART:20261101T090000
END:STANDARD
END:VTIMEZONE
BEGIN:VEVENT
DTSTART;TZID=America/Los_Angeles:20251214T110000
DTEND;TZID=America/Los_Angeles:20251214T130000
DTSTAMP:20260421T055725
CREATED:20251210T042558Z
LAST-MODIFIED:20251210T042558Z
UID:10001192-1765710000-1765717200@sactownsupermom.com
SUMMARY:Santa Claus Experience at Big Oak Nursery
DESCRIPTION:A Santa Claus experience will take place on Sunday\, December 14\, 2025 at Big Oak Nursery in Elk Grove. Enjoy free photos with Santa from 11am to 1pm.
URL:https://sactownsupermom.com/event/santa-claus-experience-at-big-oak-nursery/
LOCATION:Big Oak Nursery\, 10071 Grant Line Road\, Elk Grove\, CA\, 95624
CATEGORIES:Dec 12-14,Free Holidays
END:VEVENT
BEGIN:VEVENT
DTSTART;TZID=America/Los_Angeles:20251206T100000
DTEND;TZID=America/Los_Angeles:20251206T140000
DTSTAMP:20260421T055725
CREATED:20251120T032222Z
LAST-MODIFIED:20251204T070706Z
UID:10001115-1765015200-1765029600@sactownsupermom.com
SUMMARY:Frosty Winter Market
DESCRIPTION:Big Oak Nursery in Elk Grove will have a Frosty Winter Market on Saturday\, December 6\, 2025. This free event will have vendors\, refreshments\, and free photos with Santa.
URL:https://sactownsupermom.com/event/frosty-winter-market/
LOCATION:Big Oak Nursery\, 10071 Grant Line Road\, Elk Grove\, CA\, 95624
CATEGORIES:Dec 5-7,Elk Grove
END:VEVENT
BEGIN:VEVENT
DTSTART;TZID=America/Los_Angeles:20251018T100000
DTEND;TZID=America/Los_Angeles:20251018T140000
DTSTAMP:20260421T055725
CREATED:20250929T033042Z
LAST-MODIFIED:20251016T021054Z
UID:10000783-1760781600-1760796000@sactownsupermom.com
SUMMARY:Big Oak Nursery Pumpkin Fest
DESCRIPTION:Pumpkin Fest will take place on Saturday\, October 18\, 2025 at Big Oak Nursery in Elk Grove. This family-friendly event will have pumpkin picking\, fall crafts\, photo ops\, vendors\, and more.
URL:https://sactownsupermom.com/event/big-oak-nursery-pumpkin-fest/
LOCATION:Big Oak Nursery\, 10071 Grant Line Road\, Elk Grove\, CA\, 95624
CATEGORIES:Fall Festivals,Oct 17-19
END:VEVENT
END:VCALENDAR