BEGIN:VCALENDAR
VERSION:2.0
PRODID:-//Sactown Supermom - ECPv6.15.20//NONSGML v1.0//EN
CALSCALE:GREGORIAN
METHOD:PUBLISH
X-WR-CALNAME:Sactown Supermom
X-ORIGINAL-URL:https://sactownsupermom.com
X-WR-CALDESC:Events for Sactown Supermom
REFRESH-INTERVAL;VALUE=DURATION:PT1H
X-Robots-Tag:noindex
X-PUBLISHED-TTL:PT1H
BEGIN:VTIMEZONE
TZID:America/Los_Angeles
BEGIN:DAYLIGHT
TZOFFSETFROM:-0800
TZOFFSETTO:-0700
TZNAME:PDT
DTSTART:20250309T100000
END:DAYLIGHT
BEGIN:STANDARD
TZOFFSETFROM:-0700
TZOFFSETTO:-0800
TZNAME:PST
DTSTART:20251102T090000
END:STANDARD
BEGIN:DAYLIGHT
TZOFFSETFROM:-0800
TZOFFSETTO:-0700
TZNAME:PDT
DTSTART:20260308T100000
END:DAYLIGHT
BEGIN:STANDARD
TZOFFSETFROM:-0700
TZOFFSETTO:-0800
TZNAME:PST
DTSTART:20261101T090000
END:STANDARD
BEGIN:DAYLIGHT
TZOFFSETFROM:-0800
TZOFFSETTO:-0700
TZNAME:PDT
DTSTART:20270314T100000
END:DAYLIGHT
BEGIN:STANDARD
TZOFFSETFROM:-0700
TZOFFSETTO:-0800
TZNAME:PST
DTSTART:20271107T090000
END:STANDARD
END:VTIMEZONE
BEGIN:VEVENT
DTSTART;TZID=America/Los_Angeles:20260502T180000
DTEND;TZID=America/Los_Angeles:20260502T220000
DTSTAMP:20260421T010740
CREATED:20260415T051028Z
LAST-MODIFIED:20260415T051028Z
UID:10001788-1777744800-1777759200@sactownsupermom.com
SUMMARY:Movies in the Park (Elk Grove)
DESCRIPTION:Movies in the Park return in Elk Grove for 2026. Free family-friendly movies will be shown in various Elk Grove park. Seating begins at 6pm and movies are shown around sundown. \n2026 Movies in the Park in Elk Grove Details – \n\nSaturday\, May 2\, 2026 – The Wild Robot at Lichtenberger South\nSaturday\, May 30\, 2026 – Zootopia at Amundson Park
URL:https://sactownsupermom.com/event/movies-in-the-park-elk-grove/2026-05-02/
LOCATION:Lichtenberger South\, 6615 Kilconnell Drive\, Elk Grove\, CA\, 95758
CATEGORIES:Elk Grove
END:VEVENT
END:VCALENDAR