BEGIN:VCALENDAR
VERSION:2.0
PRODID:-//Sactown Supermom - ECPv6.15.20//NONSGML v1.0//EN
CALSCALE:GREGORIAN
METHOD:PUBLISH
X-ORIGINAL-URL:https://sactownsupermom.com
X-WR-CALDESC:Events for Sactown Supermom
REFRESH-INTERVAL;VALUE=DURATION:PT1H
X-Robots-Tag:noindex
X-PUBLISHED-TTL:PT1H
BEGIN:VTIMEZONE
TZID:America/Los_Angeles
BEGIN:DAYLIGHT
TZOFFSETFROM:-0800
TZOFFSETTO:-0700
TZNAME:PDT
DTSTART:20240310T100000
END:DAYLIGHT
BEGIN:STANDARD
TZOFFSETFROM:-0700
TZOFFSETTO:-0800
TZNAME:PST
DTSTART:20241103T090000
END:STANDARD
BEGIN:DAYLIGHT
TZOFFSETFROM:-0800
TZOFFSETTO:-0700
TZNAME:PDT
DTSTART:20250309T100000
END:DAYLIGHT
BEGIN:STANDARD
TZOFFSETFROM:-0700
TZOFFSETTO:-0800
TZNAME:PST
DTSTART:20251102T090000
END:STANDARD
BEGIN:DAYLIGHT
TZOFFSETFROM:-0800
TZOFFSETTO:-0700
TZNAME:PDT
DTSTART:20260308T100000
END:DAYLIGHT
BEGIN:STANDARD
TZOFFSETFROM:-0700
TZOFFSETTO:-0800
TZNAME:PST
DTSTART:20261101T090000
END:STANDARD
BEGIN:DAYLIGHT
TZOFFSETFROM:-0800
TZOFFSETTO:-0700
TZNAME:PDT
DTSTART:20270314T100000
END:DAYLIGHT
BEGIN:STANDARD
TZOFFSETFROM:-0700
TZOFFSETTO:-0800
TZNAME:PST
DTSTART:20271107T090000
END:STANDARD
END:VTIMEZONE
BEGIN:VEVENT
DTSTART;TZID=America/Los_Angeles:20260418T100000
DTEND;TZID=America/Los_Angeles:20260418T140000
DTSTAMP:20260421T043352
CREATED:20260331T052309Z
LAST-MODIFIED:20260414T214523Z
UID:10001682-1776506400-1776520800@sactownsupermom.com
SUMMARY:Earth STEAM Day at Aerospace Museum
DESCRIPTION:Celebrate Earth STEAM Day at the Aerospace Museum on Saturday\, April 18\, 2026 from 10am to 2pm. There will be special activities to honor the planet.
URL:https://sactownsupermom.com/event/earth-steam-day/
LOCATION:Aerospace Museum of California\, 3200 Freedom Park Drive\, McClellan\, CA\, 95652
CATEGORIES:April,April 17-19,Museums
END:VEVENT
BEGIN:VEVENT
DTSTART;TZID=America/Los_Angeles:20260321T100000
DTEND;TZID=America/Los_Angeles:20260321T140000
DTSTAMP:20260421T043352
CREATED:20260303T204249Z
LAST-MODIFIED:20260318T224618Z
UID:10001521-1774087200-1774101600@sactownsupermom.com
SUMMARY:STEM Spring Fling at Aerospace Museum
DESCRIPTION:The Aerospace Museum will host a Spring Fling on Saturday\, March 21\, 2026. This Spring science event will have spring-themed experiments\, hand-on activities\, and more.
URL:https://sactownsupermom.com/event/stem-spring-fling-2/
LOCATION:Aerospace Museum of California\, 3200 Freedom Park Drive\, McClellan\, CA\, 95652
CATEGORIES:March,March 20-22,Museums
END:VEVENT
BEGIN:VEVENT
DTSTART;TZID=America/Los_Angeles:20260214T100000
DTEND;TZID=America/Los_Angeles:20260214T140000
DTSTAMP:20260421T043352
CREATED:20260131T201636Z
LAST-MODIFIED:20260211T052922Z
UID:10001415-1771063200-1771077600@sactownsupermom.com
SUMMARY:Valentine's STEAM Day (Aerospace Museum)
DESCRIPTION:Celebrate Valentine’s Day with Snoopy and STEAM activities on Saturday\, February 14\, 2026 at the Aerospace Museum of California in North Highlands. This will be the last day of the Snoopy and the Red Baron exhibit at the museum. This event is included with regular museum admission.
URL:https://sactownsupermom.com/event/valentines-steam-day-aerospace-museum/
LOCATION:Aerospace Museum of California\, 3200 Freedom Park Drive\, McClellan\, CA\, 95652
CATEGORIES:Feb 13-15,February
END:VEVENT
BEGIN:VEVENT
DTSTART;TZID=America/Los_Angeles:20251231T100000
DTEND;TZID=America/Los_Angeles:20251231T140000
DTSTAMP:20260421T043352
CREATED:20251222T042513Z
LAST-MODIFIED:20251222T042513Z
UID:10001234-1767175200-1767189600@sactownsupermom.com
SUMMARY:Noon Year’s Eve Pajama Party
DESCRIPTION:Ring in 2026 at a Noon Year’s Eve Pajama Party on Wednesday\, December 31\, 2025 at the Aerospace Museum of California. The festive celebration will include New Year’s crafts\, a balloon drop countdown\, sing-alongs\, and a hot cocoa bar.
URL:https://sactownsupermom.com/event/noon-years-eve-pajama-party/
LOCATION:Aerospace Museum of California\, 3200 Freedom Park Drive\, McClellan\, CA\, 95652
CATEGORIES:Noon Year's Eve
END:VEVENT
BEGIN:VEVENT
DTSTART;TZID=America/Los_Angeles:20251111T090000
DTEND;TZID=America/Los_Angeles:20251111T170000
DTSTAMP:20260421T043352
CREATED:20251102T003127Z
LAST-MODIFIED:20251102T003127Z
UID:10000929-1762851600-1762880400@sactownsupermom.com
SUMMARY:Veterans Open Cockpit Day
DESCRIPTION:Celebrate Veterans Day at the Aerospace Museum at their Veterans Open Cockpit Day on Tuesday\, November 11\, 2025. Kids can get into the cockpits of historical aircraft for a unique experience. There will also be hands-on crafts\, letter writing to veterans\, and family-friendly activities. \nThis event is included with regular museum admission.
URL:https://sactownsupermom.com/event/veterans-open-cockpit-day/
LOCATION:Aerospace Museum of California\, 3200 Freedom Park Drive\, McClellan\, CA\, 95652
CATEGORIES:November
END:VEVENT
BEGIN:VEVENT
DTSTART;TZID=America/Los_Angeles:20251025T100000
DTEND;TZID=America/Los_Angeles:20251025T140000
DTSTAMP:20260421T043352
CREATED:20251001T033911Z
LAST-MODIFIED:20251021T200941Z
UID:10000801-1761386400-1761400800@sactownsupermom.com
SUMMARY:Pumpkins & Planes: Halloween in the Air Park
DESCRIPTION:Fly over to the Aerospace Museum of California for Pumpkins & Planes on Saturday\, October 25\, 2025. This Halloween event will have trick-or-treat stations\, Halloween-themed crafts\, a spooky walk-through of the Jolly Green Giant helicopter\, games\, and more.
URL:https://sactownsupermom.com/event/pumpkins-planes-halloween-in-the-air-park/
LOCATION:Aerospace Museum of California\, 3200 Freedom Park Drive\, McClellan\, CA\, 95652
CATEGORIES:Halloween,Oct 24-26,October
END:VEVENT
BEGIN:VEVENT
DTSTART;TZID=America/Los_Angeles:20251018T090000
DTEND;TZID=America/Los_Angeles:20251018T170000
DTSTAMP:20260421T043352
CREATED:20251014T044802Z
LAST-MODIFIED:20251014T044802Z
UID:10000847-1760778000-1760806800@sactownsupermom.com
SUMMARY:Snoopy and the Red Baron Exhibit Opening
DESCRIPTION:Snoopy and the Red Baron is a traveling exhibit flying into the Aerospace Museum of California on Saturday\, October 18\, 2025. The exhibit will tell the story of the Peanuts’ World War I Flying Ace through comic strips\, memorabilia\, and vintage toys. Check out Snoopy’s storyline from October 18 to December 31\, 2025. \nThis exhibit is on loan from the Charles M. Schulz Museum.
URL:https://sactownsupermom.com/event/snoopy-and-the-red-baron-exhibit-opening/
LOCATION:Aerospace Museum of California\, 3200 Freedom Park Drive\, McClellan\, CA\, 95652
CATEGORIES:Museums
END:VEVENT
BEGIN:VEVENT
DTSTART;TZID=America/Los_Angeles:20250705T100000
DTEND;TZID=America/Los_Angeles:20250705T140000
DTSTAMP:20260421T043352
CREATED:20250624T052035Z
LAST-MODIFIED:20250624T052035Z
UID:10000383-1751709600-1751724000@sactownsupermom.com
SUMMARY:Roaring Rockets at Aerospace Museum
DESCRIPTION:Blast off to the Aerospace Museum for Roaring Rockets on Saturday\, Juy 5\, 2025\, from 10am to 2pm. The day will be filled with interactive STEM-themed activities. \nRoaring Rockets crafts and experiences will consist of: \n\nWater Rocket Launch\nRocket Science 101\nCrafting Cosmos
URL:https://sactownsupermom.com/event/roaring-rockets-at-aerospace-museum/
LOCATION:Aerospace Museum of California\, 3200 Freedom Park Drive\, McClellan\, CA\, 95652
CATEGORIES:July,Museums
END:VEVENT
BEGIN:VEVENT
DTSTART;TZID=America/Los_Angeles:20250607T100000
DTEND;TZID=America/Los_Angeles:20250607T140000
DTSTAMP:20260421T043352
CREATED:20250526T233920Z
LAST-MODIFIED:20250526T233920Z
UID:10000313-1749290400-1749304800@sactownsupermom.com
SUMMARY:Summer STEM Fest
DESCRIPTION:Fly over to the Aerospace Museum for the free SMUD Summer STEM Fest on Saturday\, June 7\, 2025. \nParticipate in interactive science activities that celebrate wind energy and flight. Tour the museum to see aircraft exhibits and enjoy hands-on experiences. \nComplimentary food will also be available.
URL:https://sactownsupermom.com/event/summer-stem-fest/
LOCATION:Aerospace Museum of California\, 3200 Freedom Park Drive\, McClellan\, CA\, 95652
CATEGORIES:Free,June
END:VEVENT
BEGIN:VEVENT
DTSTART;TZID=America/Los_Angeles:20250531T100000
DTEND;TZID=America/Los_Angeles:20250531T140000
DTSTAMP:20260421T043352
CREATED:20250425T033805Z
LAST-MODIFIED:20250425T033805Z
UID:10000217-1748685600-1748700000@sactownsupermom.com
SUMMARY:Bubble Bonanza at Aerospace Museum
DESCRIPTION:Pop into Bubble Bonanza on Saturday\, May 31\, 2025 at the Aerospace Museum. From interactive activities like creating bubble wands\, bubble demos\, science experiments\, and stepping into a giant bubble\, kids will be bursting with bubble fun.
URL:https://sactownsupermom.com/event/bubble-bonanza-at-aerospace-museum/
LOCATION:Aerospace Museum of California\, 3200 Freedom Park Drive\, McClellan\, CA\, 95652
CATEGORIES:May,Museums
END:VEVENT
BEGIN:VEVENT
DTSTART;TZID=America/Los_Angeles:20250503T100000
DTEND;TZID=America/Los_Angeles:20250503T140000
DTSTAMP:20260421T043352
CREATED:20250424T044626Z
LAST-MODIFIED:20250424T044626Z
UID:10000200-1746266400-1746280800@sactownsupermom.com
SUMMARY:Star Wars Open Cockpit at Aerospace Museum
DESCRIPTION:May the force be with you at Star Wars Open Cockpit at the Aerospace Museum on Saturday\, May 3\, 2025. Explore aircraft cockpits in a galaxy far far away alongside costumed characters. Dressing up in galactic gear is encouraged. \nThe day’s activities will also include hands-on STEM fun and snacks inspired by Star Wars in the museum’s cafe.
URL:https://sactownsupermom.com/event/star-wars-open-cockpit-at-aerospace-museum/
LOCATION:Aerospace Museum of California\, 3200 Freedom Park Drive\, McClellan\, CA\, 95652
CATEGORIES:May,Museums
END:VEVENT
BEGIN:VEVENT
DTSTART;TZID=America/Los_Angeles:20250426T100000
DTEND;TZID=America/Los_Angeles:20250426T140000
DTSTAMP:20260421T043352
CREATED:20250314T050158Z
LAST-MODIFIED:20260331T051828Z
UID:10000139-1745661600-1745676000@sactownsupermom.com
SUMMARY:Celebrate Earth at Aerospace Museum
DESCRIPTION:The Aerospace Museum will have an Earth Day Celebration on Saturday\, April 26\, 2025\, from 10am to 2pm. \nCelebrate Earth activities will include: \n\nSTEM crafts with recycled materials\nChallenges testing environmental knowledge\nLearning how to reduce carbon footprint\nDiscovering renewable energy sources\n\nCelebrate Earth is included with regular museum admission.
URL:https://sactownsupermom.com/event/celebrate-earth-at-aerospace-museum/
LOCATION:Aerospace Museum of California\, 3200 Freedom Park Drive\, McClellan\, CA\, 95652
CATEGORIES:Museums
END:VEVENT
BEGIN:VEVENT
DTSTART;TZID=America/Los_Angeles:20250405T100000
DTEND;TZID=America/Los_Angeles:20250405T140000
DTSTAMP:20260421T043352
CREATED:20250314T035136Z
LAST-MODIFIED:20250314T035147Z
UID:10000133-1743847200-1743861600@sactownsupermom.com
SUMMARY:Marvelous Magnets at Aerospace Museum
DESCRIPTION:The Aerospace Museum has a day of Marvelous Magnets on Saturday\, April 5\, 2025 with interactive STEM activities. \nActivities and experiments will include: \n\nBuild your own magnetic creations\nLearning about magnetic forces\nMagnetic experiments including magnetic art and levitating objects\n\nMagnetic Magnets is included with regular museum admission.
URL:https://sactownsupermom.com/event/marvelous-magnets/
LOCATION:Aerospace Museum of California\, 3200 Freedom Park Drive\, McClellan\, CA\, 95652
CATEGORIES:Museums
END:VEVENT
BEGIN:VEVENT
DTSTART;TZID=America/Los_Angeles:20250329T100000
DTEND;TZID=America/Los_Angeles:20250329T140000
DTSTAMP:20260421T043352
CREATED:20250210T024739Z
LAST-MODIFIED:20260211T055832Z
UID:10000089-1743242400-1743256800@sactownsupermom.com
SUMMARY:STEM Spring Fling: Teddy Bear Picnic
DESCRIPTION:The Aerospace Museum will host a Spring Fling on Saturday\, March 29\, 2025. This Spring event is STEM-themed with a Teddy Bear Picnic. Kids are encouraged to bring their own teddy bears along for the event. \nInteractive activities will include STEM experiences such as: \n\nSolar prints\nBasic circuitry\nBinary code jewelry making\n\nThere will also be storytime\, crafts\, and solar telescopes. Additionally\, you can explore inside open aircraft. \nSeasonal spring treats will be for sale at the event.
URL:https://sactownsupermom.com/event/stem-spring-fling/
LOCATION:Aerospace Museum of California\, 3200 Freedom Park Drive\, McClellan\, CA\, 95652
CATEGORIES:Museums
END:VEVENT
BEGIN:VEVENT
DTSTART;TZID=America/Los_Angeles:20250315T100000
DTEND;TZID=America/Los_Angeles:20250315T140000
DTSTAMP:20260421T043352
CREATED:20250207T160840Z
LAST-MODIFIED:20250303T061917Z
UID:10000084-1742032800-1742047200@sactownsupermom.com
SUMMARY:STEM Pop-Ups Saturday
DESCRIPTION:STEM activities at the Aerospace Museum are out of this world on Saturday\, March 15\, 2025. \nKids can engage in STEM activities that ignite creativity and innovation. This event is included with regular museum admission.
URL:https://sactownsupermom.com/event/stem-pop-ups-saturday/
LOCATION:Aerospace Museum of California\, 3200 Freedom Park Drive\, McClellan\, CA\, 95652
CATEGORIES:Museums
END:VEVENT
BEGIN:VEVENT
DTSTART;TZID=America/Los_Angeles:20250208T100000
DTEND;TZID=America/Los_Angeles:20250208T140000
DTSTAMP:20260421T043352
CREATED:20250206T200140Z
LAST-MODIFIED:20260201T050937Z
UID:10000082-1739008800-1739023200@sactownsupermom.com
SUMMARY:Roaring Rockets at Aerospace Museum
DESCRIPTION:Blast off to the Aerospace Museum for Roaring Rockets on Saturday\, February 8\, 2025\, from 10am to 2pm. The day will be filled with interactive STEM-themed activities. \nRoaring Rockets crafts and experiences will consist of: \n\nWater Rocket Launch\nRocket Science 101\nCrafting Cosmos
URL:https://sactownsupermom.com/event/roaring-rockets/
LOCATION:Aerospace Museum of California\, 3200 Freedom Park Drive\, McClellan\, CA\, 95652
CATEGORIES:Museums
END:VEVENT
BEGIN:VEVENT
DTSTART;TZID=America/Los_Angeles:20250118T100000
DTEND;TZID=America/Los_Angeles:20250118T140000
DTSTAMP:20260421T043352
CREATED:20241231T032857Z
LAST-MODIFIED:20241231T032857Z
UID:10000007-1737194400-1737208800@sactownsupermom.com
SUMMARY:Kid Inventors' Day
DESCRIPTION:Young creators and dreamers are invited to explore the exciting world of innovation and discovery at Kid Inventors’ Day at the Aerospace Museum. While all ages are welcome to attend\, this event is best suited for kids\, ages 5-12. \nKids can build and create their own designs at the Inventor Stations\, solve interactive problems through STEM challenges\, create unique things in the Maker Space\, and have the chance to win STEM-themed prizes. \nAdmission to Kid Inventors’ Day is included with regular museum admission.
URL:https://sactownsupermom.com/event/kid-inventors-day/
LOCATION:Aerospace Museum of California\, 3200 Freedom Park Drive\, McClellan\, CA\, 95652
CATEGORIES:Museums
END:VEVENT
END:VCALENDAR