BEGIN:VCALENDAR
VERSION:2.0
PRODID:-//Sactown Supermom - ECPv6.15.20//NONSGML v1.0//EN
CALSCALE:GREGORIAN
METHOD:PUBLISH
X-ORIGINAL-URL:https://sactownsupermom.com
X-WR-CALDESC:Events for Sactown Supermom
REFRESH-INTERVAL;VALUE=DURATION:PT1H
X-Robots-Tag:noindex
X-PUBLISHED-TTL:PT1H
BEGIN:VTIMEZONE
TZID:America/Los_Angeles
BEGIN:DAYLIGHT
TZOFFSETFROM:-0800
TZOFFSETTO:-0700
TZNAME:PDT
DTSTART:20240310T100000
END:DAYLIGHT
BEGIN:STANDARD
TZOFFSETFROM:-0700
TZOFFSETTO:-0800
TZNAME:PST
DTSTART:20241103T090000
END:STANDARD
BEGIN:DAYLIGHT
TZOFFSETFROM:-0800
TZOFFSETTO:-0700
TZNAME:PDT
DTSTART:20250309T100000
END:DAYLIGHT
BEGIN:STANDARD
TZOFFSETFROM:-0700
TZOFFSETTO:-0800
TZNAME:PST
DTSTART:20251102T090000
END:STANDARD
BEGIN:DAYLIGHT
TZOFFSETFROM:-0800
TZOFFSETTO:-0700
TZNAME:PDT
DTSTART:20260308T100000
END:DAYLIGHT
BEGIN:STANDARD
TZOFFSETFROM:-0700
TZOFFSETTO:-0800
TZNAME:PST
DTSTART:20261101T090000
END:STANDARD
END:VTIMEZONE
BEGIN:VEVENT
DTSTART;TZID=America/Los_Angeles:20251121T120000
DTEND;TZID=America/Los_Angeles:20251121T140000
DTSTAMP:20260419T155748
CREATED:20251116T212018Z
LAST-MODIFIED:20251116T212018Z
UID:10001059-1763726400-1763733600@sactownsupermom.com
SUMMARY:Free Thanksgiving Dinner Basket (Shelby's Way)
DESCRIPTION:Shelby’s Way will be having a free Thanksgiving dinner basket giveaway on Friday\, November 21\, 2025 in Rancho Cordova from 12-2pm. Giveaway will include a Thanksgiving box with holiday fixings and a gift card OR a frozen turkey. All are welcome and sign-ups are not required.
URL:https://sactownsupermom.com/event/free-thanksgiving-dinner-basket-shelbys-way/
LOCATION:3017 Gold Canal Dr.\, Suite 500\, Rancho Cordova\, CA\, 95670
CATEGORIES:Turkey Giveaways
END:VEVENT
END:VCALENDAR