BEGIN:VCALENDAR
VERSION:2.0
PRODID:-//Sactown Supermom - ECPv6.15.20//NONSGML v1.0//EN
CALSCALE:GREGORIAN
METHOD:PUBLISH
X-WR-CALNAME:Sactown Supermom
X-ORIGINAL-URL:https://sactownsupermom.com
X-WR-CALDESC:Events for Sactown Supermom
REFRESH-INTERVAL;VALUE=DURATION:PT1H
X-Robots-Tag:noindex
X-PUBLISHED-TTL:PT1H
BEGIN:VTIMEZONE
TZID:America/Los_Angeles
BEGIN:DAYLIGHT
TZOFFSETFROM:-0800
TZOFFSETTO:-0700
TZNAME:PDT
DTSTART:20250309T100000
END:DAYLIGHT
BEGIN:STANDARD
TZOFFSETFROM:-0700
TZOFFSETTO:-0800
TZNAME:PST
DTSTART:20251102T090000
END:STANDARD
BEGIN:DAYLIGHT
TZOFFSETFROM:-0800
TZOFFSETTO:-0700
TZNAME:PDT
DTSTART:20260308T100000
END:DAYLIGHT
BEGIN:STANDARD
TZOFFSETFROM:-0700
TZOFFSETTO:-0800
TZNAME:PST
DTSTART:20261101T090000
END:STANDARD
BEGIN:DAYLIGHT
TZOFFSETFROM:-0800
TZOFFSETTO:-0700
TZNAME:PDT
DTSTART:20270314T100000
END:DAYLIGHT
BEGIN:STANDARD
TZOFFSETFROM:-0700
TZOFFSETTO:-0800
TZNAME:PST
DTSTART:20271107T090000
END:STANDARD
END:VTIMEZONE
BEGIN:VEVENT
DTSTART;TZID=America/Los_Angeles:20260612T130000
DTEND;TZID=America/Los_Angeles:20260612T140000
DTSTAMP:20260425T171347
CREATED:20260425T180158Z
LAST-MODIFIED:20260425T180158Z
UID:10001829-1781269200-1781272800@sactownsupermom.com
SUMMARY:Arden Fair Kids' Club Summer Program
DESCRIPTION:Families can attend the free Arden Fair Kids’ Club Summer Program every Friday and Saturday from June 12 to July 25\, 2026\, from 1pm to 2pm. The free hour of kids’ activities will include hands-on activities\, performances\, and games. \nThe Arden Fair Kids’ Club Summer Program is one of the best free things to do in Sacramento with kids this summer. \n2026 Dates Include: \n\nJune 12 & 13\nJune 19 & 20\nJune 26 & 27\nJuly 10 & 11\nJuly 17 & 18\nJuly 24 & 25
URL:https://sactownsupermom.com/event/arden-fair-kids-club-summer-program/2026-06-12/
LOCATION:Arden Fair\, 1689 Arden Way\, #1167\, Sacramento\, CA\, 95815
CATEGORIES:Arden Fair
END:VEVENT
BEGIN:VEVENT
DTSTART;TZID=America/Los_Angeles:20260613T130000
DTEND;TZID=America/Los_Angeles:20260613T140000
DTSTAMP:20260425T171347
CREATED:20260425T180158Z
LAST-MODIFIED:20260425T180158Z
UID:10001830-1781355600-1781359200@sactownsupermom.com
SUMMARY:Arden Fair Kids' Club Summer Program
DESCRIPTION:Families can attend the free Arden Fair Kids’ Club Summer Program every Friday and Saturday from June 12 to July 25\, 2026\, from 1pm to 2pm. The free hour of kids’ activities will include hands-on activities\, performances\, and games. \nThe Arden Fair Kids’ Club Summer Program is one of the best free things to do in Sacramento with kids this summer. \n2026 Dates Include: \n\nJune 12 & 13\nJune 19 & 20\nJune 26 & 27\nJuly 10 & 11\nJuly 17 & 18\nJuly 24 & 25
URL:https://sactownsupermom.com/event/arden-fair-kids-club-summer-program/2026-06-13/
LOCATION:Arden Fair\, 1689 Arden Way\, #1167\, Sacramento\, CA\, 95815
CATEGORIES:Arden Fair
END:VEVENT
BEGIN:VEVENT
DTSTART;TZID=America/Los_Angeles:20260619T130000
DTEND;TZID=America/Los_Angeles:20260619T140000
DTSTAMP:20260425T171347
CREATED:20260425T180158Z
LAST-MODIFIED:20260425T180158Z
UID:10001831-1781874000-1781877600@sactownsupermom.com
SUMMARY:Arden Fair Kids' Club Summer Program
DESCRIPTION:Families can attend the free Arden Fair Kids’ Club Summer Program every Friday and Saturday from June 12 to July 25\, 2026\, from 1pm to 2pm. The free hour of kids’ activities will include hands-on activities\, performances\, and games. \nThe Arden Fair Kids’ Club Summer Program is one of the best free things to do in Sacramento with kids this summer. \n2026 Dates Include: \n\nJune 12 & 13\nJune 19 & 20\nJune 26 & 27\nJuly 10 & 11\nJuly 17 & 18\nJuly 24 & 25
URL:https://sactownsupermom.com/event/arden-fair-kids-club-summer-program/2026-06-19/
LOCATION:Arden Fair\, 1689 Arden Way\, #1167\, Sacramento\, CA\, 95815
CATEGORIES:Arden Fair
END:VEVENT
BEGIN:VEVENT
DTSTART;TZID=America/Los_Angeles:20260620T130000
DTEND;TZID=America/Los_Angeles:20260620T140000
DTSTAMP:20260425T171347
CREATED:20260425T180158Z
LAST-MODIFIED:20260425T180158Z
UID:10001832-1781960400-1781964000@sactownsupermom.com
SUMMARY:Arden Fair Kids' Club Summer Program
DESCRIPTION:Families can attend the free Arden Fair Kids’ Club Summer Program every Friday and Saturday from June 12 to July 25\, 2026\, from 1pm to 2pm. The free hour of kids’ activities will include hands-on activities\, performances\, and games. \nThe Arden Fair Kids’ Club Summer Program is one of the best free things to do in Sacramento with kids this summer. \n2026 Dates Include: \n\nJune 12 & 13\nJune 19 & 20\nJune 26 & 27\nJuly 10 & 11\nJuly 17 & 18\nJuly 24 & 25
URL:https://sactownsupermom.com/event/arden-fair-kids-club-summer-program/2026-06-20/
LOCATION:Arden Fair\, 1689 Arden Way\, #1167\, Sacramento\, CA\, 95815
CATEGORIES:Arden Fair
END:VEVENT
BEGIN:VEVENT
DTSTART;TZID=America/Los_Angeles:20260626T130000
DTEND;TZID=America/Los_Angeles:20260626T140000
DTSTAMP:20260425T171347
CREATED:20260425T180158Z
LAST-MODIFIED:20260425T180158Z
UID:10001833-1782478800-1782482400@sactownsupermom.com
SUMMARY:Arden Fair Kids' Club Summer Program
DESCRIPTION:Families can attend the free Arden Fair Kids’ Club Summer Program every Friday and Saturday from June 12 to July 25\, 2026\, from 1pm to 2pm. The free hour of kids’ activities will include hands-on activities\, performances\, and games. \nThe Arden Fair Kids’ Club Summer Program is one of the best free things to do in Sacramento with kids this summer. \n2026 Dates Include: \n\nJune 12 & 13\nJune 19 & 20\nJune 26 & 27\nJuly 10 & 11\nJuly 17 & 18\nJuly 24 & 25
URL:https://sactownsupermom.com/event/arden-fair-kids-club-summer-program/2026-06-26/
LOCATION:Arden Fair\, 1689 Arden Way\, #1167\, Sacramento\, CA\, 95815
CATEGORIES:Arden Fair
END:VEVENT
BEGIN:VEVENT
DTSTART;TZID=America/Los_Angeles:20260627T130000
DTEND;TZID=America/Los_Angeles:20260627T140000
DTSTAMP:20260425T171347
CREATED:20260425T180158Z
LAST-MODIFIED:20260425T180158Z
UID:10001834-1782565200-1782568800@sactownsupermom.com
SUMMARY:Arden Fair Kids' Club Summer Program
DESCRIPTION:Families can attend the free Arden Fair Kids’ Club Summer Program every Friday and Saturday from June 12 to July 25\, 2026\, from 1pm to 2pm. The free hour of kids’ activities will include hands-on activities\, performances\, and games. \nThe Arden Fair Kids’ Club Summer Program is one of the best free things to do in Sacramento with kids this summer. \n2026 Dates Include: \n\nJune 12 & 13\nJune 19 & 20\nJune 26 & 27\nJuly 10 & 11\nJuly 17 & 18\nJuly 24 & 25
URL:https://sactownsupermom.com/event/arden-fair-kids-club-summer-program/2026-06-27/
LOCATION:Arden Fair\, 1689 Arden Way\, #1167\, Sacramento\, CA\, 95815
CATEGORIES:Arden Fair
END:VEVENT
BEGIN:VEVENT
DTSTART;TZID=America/Los_Angeles:20260710T130000
DTEND;TZID=America/Los_Angeles:20260710T140000
DTSTAMP:20260425T171347
CREATED:20260425T180158Z
LAST-MODIFIED:20260425T180158Z
UID:10001835-1783688400-1783692000@sactownsupermom.com
SUMMARY:Arden Fair Kids' Club Summer Program
DESCRIPTION:Families can attend the free Arden Fair Kids’ Club Summer Program every Friday and Saturday from June 12 to July 25\, 2026\, from 1pm to 2pm. The free hour of kids’ activities will include hands-on activities\, performances\, and games. \nThe Arden Fair Kids’ Club Summer Program is one of the best free things to do in Sacramento with kids this summer. \n2026 Dates Include: \n\nJune 12 & 13\nJune 19 & 20\nJune 26 & 27\nJuly 10 & 11\nJuly 17 & 18\nJuly 24 & 25
URL:https://sactownsupermom.com/event/arden-fair-kids-club-summer-program/2026-07-10/
LOCATION:Arden Fair\, 1689 Arden Way\, #1167\, Sacramento\, CA\, 95815
CATEGORIES:Arden Fair
END:VEVENT
BEGIN:VEVENT
DTSTART;TZID=America/Los_Angeles:20260711T130000
DTEND;TZID=America/Los_Angeles:20260711T140000
DTSTAMP:20260425T171347
CREATED:20260425T180158Z
LAST-MODIFIED:20260425T180158Z
UID:10001836-1783774800-1783778400@sactownsupermom.com
SUMMARY:Arden Fair Kids' Club Summer Program
DESCRIPTION:Families can attend the free Arden Fair Kids’ Club Summer Program every Friday and Saturday from June 12 to July 25\, 2026\, from 1pm to 2pm. The free hour of kids’ activities will include hands-on activities\, performances\, and games. \nThe Arden Fair Kids’ Club Summer Program is one of the best free things to do in Sacramento with kids this summer. \n2026 Dates Include: \n\nJune 12 & 13\nJune 19 & 20\nJune 26 & 27\nJuly 10 & 11\nJuly 17 & 18\nJuly 24 & 25
URL:https://sactownsupermom.com/event/arden-fair-kids-club-summer-program/2026-07-11/
LOCATION:Arden Fair\, 1689 Arden Way\, #1167\, Sacramento\, CA\, 95815
CATEGORIES:Arden Fair
END:VEVENT
BEGIN:VEVENT
DTSTART;TZID=America/Los_Angeles:20260717T130000
DTEND;TZID=America/Los_Angeles:20260717T140000
DTSTAMP:20260425T171347
CREATED:20260425T180158Z
LAST-MODIFIED:20260425T180158Z
UID:10001837-1784293200-1784296800@sactownsupermom.com
SUMMARY:Arden Fair Kids' Club Summer Program
DESCRIPTION:Families can attend the free Arden Fair Kids’ Club Summer Program every Friday and Saturday from June 12 to July 25\, 2026\, from 1pm to 2pm. The free hour of kids’ activities will include hands-on activities\, performances\, and games. \nThe Arden Fair Kids’ Club Summer Program is one of the best free things to do in Sacramento with kids this summer. \n2026 Dates Include: \n\nJune 12 & 13\nJune 19 & 20\nJune 26 & 27\nJuly 10 & 11\nJuly 17 & 18\nJuly 24 & 25
URL:https://sactownsupermom.com/event/arden-fair-kids-club-summer-program/2026-07-17/
LOCATION:Arden Fair\, 1689 Arden Way\, #1167\, Sacramento\, CA\, 95815
CATEGORIES:Arden Fair
END:VEVENT
BEGIN:VEVENT
DTSTART;TZID=America/Los_Angeles:20260718T130000
DTEND;TZID=America/Los_Angeles:20260718T140000
DTSTAMP:20260425T171347
CREATED:20260425T180158Z
LAST-MODIFIED:20260425T180158Z
UID:10001838-1784379600-1784383200@sactownsupermom.com
SUMMARY:Arden Fair Kids' Club Summer Program
DESCRIPTION:Families can attend the free Arden Fair Kids’ Club Summer Program every Friday and Saturday from June 12 to July 25\, 2026\, from 1pm to 2pm. The free hour of kids’ activities will include hands-on activities\, performances\, and games. \nThe Arden Fair Kids’ Club Summer Program is one of the best free things to do in Sacramento with kids this summer. \n2026 Dates Include: \n\nJune 12 & 13\nJune 19 & 20\nJune 26 & 27\nJuly 10 & 11\nJuly 17 & 18\nJuly 24 & 25
URL:https://sactownsupermom.com/event/arden-fair-kids-club-summer-program/2026-07-18/
LOCATION:Arden Fair\, 1689 Arden Way\, #1167\, Sacramento\, CA\, 95815
CATEGORIES:Arden Fair
END:VEVENT
BEGIN:VEVENT
DTSTART;TZID=America/Los_Angeles:20260724T130000
DTEND;TZID=America/Los_Angeles:20260724T140000
DTSTAMP:20260425T171347
CREATED:20260425T180158Z
LAST-MODIFIED:20260425T180158Z
UID:10001839-1784898000-1784901600@sactownsupermom.com
SUMMARY:Arden Fair Kids' Club Summer Program
DESCRIPTION:Families can attend the free Arden Fair Kids’ Club Summer Program every Friday and Saturday from June 12 to July 25\, 2026\, from 1pm to 2pm. The free hour of kids’ activities will include hands-on activities\, performances\, and games. \nThe Arden Fair Kids’ Club Summer Program is one of the best free things to do in Sacramento with kids this summer. \n2026 Dates Include: \n\nJune 12 & 13\nJune 19 & 20\nJune 26 & 27\nJuly 10 & 11\nJuly 17 & 18\nJuly 24 & 25
URL:https://sactownsupermom.com/event/arden-fair-kids-club-summer-program/2026-07-24/
LOCATION:Arden Fair\, 1689 Arden Way\, #1167\, Sacramento\, CA\, 95815
CATEGORIES:Arden Fair
END:VEVENT
BEGIN:VEVENT
DTSTART;TZID=America/Los_Angeles:20260725T130000
DTEND;TZID=America/Los_Angeles:20260725T140000
DTSTAMP:20260425T171347
CREATED:20260425T180158Z
LAST-MODIFIED:20260425T180158Z
UID:10001840-1784984400-1784988000@sactownsupermom.com
SUMMARY:Arden Fair Kids' Club Summer Program
DESCRIPTION:Families can attend the free Arden Fair Kids’ Club Summer Program every Friday and Saturday from June 12 to July 25\, 2026\, from 1pm to 2pm. The free hour of kids’ activities will include hands-on activities\, performances\, and games. \nThe Arden Fair Kids’ Club Summer Program is one of the best free things to do in Sacramento with kids this summer. \n2026 Dates Include: \n\nJune 12 & 13\nJune 19 & 20\nJune 26 & 27\nJuly 10 & 11\nJuly 17 & 18\nJuly 24 & 25
URL:https://sactownsupermom.com/event/arden-fair-kids-club-summer-program/2026-07-25/
LOCATION:Arden Fair\, 1689 Arden Way\, #1167\, Sacramento\, CA\, 95815
CATEGORIES:Arden Fair
END:VEVENT
END:VCALENDAR