BEGIN:VCALENDAR
VERSION:2.0
PRODID:-//Sactown Supermom - ECPv6.15.20//NONSGML v1.0//EN
CALSCALE:GREGORIAN
METHOD:PUBLISH
X-ORIGINAL-URL:https://sactownsupermom.com
X-WR-CALDESC:Events for Sactown Supermom
REFRESH-INTERVAL;VALUE=DURATION:PT1H
X-Robots-Tag:noindex
X-PUBLISHED-TTL:PT1H
BEGIN:VTIMEZONE
TZID:America/Los_Angeles
BEGIN:DAYLIGHT
TZOFFSETFROM:-0800
TZOFFSETTO:-0700
TZNAME:PDT
DTSTART:20240310T100000
END:DAYLIGHT
BEGIN:STANDARD
TZOFFSETFROM:-0700
TZOFFSETTO:-0800
TZNAME:PST
DTSTART:20241103T090000
END:STANDARD
BEGIN:DAYLIGHT
TZOFFSETFROM:-0800
TZOFFSETTO:-0700
TZNAME:PDT
DTSTART:20250309T100000
END:DAYLIGHT
BEGIN:STANDARD
TZOFFSETFROM:-0700
TZOFFSETTO:-0800
TZNAME:PST
DTSTART:20251102T090000
END:STANDARD
BEGIN:DAYLIGHT
TZOFFSETFROM:-0800
TZOFFSETTO:-0700
TZNAME:PDT
DTSTART:20260308T100000
END:DAYLIGHT
BEGIN:STANDARD
TZOFFSETFROM:-0700
TZOFFSETTO:-0800
TZNAME:PST
DTSTART:20261101T090000
END:STANDARD
END:VTIMEZONE
BEGIN:VEVENT
DTSTART;TZID=America/Los_Angeles:20250317T100000
DTEND;TZID=America/Los_Angeles:20250317T160000
DTSTAMP:20260423T092537
CREATED:20250425T035150Z
LAST-MODIFIED:20250425T035150Z
UID:10000220-1742205600-1742227200@sactownsupermom.com
SUMMARY:Demonstration Day at Sutter's Fort
DESCRIPTION:Kids can participate in hands-on historical activities at Sutter’s Fort monthly Demonstration Day on Saturday\, May 17\, 2025\, from 10am to 4pm. \nRegular Sutter’s Fort admission rates apply for the event. This event is for kids of all ages. \nThe specific experiences scheduled for Activity Days may differ. Some example activities may include crafts\, hands-on engagements\, interactive educational experiences\, and different skills.
URL:https://sactownsupermom.com/event/demonstration-day-at-sutters-fort/
LOCATION:Sutter’s Fort\, 2701 L St\, Sacramento\, CA\, 95816\, United States
CATEGORIES:Sutter's Fort
END:VEVENT
BEGIN:VEVENT
DTSTART;TZID=America/Los_Angeles:20250317T100000
DTEND;TZID=America/Los_Angeles:20250317T150000
DTSTAMP:20260423T092537
CREATED:20250207T170946Z
LAST-MODIFIED:20260224T004151Z
UID:10000087-1742205600-1742223600@sactownsupermom.com
SUMMARY:St. Patrick's Day at Fairytale Town
DESCRIPTION:Fairytale Town will have a kid-friendly St. Patrick’s Day Celebration on Monday\, March 17\, 2025\, from 10am to 3pm. \nKids can participate in a scavenger hunt to search for a pot of gold\, and may even run into a leprechaun. There will also be hands-on activities\, like crafts. Don’t forget to wear your green! \nThe St. Patrick’s Day Celebration is included with regular Fairytale admission. Check the official venue website for weather updates.
URL:https://sactownsupermom.com/event/st-patricks-day-at-fairytale-town/
LOCATION:Fairytale Town
CATEGORIES:Fairytale Town
END:VEVENT
BEGIN:VEVENT
DTSTART;TZID=America/Los_Angeles:20250316T133000
DTEND;TZID=America/Los_Angeles:20250316T163000
DTSTAMP:20260423T092537
CREATED:20250210T032028Z
LAST-MODIFIED:20260211T055152Z
UID:10000092-1742131800-1742142600@sactownsupermom.com
SUMMARY:Mad Hatter Tea Party
DESCRIPTION:The Sierra 2 Center hosts a family-friendly Mad Hatter Tea Party on Sunday\, March 16\, 2025\, from 1:30pm to 4:30pm. \nKids can enjoy a whimsical afternoon of tea\, treats\, and interactive fun. This event is for all ages. \nThe event will include: \n\nMeet-and-greets with Alice\, the Mad Hatter\, and the White Rabbit\nVarious tea blends ranging from fruity to floral\nDelicious treats like sweets\, pastries\, cakes\, and pinwheel sandwiches\nGames and activities\n\nThe Mad Hatter Tea Party will take place in the Garden Room at the Sierra 2 Center. Spaces are limited\, so reserve tickets early.
URL:https://sactownsupermom.com/event/mad-hatter-tea-party/
LOCATION:Sierra 2 Center\, 2791 24th Street\, Sacramento\, CA\, 95818
END:VEVENT
BEGIN:VEVENT
DTSTART;TZID=America/Los_Angeles:20250315T170000
DTEND;TZID=America/Los_Angeles:20250315T183000
DTSTAMP:20260423T092537
CREATED:20250204T053732Z
LAST-MODIFIED:20260215T153634Z
UID:10000080-1742058000-1742063400@sactownsupermom.com
SUMMARY:Shamrock Shimmy at Sacramento Children's Museum
DESCRIPTION:The Sacramento Children’s Museum will host its annual Shamrock Shimmy for children with special needs on Saturday\, March 15\, 2025\, from 5pm to 6:30pm. \nChildren and their families can delight in a night of dancing and museum play. \nShamrock Shimmy is a free event. Pre-registration is required.
URL:https://sactownsupermom.com/event/shamrock-shimmy-at-sacramento-childrens-museum/
LOCATION:Sacramento Children’s Museum\, 2701 Prospect Park\, Rancho Cordova\, CA\, 95670
CATEGORIES:Museums
END:VEVENT
BEGIN:VEVENT
DTSTART;TZID=America/Los_Angeles:20250315T120000
DTEND;TZID=America/Los_Angeles:20250315T150000
DTSTAMP:20260423T092537
CREATED:20250225T045457Z
LAST-MODIFIED:20250303T064229Z
UID:10000108-1742040000-1742050800@sactownsupermom.com
SUMMARY:Holi Festival of Colors
DESCRIPTION:Celebrate Holi Festival of Colors at a free festival in Hagan Community Park in Rancho Cordova on Saturday\, March 15\, 2025. \nFree color packets will be available at the event on a first-come\, first-serve basis. It’s recommended to bring your own color packets\, too.
URL:https://sactownsupermom.com/event/holi-festival-of-colors/
LOCATION:Hagan Community Park\, 2197 Chase Dr\, Rancho Cordova\, CA\, 95670
CATEGORIES:Free
END:VEVENT
BEGIN:VEVENT
DTSTART;TZID=America/Los_Angeles:20250315T113000
DTEND;TZID=America/Los_Angeles:20250315T133000
DTSTAMP:20260423T092537
CREATED:20250217T032548Z
LAST-MODIFIED:20260224T004245Z
UID:10000096-1742038200-1742045400@sactownsupermom.com
SUMMARY:St. Patrick’s Day Parade in Old Sacramento
DESCRIPTION:Don your green and head to the Old Sacramento Waterfront for its annual St. Patrick’s Day on Saturday\, March 15\, 2025. Pre-parade performances will also take place. \nPre-parade performances will occur from 11:30am to 12:30pm. The parade time is scheduled for 12:30pm to 1:30pm. \nThis timeless tradition is free to attend. \nKids may enjoy chasing leprechauns as they embark on a Leprechaun Hunt throughout Old Sacramento that’s open to all ages. Activity books can be picked up in the Old Sacramento Waterfront Visitor Center at 1000 2nd Street.
URL:https://sactownsupermom.com/event/st-patricks-day-parade-in-old-sacramento/
LOCATION:Old Sacramento Waterfront\, Sacramento\, CA
CATEGORIES:St. Patrick's Day
END:VEVENT
BEGIN:VEVENT
DTSTART;TZID=America/Los_Angeles:20250315T100000
DTEND;TZID=America/Los_Angeles:20250315T150000
DTSTAMP:20260423T092537
CREATED:20250207T164319Z
LAST-MODIFIED:20260215T210037Z
UID:10000086-1742032800-1742050800@sactownsupermom.com
SUMMARY:Holi Celebration at Fairytale Town
DESCRIPTION:Fairytale Town will celebrate Holi\, a festival of colors\, on Saturday\, March 15\, 2025\, from 10am to 3pm. \nThe Holi Celebration is included with regular Fairytale admission. Check the official website venue for weather updates.
URL:https://sactownsupermom.com/event/holi-celebration-at-fairytale-town/
LOCATION:Fairytale Town
CATEGORIES:Fairytale Town
END:VEVENT
BEGIN:VEVENT
DTSTART;TZID=America/Los_Angeles:20250315T100000
DTEND;TZID=America/Los_Angeles:20250315T140000
DTSTAMP:20260423T092537
CREATED:20250207T160840Z
LAST-MODIFIED:20250303T061917Z
UID:10000084-1742032800-1742047200@sactownsupermom.com
SUMMARY:STEM Pop-Ups Saturday
DESCRIPTION:STEM activities at the Aerospace Museum are out of this world on Saturday\, March 15\, 2025. \nKids can engage in STEM activities that ignite creativity and innovation. This event is included with regular museum admission.
URL:https://sactownsupermom.com/event/stem-pop-ups-saturday/
LOCATION:Aerospace Museum of California\, 3200 Freedom Park Drive\, McClellan\, CA\, 95652
CATEGORIES:Museums
END:VEVENT
BEGIN:VEVENT
DTSTART;TZID=America/Los_Angeles:20250308T130000
DTEND;TZID=America/Los_Angeles:20250308T150000
DTSTAMP:20260423T092537
CREATED:20250225T042658Z
LAST-MODIFIED:20250225T042658Z
UID:10000105-1741438800-1741446000@sactownsupermom.com
SUMMARY:Painting Party at the Barn
DESCRIPTION:Kids ages 5+ can participate in a painting party at Hagan Community Barn during the afternoon of Saturday\, March 8\, 2025. While painting\, kids can visit animals at the barn. \nPre-registration for the event is required.
URL:https://sactownsupermom.com/event/painting-party-at-the-barn/
LOCATION:Hagan Community Barn\, 2197 Chase Dr\, Rancho Cordova\, CA\, 95670
CATEGORIES:Farms
END:VEVENT
BEGIN:VEVENT
DTSTART;TZID=America/Los_Angeles:20250308T100000
DTEND;TZID=America/Los_Angeles:20250308T110000
DTSTAMP:20260423T092537
CREATED:20250210T030450Z
LAST-MODIFIED:20250210T030450Z
UID:10000091-1741428000-1741431600@sactownsupermom.com
SUMMARY:The Nature of Reading Program
DESCRIPTION:The Nature of Reading Program is a monthly series at the Effie Yeaw Nature Center that takes place on the second Saturday of each month from 10am to 11am. \nEach month will be a different nature theme. The program will also include a story\, and an interactive craft or activity. Animal ambassadors may even appear during some months. \nThis program is best for kids ages 5-8 years old. An accompanying adult must attend the event with children. Pre-registration for the event is recommended. \nThe theme for the month of March 2025 is Food Chains.
URL:https://sactownsupermom.com/event/the-nature-of-reading-program/
LOCATION:Effie Yeaw Nature Center\, 2850 San Lorenzo Way\, Carmichael\, CA\, 95608
CATEGORIES:Nature
END:VEVENT
BEGIN:VEVENT
DTSTART;TZID=America/Los_Angeles:20250308T090000
DTEND;TZID=America/Los_Angeles:20250308T130000
DTSTAMP:20260423T092537
CREATED:20250303T063555Z
LAST-MODIFIED:20250303T063555Z
UID:10000110-1741424400-1741438800@sactownsupermom.com
SUMMARY:Junior League of Sacramento: Touch-A-Truck
DESCRIPTION:Kids can get up close to their favorite big trucks at the Junior League of Sacramento’s Touch-A-Truck on Saturday\, March 8\, 2025. There will be a variety of vehicles and their operators.
URL:https://sactownsupermom.com/event/junior-league-of-sacramento-touch-a-truck/
LOCATION:Sacramento City College North Lot\, 3835 Freeport Blvd\, Sacramento\, CA\, 95822
CATEGORIES:Touch-A-Truck
END:VEVENT
BEGIN:VEVENT
DTSTART;TZID=America/Los_Angeles:20250308T090000
DTEND;TZID=America/Los_Angeles:20250308T120000
DTSTAMP:20260423T092537
CREATED:20250303T062634Z
LAST-MODIFIED:20250306T175316Z
UID:10000109-1741424400-1741435200@sactownsupermom.com
SUMMARY:Family Bike Rodeo
DESCRIPTION:The whole family can attend a free bike rodeo in Folsom on Saturday\, March 8\, 2025. There will be helmet fittings\, an obstacle course\, bike safety stations\, pixie bike races\, and more. \nNo registration is required for this event.
URL:https://sactownsupermom.com/event/family-bike-rodeo/
LOCATION:Dan Russell Arena\, 200 Stafford St.\, Folsom\, CA\, 95630
CATEGORIES:Free
END:VEVENT
BEGIN:VEVENT
DTSTART;TZID=America/Los_Angeles:20250302T100000
DTEND;TZID=America/Los_Angeles:20250302T170000
DTSTAMP:20260423T092537
CREATED:20250210T024116Z
LAST-MODIFIED:20260215T200130Z
UID:10000088-1740909600-1740934800@sactownsupermom.com
SUMMARY:WOW's Sweet 16 Birthday Party
DESCRIPTION:The World of Wonders Science Museum in Lodi celebrates its 16th birthday by offering free admission to visitors on Sunday\, March 2\, 2025.
URL:https://sactownsupermom.com/event/wows-sweet-16-birthday-party/
LOCATION:World of Wonders Science Museum\, 2 N Sacramento St\, Lodi\, CA\, 95240
CATEGORIES:Museums
END:VEVENT
BEGIN:VEVENT
DTSTART;TZID=America/Los_Angeles:20250302T100000
DTEND;TZID=America/Los_Angeles:20250302T150000
DTSTAMP:20260423T092537
CREATED:20250204T054654Z
LAST-MODIFIED:20260215T160051Z
UID:10000081-1740909600-1740927600@sactownsupermom.com
SUMMARY:Read Across America Celebration
DESCRIPTION:Fairytale Town will celebrate Read Across America week on Sunday\, March 2\, 2025. Kids can participate in literacy-themed activities\, and arts and crafts. \nThere will also be a nonstop reading of beloved children’s books on the Mother Goose Stage. \nThe Read Across America Celebration is included with regular Fairytale Town admission. Check the official Fairytale Town website for event weather updates.
URL:https://sactownsupermom.com/event/read-across-america-celebration/
LOCATION:Fairytale Town
CATEGORIES:Fairytale Town
END:VEVENT
BEGIN:VEVENT
DTSTART;TZID=America/Los_Angeles:20250302T090000
DTEND;TZID=America/Los_Angeles:20250302T113000
DTSTAMP:20260423T092537
CREATED:20250225T044643Z
LAST-MODIFIED:20250225T044643Z
UID:10000107-1740906000-1740915000@sactownsupermom.com
SUMMARY:Hike and Seek Scavenger Hunt
DESCRIPTION:Go on a family-friendly “hike and seek” scavenger hunt at Folsom Lake on Sunday\, March 2\, 2025. \nParticipants are provided with a scavenger hunt worksheet that will include things to find while trekking on the hike. It’s recommended to bring a writing utensil for the worksheet. \nThe hike will be a total out and back hike\, approximately 2.5 – 3 miles. The hike is pretty easy with some rocky and uneven terrain. There are only a few inclines. The exact location of the scavenger hunt will be provided after registering. \nRSVP is required to attend the event. \nAll ages are welcome to attend. Dogs are not allowed at the event. \nDon’t forget to bring water and sunscreen!
URL:https://sactownsupermom.com/event/hike-and-seek-scavenger-hunt/
LOCATION:Folsom\, Folsom Lake\, Folsom\, CA
CATEGORIES:Hiking,Nature
END:VEVENT
BEGIN:VEVENT
DTSTART;TZID=America/Los_Angeles:20250302T090000
DTEND;TZID=America/Los_Angeles:20250302T110000
DTSTAMP:20260423T092537
CREATED:20250210T033055Z
LAST-MODIFIED:20250210T033055Z
UID:10000093-1740906000-1740913200@sactownsupermom.com
SUMMARY:Fairy Magic Potion Workshop
DESCRIPTION:Magical potion and slime-making will take place at BusyKids Folsom on Sunday\, March 2\, from 9am to 11am. Kids can embrace the mess with a fairy\, and enjoy open play.
URL:https://sactownsupermom.com/event/fairy-magic-potion-workshop/
LOCATION:BusyKids\, 1014 Riley St\, Folsom\, CA\, 95630
CATEGORIES:Indoor Play Spaces
END:VEVENT
BEGIN:VEVENT
DTSTART;VALUE=DATE:20250301
DTEND;VALUE=DATE:20250303
DTSTAMP:20260423T092537
CREATED:20250202T154339Z
LAST-MODIFIED:20260210T223806Z
UID:10000073-1740787200-1740959999@sactownsupermom.com
SUMMARY:Free Museum Weekend
DESCRIPTION:The annual Free Museum Weekend in Sacramento returns on Saturday\, March 1\, and Sunday\, March 2\, 2025. Over 20 museums participate in the event. \nPre-registration is required in order to reserve free passes for Free Museum Weekend. Pre-registration opens on Monday\, February 24\, 2025\, at 9am PST. \nLearn more details about 2025 Free Museum Weekend in Sacramento here.
URL:https://sactownsupermom.com/event/free-museum-weekend/
LOCATION:Sacramento\, CA
CATEGORIES:Museums
END:VEVENT
BEGIN:VEVENT
DTSTART;TZID=America/Los_Angeles:20250228T173000
DTEND;TZID=America/Los_Angeles:20250228T210000
DTSTAMP:20260423T092537
CREATED:20250120T150327Z
LAST-MODIFIED:20250120T150327Z
UID:10000035-1740763800-1740776400@sactownsupermom.com
SUMMARY:Kid's Night Out (Taylor's Version)
DESCRIPTION:Parents can drop off kids ages 4-12 for a Taylor Swift-themed night of fun and activities at Fairytale Town on Friday\, February 28\, 2025\, from 5:30-9pm. \nKids can shake it off with dance parties\, craft friendship bracelets\, enjoy dinner\, and fun while making new friends and participating in entertaining activities. \nA schedule of events is as follows: \n\n5-6pm: Check-in/Free Time\n6-6:30pm: Dinner\n6:30-7pm: Activity 1\n7-7:30pm: Activity 2\n7:30-8pm: Activity 3\n8-9pm: Movie and Free Play\n\nAll activities are supervised by the staff at Fairytale Town. \nSpaces are limited\, so register early.
URL:https://sactownsupermom.com/event/kids-night-out-taylors-version/
LOCATION:Fairytale Town
CATEGORIES:Fairytale Town
END:VEVENT
BEGIN:VEVENT
DTSTART;TZID=America/Los_Angeles:20250223T160000
DTEND;TZID=America/Los_Angeles:20250223T173000
DTSTAMP:20260423T092537
CREATED:20250114T025419Z
LAST-MODIFIED:20250126T035628Z
UID:10000028-1740326400-1740331800@sactownsupermom.com
SUMMARY:Marie Curie and the Sisterhood of Science
DESCRIPTION:As part of the Family Series productions at the B Street Theatre\, a production of Marie Curie and the Sisterhood of Science\, will take place from February 15 – 23\, 2025. \nThis performance is for kids\, ages 5+\, with a run time of 1 hour and 15 minutes\, with an intermission. \n \nHere’s a synopsis of Marie Curie and the Sisterhood of Science from the B Street Theatre: \nMarie Curie and the Sisterhood of Science is a mesmerizing\, radioactive adventure in scientific discovery and great for young audiences! This production showcases Marie Curie as a figure of mythic proportions — an ordinary woman who became an extraordinary force for good\, won two Nobel prizes in two different fields\, and saved thousands of lives on the battlefield in WW1 and millions thereafter with her ground-breaking technology\, X-Rays. \nAs told through the eyes of her young daughters\, Irène and Eve\, Marie’s life was not easy. Much of her extraordinary journey was as a single mother\, raising 2 children alone\, defying social conventions as a woman in a male-dominated field\, and working with incredibly dangerous material that took a toll on her health and body. But her mission was simple\, her name forever remembered\, her story…heroic! \nMadame Curie’s legacy of courage and sacrifice lives on\, not only in the lives she saved but also in the next generation of scientists and the millions of men and women who followed in her footsteps in medicine\, science and discovery. The legacy of the Curie family and the world-altering power of radioactivity is brought to life onstage: don’t miss your chance to see this play!
URL:https://sactownsupermom.com/event/marie-curie-and-the-sisterhood-of-science/2025-02-23/2/
LOCATION:B Street Theatre\, 2700 Capitol Avenue\, Sacramento\, CA\, 95816
CATEGORIES:B Street Theatre
END:VEVENT
BEGIN:VEVENT
DTSTART;TZID=America/Los_Angeles:20250223T133000
DTEND;TZID=America/Los_Angeles:20250223T170000
DTSTAMP:20260423T092537
CREATED:20250122T194611Z
LAST-MODIFIED:20250126T035558Z
UID:10000059-1740317400-1740330000@sactownsupermom.com
SUMMARY:Broadway Sacramento: Mean Girls
DESCRIPTION:Mean Girls will be performed at the SAFE Credit Union Performing Arts Center from February 18-23\, 2025\, as part of Broadway Sacramento. \nWear pink to the Wednesday showing\, and talk about how the performances are so fetch.
URL:https://sactownsupermom.com/event/broadway-sacramento-mean-girls/2025-02-23/
LOCATION:SAFE Credit Union Convention Center\, 1301 L St\,\, Sacramento\, CA\, 95814
CATEGORIES:Broadway Sacramento
END:VEVENT
BEGIN:VEVENT
DTSTART;TZID=America/Los_Angeles:20250223T080000
DTEND;TZID=America/Los_Angeles:20250223T150000
DTSTAMP:20260423T092537
CREATED:20250125T143336Z
LAST-MODIFIED:20260201T051023Z
UID:10000062-1740297600-1740322800@sactownsupermom.com
SUMMARY:Capay Valley Almond Festival
DESCRIPTION:The annual Capay Valley Almond Festival will take place on Saturday\, February 22 & 23\, 2025. Several venues throughout the Capay Valley in Esparto\, Capay\, Brooks\, Guinda\, and Rumsey will have almond festival activities. \nThe Capay Valley Almond Festival takes place when almond trees in the Capay Valley are in bloom\, during the last weekend of February. \nCurrent details effective end of January 2025: \n\nThe main Almond Festival will take place on Sunday\, February 23\, 2025\nVendors will be in Esparto Community Park on Sunday\, February 23\, 2025 beginning at 8am\nThere will be a car show on Sunday\, February 23\, at the Esparto Fire Department\n\nSeka Hills in Brooks will have an Almond Festival on Sunday\, February 23\, 2025\, from 10am to 3pm \n\n\n\nSeka Hills will have almond blossom tours\, olive oil ice cream sandwiches\, food trucks\, and vendors\n\n\n\n  \n  \n 
URL:https://sactownsupermom.com/event/capay-valley-almond-festival/2025-02-23/
LOCATION:Capay Valley\, Esparto\, CA
CATEGORIES:Almond Blossoms
END:VEVENT
BEGIN:VEVENT
DTSTART;TZID=America/Los_Angeles:20250222T150000
DTEND;TZID=America/Los_Angeles:20250222T210000
DTSTAMP:20260423T092537
CREATED:20250220T020218Z
LAST-MODIFIED:20250220T020218Z
UID:10000104-1740236400-1740258000@sactownsupermom.com
SUMMARY:City of Trees Parade & Mardi Gras Festival
DESCRIPTION:The City of Trees Parade celebrates Sacramento in a unique way in the format of Mardi Gras with a festival and parade on Saturday\, February 22\, 2025. \nThe festival is free for kids with an RSVP.  Adults do need to pay in order to access the festival. \nThere will be plenty of kid-friendly activities at the festival that includes face painting\, Bubble Man. a LEGO build\, and more. Plus\, there will be exciting entertainment like live aerial silk performances\, parade act performances\, and big floats to explore. \nThe schedule of events is as follows: \n\n3-5pm – Festival on Capital Mall between 5th and 7th Street\n5pm – Parade begins; The route begins on Capital Mall goes through the Festival Grounds and ends in Old Sacramento.\n5:30-6pm – Parade arrives in Old Sacramento\n7-9pm – Electric Light Dance Party back at the Capital Mall Festival Grounds\n\n  \n 
URL:https://sactownsupermom.com/event/city-of-trees-parade-mardi-gras-festival/
LOCATION:Capital Mall\, Sacramento\, CA
CATEGORIES:Parades
END:VEVENT
BEGIN:VEVENT
DTSTART;TZID=America/Los_Angeles:20250222T120000
DTEND;TZID=America/Los_Angeles:20250222T160000
DTSTAMP:20260423T092537
CREATED:20250119T215625Z
LAST-MODIFIED:20260114T062749Z
UID:10000030-1740225600-1740240000@sactownsupermom.com
SUMMARY:Chinese New Year in Locke
DESCRIPTION:The Locke Foundation celebrates the Chinese New Year along Main Street on Saturday\, February 22\, 2025. A lion dance takes place at 12pm\, and red envelope lucky money of the year will be given to the first 100 visitors. \nFree admission and free parking are available at the event. \nExpect the following family-friendly activities: \n\nRed Envelope\nMartial Arts and Tai Chi demonstrations\nChildren’s Arts and Crafts\nChinese Zodiac Puppet Show\nChinese Musical Performance\nFood\nChinese New Year Lecture\n\n 
URL:https://sactownsupermom.com/event/chinese-new-year-in-locke/
LOCATION:Locke Foundation\, 13916 Main Street\, Walnut Grove\, CA\, 95690
END:VEVENT
BEGIN:VEVENT
DTSTART;TZID=America/Los_Angeles:20250217T160000
DTEND;TZID=America/Los_Angeles:20250217T190000
DTSTAMP:20260423T092537
CREATED:20250122T192409Z
LAST-MODIFIED:20250126T035526Z
UID:10000051-1739808000-1739818800@sactownsupermom.com
SUMMARY:Disney On Ice Magic in the Stars
DESCRIPTION:Disney On Ice Magic in the Stars glides into Sacramento for nine shows at the Golden 1 Center. This brand-new production brings beloved Disney characters to life with dazzling figure skating\, breathtaking acrobatics\, surprising stunts\, innovative lighting\, and spectacular special effects.  \nDisney On Ice presents Magic in the Stars at Golden 1 Center from February 13-17\, 2025. 
URL:https://sactownsupermom.com/event/disney-on-ice-magic-in-the-stars/2025-02-17/2/
LOCATION:Golden 1 Center\, 500 David J Stern Walk\, Sacramento\, CA\, 95814
CATEGORIES:Golden 1 Center
END:VEVENT
BEGIN:VEVENT
DTSTART;TZID=America/Los_Angeles:20250217T100000
DTEND;TZID=America/Los_Angeles:20250217T140000
DTSTAMP:20260423T092537
CREATED:20250203T063646Z
LAST-MODIFIED:20250207T171219Z
UID:10000079-1739786400-1739800800@sactownsupermom.com
SUMMARY:Marine Mammal Weekend
DESCRIPTION:The Explorit Science Center in Davis will host a Marine Mammal weekend over President’s Day Weekend from February 14 – 17\, 2025. \nFamilies who attend the event will receive a special marine-related gift set that includes a marine mammal plush\, posters\, and cards. The gift set is included with museum admission\, and is available while supplies last. \nMarine Mammal Weekend will dive into interesting facts about marine mammals with specimens and displays.
URL:https://sactownsupermom.com/event/marine-mammal-weekend/2025-02-17/
LOCATION:Explorit Science Center\, 3141 5th Street\, Davis\, CA\, 95618
CATEGORIES:Museums
END:VEVENT
BEGIN:VEVENT
DTSTART;TZID=America/Los_Angeles:20250216T130000
DTEND;TZID=America/Los_Angeles:20250216T160000
DTSTAMP:20260423T092537
CREATED:20250120T175329Z
LAST-MODIFIED:20250120T175329Z
UID:10000038-1739710800-1739721600@sactownsupermom.com
SUMMARY:Dog Man Fan Party
DESCRIPTION:A Seat at the Table bookstore in Elk Grove will be hosting a Dog Man Fan Party on Sunday\, February 16\, 2025. Meet Dog Man\, get your Dog Man books signed\, enjoy themed coloring pages\, and more. \nRSVP is required for the time slot you plan to arrive in due to popular demand for the event. RSVP here!
URL:https://sactownsupermom.com/event/dog-man-fan-party/
LOCATION:A Seat at the Table\, 9257 Laguna Springs Drive\, Elk Grove\, CA\, 95758
CATEGORIES:A Seat at the Table,Elk Grove
END:VEVENT
BEGIN:VEVENT
DTSTART;TZID=America/Los_Angeles:20250216T120000
DTEND;TZID=America/Los_Angeles:20250216T160000
DTSTAMP:20260423T092537
CREATED:20250207T162106Z
LAST-MODIFIED:20250207T162106Z
UID:10000085-1739707200-1739721600@sactownsupermom.com
SUMMARY:National Almond Day Celebration with Blue Diamond
DESCRIPTION:Celebrate National Almond Day with Blue Diamond at Urban Roots Brewery & Smokehouse on Sunday\, February 16\, 2025\, from 12pm to 4pm. \nBlue Diamond will be debuting the “The Nutty Cruiser” while giving away free swag and products. Enjoy a complimentary portfolio of Blue Diamond products\, which includes their newest flavors by way of craft beer pairings\, snacks\, and coffee\, while supplies last. \nUrban Roots Brewery might be a brewery\, but it’s family-friendly\, and one of the best kid-friendly restaurants in Sacramento!
URL:https://sactownsupermom.com/event/national-almond-day-celebration-with-blue-diamond/
LOCATION:Urban Roots Brewery & Smokehouse\, 1322 V St\, Sacramento\, CA\, 95818
END:VEVENT
BEGIN:VEVENT
DTSTART;TZID=America/Los_Angeles:20250216T090000
DTEND;TZID=America/Los_Angeles:20250216T130000
DTSTAMP:20260423T092537
CREATED:20250125T215602Z
LAST-MODIFIED:20250125T215602Z
UID:10000064-1739696400-1739710800@sactownsupermom.com
SUMMARY:Great Backyard Bird Count for Kids
DESCRIPTION:The Sacramento Audubon Society will host the Great Backyard Bird Count for kids ages 7+ on Sunday\, February 16\, 2025\, at the Effie Yeaw Nature Center. \nRegistration is required for the event. Register here. \nThe day will begin with a binocular boot camp and a discussion about the importance of counting birds. Registrants will be split into small groups to explore along the trail\, and count birds. Each group will include an experienced bird leader. When lunch concludes\, each group will present their bird findings. \nBe sure to bring: \n\nWarm clothing layers\nBinoculars\nBagged lunch\n\nAn adult must accompany a child while during the entirety of the event.
URL:https://sactownsupermom.com/event/great-backyard-bird-count-for-kids-2/
LOCATION:Effie Yeaw Nature Center\, 2850 San Lorenzo Way\, Carmichael\, CA\, 95608
CATEGORIES:Nature
END:VEVENT
BEGIN:VEVENT
DTSTART;TZID=America/Los_Angeles:20250215T113000
DTEND;TZID=America/Los_Angeles:20250215T120000
DTSTAMP:20260423T092537
CREATED:20250211T023418Z
LAST-MODIFIED:20250211T023418Z
UID:10000094-1739619000-1739620800@sactownsupermom.com
SUMMARY:Valentine's Storytime Featuring Clifford\, the Big Red Dog
DESCRIPTION:A Seat at the Table bookstore has a weekly storytime each Saturday\, and this week’s storytime is Valentine’s Day-themed that celebrates Clifford\, the Big Red Dog’s birthday on Saturday\, February 15\, 2025\, from 11:30am to 12pm.
URL:https://sactownsupermom.com/event/valentines-storytime-featuring-clifford-the-big-red-dog/
LOCATION:A Seat at the Table\, 9257 Laguna Springs Drive\, Elk Grove\, CA\, 95758
CATEGORIES:A Seat at the Table,Free
END:VEVENT
BEGIN:VEVENT
DTSTART;TZID=America/Los_Angeles:20250215T100000
DTEND;TZID=America/Los_Angeles:20250215T160000
DTSTAMP:20260423T092537
CREATED:20250203T050343Z
LAST-MODIFIED:20250203T050401Z
UID:10000075-1739613600-1739635200@sactownsupermom.com
SUMMARY:Activity Day at Sutter's Fort
DESCRIPTION:Kids can participate in hands-on historical activities at Sutter’s Fort monthly Activity Day on Saturday\, February 15\, 2025\, from 10am to 4pm. \nRegular Sutter’s Fort admission rates apply for the event. This event is for kids of all ages. \nThe specific experiences scheduled for Activity Days may differ. Some example activities may include crafts\, hands-on engagements\, interactive educational experiences\, and different skills.
URL:https://sactownsupermom.com/event/activity-day-at-sutters-fort/
LOCATION:Sutter’s Fort\, 2701 L St\, Sacramento\, CA\, 95816\, United States
CATEGORIES:Sutter's Fort
END:VEVENT
END:VCALENDAR