BEGIN:VCALENDAR
VERSION:2.0
PRODID:-//Sactown Supermom - ECPv6.15.20//NONSGML v1.0//EN
CALSCALE:GREGORIAN
METHOD:PUBLISH
X-WR-CALNAME:Sactown Supermom
X-ORIGINAL-URL:https://sactownsupermom.com
X-WR-CALDESC:Events for Sactown Supermom
REFRESH-INTERVAL;VALUE=DURATION:PT1H
X-Robots-Tag:noindex
X-PUBLISHED-TTL:PT1H
BEGIN:VTIMEZONE
TZID:America/Los_Angeles
BEGIN:DAYLIGHT
TZOFFSETFROM:-0800
TZOFFSETTO:-0700
TZNAME:PDT
DTSTART:20240310T100000
END:DAYLIGHT
BEGIN:STANDARD
TZOFFSETFROM:-0700
TZOFFSETTO:-0800
TZNAME:PST
DTSTART:20241103T090000
END:STANDARD
BEGIN:DAYLIGHT
TZOFFSETFROM:-0800
TZOFFSETTO:-0700
TZNAME:PDT
DTSTART:20250309T100000
END:DAYLIGHT
BEGIN:STANDARD
TZOFFSETFROM:-0700
TZOFFSETTO:-0800
TZNAME:PST
DTSTART:20251102T090000
END:STANDARD
BEGIN:DAYLIGHT
TZOFFSETFROM:-0800
TZOFFSETTO:-0700
TZNAME:PDT
DTSTART:20260308T100000
END:DAYLIGHT
BEGIN:STANDARD
TZOFFSETFROM:-0700
TZOFFSETTO:-0800
TZNAME:PST
DTSTART:20261101T090000
END:STANDARD
END:VTIMEZONE
BEGIN:VEVENT
DTSTART;TZID=America/Los_Angeles:20250518T090000
DTEND;TZID=America/Los_Angeles:20250518T160000
DTSTAMP:20260423T022532
CREATED:20250426T233239Z
LAST-MODIFIED:20250426T233239Z
UID:10000226-1747558800-1747584000@sactownsupermom.com
SUMMARY:California Mermaid Convention
DESCRIPTION:The California Mermaid Convention swims into Rancho Cordova with children’s activities taking place on Saturday and Sunday\, May 17 & 18\, 2025. This is a family-friendly event that includes specific children’s programming such as kids swimming with mermaids\, and participating in games and treasure hunts. \nChildren’s activities at the Mermaid Convention will include: \n\nThe Netflix Show\, Mermaid Magic Pavilion will have dance contests and games\nChildren’s swim with a mermaid entertainer each hour in a zero-depth entry pool\nChildren’s swim classes\nTreasure hunts and games in the Atlantis Play Area\n\nMain entry children’s tickets include a pass for one child and one adult. If an additional adult is attending\, they must purchase a Landlubber (spectator) ticket. Children ages 3 and under receive free admission.
URL:https://sactownsupermom.com/event/california-mermaid-convention-3/
LOCATION:Hagan Community Park\, 2197 Chase Dr\, Rancho Cordova\, CA\, 95670
CATEGORIES:Rancho Cordova
END:VEVENT
BEGIN:VEVENT
DTSTART;TZID=America/Los_Angeles:20250517T103000
DTEND;TZID=America/Los_Angeles:20250517T130000
DTSTAMP:20260423T022532
CREATED:20250425T040053Z
LAST-MODIFIED:20250425T040053Z
UID:10000221-1747477800-1747486800@sactownsupermom.com
SUMMARY:Folsom Skate & BMX Jam
DESCRIPTION:Skate and BMX Jam will take place on Saturday\, May 17\, 2025 at Cummings Family Park in Folsom. Riders of all ages and abilities are welcome to attend the free event to learn how to ride and skate. \nThe event will also include hands-on workshops and sponsor demos. \nSafety gear is required for all participating event riders and skaters. \nWhile the event is free\, participants must register on Rec Trac in advance.
URL:https://sactownsupermom.com/event/folsom-skate-bmx-jam/
LOCATION:Cummings Family Park\, 1775 Creekside Drive\, Folsom\, CA\, 95630
CATEGORIES:Free
END:VEVENT
BEGIN:VEVENT
DTSTART;TZID=America/Los_Angeles:20250517T090000
DTEND;TZID=America/Los_Angeles:20250517T120000
DTSTAMP:20260423T022532
CREATED:20250424T050305Z
LAST-MODIFIED:20250425T013438Z
UID:10000202-1747472400-1747483200@sactownsupermom.com
SUMMARY:Pancake Palooza at Safetyville USA
DESCRIPTION:Safetyville USA will have a Pancake Palooza on Saturday\, May 17\, 2025. Breakfast will be served\, and bikes will be ridden safely with helmets. \nBreakfast will include pancakes\, sausage\, and drinks\, and be served from 9-11am. Safetyville USA will remain open until 12pm for bike riding. All riders must wear helmets.
URL:https://sactownsupermom.com/event/pancake-palooza-at-safetyville-usa/
LOCATION:Safetyville USA\, 3909 Bradshaw Rd\, Sacramento\, CA\, 95827
CATEGORIES:May,Safetyville
END:VEVENT
BEGIN:VEVENT
DTSTART;TZID=America/Los_Angeles:20250516T170000
DTEND;TZID=America/Los_Angeles:20250516T193000
DTSTAMP:20260423T022532
CREATED:20250425T213228Z
LAST-MODIFIED:20250425T213228Z
UID:10000224-1747414800-1747423800@sactownsupermom.com
SUMMARY:The Promenade of Mermaids
DESCRIPTION:The free Promenade of Mermaids will take place on Friday\, May 16\, 2025. The family-friendly march will take place in Old Sacramento. \nThe march will begin from the Embarcadero in Old Sacramento. \nThe Promenade of Mermaids schedule is below: \n\n5pm – Activities include hair braiding\, face painting\, bubble show\, and vendors\n5:30pm – Flash mob with the Abalone Merman\n6pm – The Promenade of Mermaids march begins\n6:15pm – Dance party to take place on the boardwalk\n7:30pm – Event ends
URL:https://sactownsupermom.com/event/the-promenade-of-mermaids/
LOCATION:Old Sacramento Waterfront\, Sacramento\, CA
CATEGORIES:Old Sacramento
END:VEVENT
BEGIN:VEVENT
DTSTART;TZID=America/Los_Angeles:20250511T130000
DTEND;TZID=America/Los_Angeles:20250511T220000
DTSTAMP:20260423T022532
CREATED:20250506T044238Z
LAST-MODIFIED:20250506T044238Z
UID:10000243-1746968400-1747000800@sactownsupermom.com
SUMMARY:FoodieLand at Cal Expo
DESCRIPTION:FoodieLand takes place during the weekend of May 9-11\, 2025 at Cal Expo. This family-friendly foodie event will have tons of vendors with a diverse range of cuisines to choose from. \nCheck out the list of vendors here. \n 
URL:https://sactownsupermom.com/event/foodieland-at-cal-expo/2025-05-11/
LOCATION:Cal Expo\, 1600 Exposition Boulevard\, Sacramento\, CA\, 95815
CATEGORIES:Food
END:VEVENT
BEGIN:VEVENT
DTSTART;TZID=America/Los_Angeles:20250511T110000
DTEND;TZID=America/Los_Angeles:20250511T160000
DTSTAMP:20260423T022532
CREATED:20250426T211439Z
LAST-MODIFIED:20250508T210246Z
UID:10000231-1746961200-1746979200@sactownsupermom.com
SUMMARY:Mothers Day Brunch at Willow Springs (PSVRR) (CANCELED)
DESCRIPTION:Climb aboard the Placerville & Sacramento Valley Railroad (PSVRR) for a Mother’s Day Brunch train ride from Oak Station to Willow Springs in Folsom on Sunday\, May 11\, 2025. \nA 10-minute train ride will take Mom to tables set up near Willow Creek where brunch will be served. Food will include eggs\, bacon\, potatoes\, muffins\, and drinks. Mom will also receive one mimosa\, included in the price of the ticket. Take photos\, enjoy the creek\, and then take the 10-minute train ride back. \nVolunteers will be pumping a historic railcar down the track while Mom and the family relax on the rails. \nThe rail trip will take a total of approximately 90 minutes. Each motorcar departs the station every 30 minutes. Families are welcome to stay as long as they like when reaching Willow Springs. \nChildren ages 4 and under ride free and do not need a ticket. Tickets will go on a sale one week before the event takes place. \nThe PSVRR boarding location is next to Family Fitness at 700 Oak Pkwy in Folsom. Parking is in the Family Fitness parking lot (on the side facing the tracks).
URL:https://sactownsupermom.com/event/mothers-day-brunch-at-willow-springs-psvrr/
LOCATION:Parking at PSVRR\, 700 Oak Ave Pkwy\, Folsom\, CA\, 95630
END:VEVENT
BEGIN:VEVENT
DTSTART;TZID=America/Los_Angeles:20250511T100000
DTEND;TZID=America/Los_Angeles:20250511T170000
DTSTAMP:20260423T022532
CREATED:20250506T044928Z
LAST-MODIFIED:20250506T044928Z
UID:10000246-1746957600-1746982800@sactownsupermom.com
SUMMARY:Whole Earth Festival
DESCRIPTION:The annual Whole Earth Festival (WEF) returns to the UC Davis Quad during the weekend of May 9-11\, 2025. This is a free\, student-run family-friendly event that encourages living sustainably through music\, arts\, crafts\, and educational vendors.
URL:https://sactownsupermom.com/event/whole-earth-festival/2025-05-11/
LOCATION:UC Davis\, Davis\, CA
CATEGORIES:Free
END:VEVENT
BEGIN:VEVENT
DTSTART;TZID=America/Los_Angeles:20250511T090000
DTEND;TZID=America/Los_Angeles:20250511T150000
DTSTAMP:20260423T022532
CREATED:20250426T212225Z
LAST-MODIFIED:20250426T212225Z
UID:10000232-1746954000-1746975600@sactownsupermom.com
SUMMARY:Mother's Day at Heirloom Acres Farm
DESCRIPTION:Heirloom Acres Farm will have a Mother’s Day celebration on Sunday\, May 11\, 2025. Bring a picnic and enjoy the beauty of the farm. \nActivities will include: \n\nLattes from Indulgence Coffee Truck\nPlants for sale\nCreate bracelets at the Charm Bar\nCurated barn market\nMother’s Day backdrop for photos
URL:https://sactownsupermom.com/event/mothers-day-at-heirloom-acres-farm/
LOCATION:Heirloom Acres Farm\, 7116 Chestnut Ave\, Orangevale\, 95662
CATEGORIES:Farms
END:VEVENT
BEGIN:VEVENT
DTSTART;TZID=America/Los_Angeles:20250511T090000
DTEND;TZID=America/Los_Angeles:20250511T110000
DTSTAMP:20260423T022532
CREATED:20250426T214316Z
LAST-MODIFIED:20250426T214316Z
UID:10000235-1746954000-1746961200@sactownsupermom.com
SUMMARY:Mother's Day Paddle
DESCRIPTION:Start Mother’s Day with a peaceful two-hour paddle at the Lodi Boathouse on Sunday\, May 11\, 2025. This will be a family-friendly two-hour paddle. \nRent a kayak at the Lodi Boathouse or bring your own for the event. Launch will begin at 9am. Arrive at 8:30am.
URL:https://sactownsupermom.com/event/mothers-day-paddle/
LOCATION:Lodi Boathouse\, 1101 W Turner Rd\, Lodi\, CA\, 95242
CATEGORIES:Mother's Day
END:VEVENT
BEGIN:VEVENT
DTSTART;TZID=America/Los_Angeles:20250510T140000
DTEND;TZID=America/Los_Angeles:20250510T160000
DTSTAMP:20260423T022532
CREATED:20250501T052844Z
LAST-MODIFIED:20250501T052950Z
UID:10000238-1746885600-1746892800@sactownsupermom.com
SUMMARY:Mother's Day Crafting Party
DESCRIPTION:Space To Play in Elk Grove will have a Mother’s Day Crafting Party on Saturday\, May 10\, 2025. Crafts will include handprint jar vases and bouquets full of fresh flowers. \nThe event price includes supplies\, fresh flowers\, and open play. \nSpace is limited for the event. Contact Space To Play to reserve your spot.
URL:https://sactownsupermom.com/event/mothers-day-crafting-party/
LOCATION:Space To Play\, 9683 Elk Grove Florin Rd\, Elk Grove\, CA\, 95624
CATEGORIES:Mother's Day
END:VEVENT
BEGIN:VEVENT
DTSTART;TZID=America/Los_Angeles:20250510T113000
DTEND;TZID=America/Los_Angeles:20250510T123000
DTSTAMP:20260423T022532
CREATED:20250128T041008Z
LAST-MODIFIED:20250128T041008Z
UID:10000071-1746876600-1746880200@sactownsupermom.com
SUMMARY:Bunnies & Books Storytime
DESCRIPTION:Bunnies & Books storytime is a free monthly event held at Wild Sisters Book Company where families can learn about adopting or fostering rabbits. \nOn occasion\, bunnies may be at the storytime. However\, there may be some storytimes where the bunnies are not able to be held due to the health and safety of the animals. Volunteers will be available to answer questions about adopting bunnies. \nThe storytime book changes each month.
URL:https://sactownsupermom.com/event/bunnies-books-storytime/2025-05-10/
LOCATION:Wild Sisters Book Company\, 3325 Folsom Blvd.\, Sacramento\, CA\, 95816
END:VEVENT
BEGIN:VEVENT
DTSTART;TZID=America/Los_Angeles:20250510T110000
DTEND;TZID=America/Los_Angeles:20250510T140000
DTSTAMP:20260423T022532
CREATED:20250424T050804Z
LAST-MODIFIED:20250424T050804Z
UID:10000203-1746874800-1746885600@sactownsupermom.com
SUMMARY:Rodeo Lunch at Hagan Community Barn
DESCRIPTION:A Rodeo Lunch will be served up at the Hagan Community Barn in Rancho Cordova on Saturday\, May 10\, 2025. Enjoy barn animals\, music\, games\, and lunch. \nThis event is for ages 5 years old and up. Pre-registration is required and spots are limited.
URL:https://sactownsupermom.com/event/rodeo-lunch-at-hagan-community-barn/
LOCATION:Hagan Community Barn\, 2197 Chase Dr\, Rancho Cordova\, CA\, 95670
CATEGORIES:Rancho Cordova
END:VEVENT
BEGIN:VEVENT
DTSTART;TZID=America/Los_Angeles:20250510T100000
DTEND;TZID=America/Los_Angeles:20250510T150000
DTSTAMP:20260423T022532
CREATED:20250426T213654Z
LAST-MODIFIED:20250426T213654Z
UID:10000234-1746871200-1746889200@sactownsupermom.com
SUMMARY:Paddlefest at Lodi Lake
DESCRIPTION:Paddlefest will take place at Lodi Lake on Saturday\, May 10\, 2025. Test a variety of water vessels or bring your own to explore Lodi Lake at your own pace. \nThere will be family-friendly activities\, food\, and vendors. The festival will celebrate all things adventure and water\, and is for all ages and abilities. \nTickets to Paddlefest must be purchased in advance. Day of tickets will not be available. \nA Paddle Pass includes: \n\nHanging out at the beach\nUnlimited 1 hour kayak rentals all day (lake only)\n\n 
URL:https://sactownsupermom.com/event/paddlefest-at-lodi-lake/
LOCATION:Lodi Boathouse\, 1101 W Turner Rd\, Lodi\, CA\, 95242
CATEGORIES:May
END:VEVENT
BEGIN:VEVENT
DTSTART;TZID=America/Los_Angeles:20250510T100000
DTEND;TZID=America/Los_Angeles:20250510T140000
DTSTAMP:20260423T022532
CREATED:20250425T022850Z
LAST-MODIFIED:20250425T022850Z
UID:10000206-1746871200-1746885600@sactownsupermom.com
SUMMARY:4th Annual Mission Oaks Spring Carnival
DESCRIPTION:Mission Oaks will have its 4th annual Spring Carnival on Saturday\, May 10\, 2025\, at Gibbons Park in Carmichael. There will be many activities for kids of all ages including carnival games\, a bounce house\, petting zoo\, crafts\, and an obstacle course. \nPunch cards are $5. Food vendors will also be at the event.
URL:https://sactownsupermom.com/event/4th-annual-mission-oaks-spring-carnival/
LOCATION:Gibbons Park\, 4701 Gibbons Drive\, Carmichael\, CA\, 95608
CATEGORIES:May
END:VEVENT
BEGIN:VEVENT
DTSTART;TZID=America/Los_Angeles:20250510T090000
DTEND;TZID=America/Los_Angeles:20250511T160000
DTSTAMP:20260423T022532
CREATED:20250425T024640Z
LAST-MODIFIED:20250425T034248Z
UID:10000207-1746867600-1746979200@sactownsupermom.com
SUMMARY:BerryFest Strawberry Festival
DESCRIPTION:BerryFest Strawberry Festival is a two-day family-friendly festival in Woodland taking place over Mother’s Day Weekend on May 10 & 11\, 2025\, celebrating the bounty of strawberry season. \nBerryFest will have a “Coming Back with Country” theme to this year’s event with country music performances. \nKid-friendly activities include: \n\nCarnival rides and games\nPetting Zoo\nPony rides\nFacepainting\nStrawberry Village\nArts and crafts\n\nOther popular events at the festival include a Berry Pageant\, Classic Car Show\, and Strawberry Shortcake Eating Contest. \nChildren ages 5 and under receive free admission.
URL:https://sactownsupermom.com/event/berryfest-strawberry-festival/
LOCATION:Yolo County Fairgrounds\, 1250 E. Gum Ave.\, Woodland\, CA\, 95776
CATEGORIES:May,Spring
END:VEVENT
BEGIN:VEVENT
DTSTART;TZID=America/Los_Angeles:20250504T110000
DTEND;TZID=America/Los_Angeles:20250504T150000
DTSTAMP:20260423T022532
CREATED:20250424T045657Z
LAST-MODIFIED:20250424T045657Z
UID:10000201-1746356400-1746370800@sactownsupermom.com
SUMMARY:¡Descubra! Free Family Festival
DESCRIPTION:¡Descubra!\, a free family festival will take place at The Crocker Art Museum on Sunday\, May 4\, 2025. The festival will celebrate the contributions of the Latino community while serving as the closing ceremony for the Collidoscope: de la Torre Brothers Retro-Perspective exhibition. \nActivities at the festival will include: \n\nLive performances\nA community mural in the works\nLocal artists\nA bumping lowrider show
URL:https://sactownsupermom.com/event/descubra-free-family-festival/
LOCATION:Crocker Art Museum\, 216 O Street\, Sacramento\, CA\, 95814
CATEGORIES:Crocker Art Museum,May,Museums
END:VEVENT
BEGIN:VEVENT
DTSTART;TZID=America/Los_Angeles:20250504T100000
DTEND;TZID=America/Los_Angeles:20250504T160000
DTSTAMP:20260423T022532
CREATED:20250426T160529Z
LAST-MODIFIED:20250426T160529Z
UID:10000228-1746352800-1746374400@sactownsupermom.com
SUMMARY:Asian Pacific CultureFest
DESCRIPTION:The Creative Space will have its annual Asian Pacific CultureFest at District 56 in Elk Grove on Sunday\, May 4\, 2025. The day will celebrate API culture with vendors\, food\, art\, music\, and more. \n 
URL:https://sactownsupermom.com/event/asian-pacific-culturefest/
LOCATION:District 56\, 8230 Civic Center Dr #100\, Elk Grove\, CA\, 95757
CATEGORIES:Elk Grove
END:VEVENT
BEGIN:VEVENT
DTSTART;TZID=America/Los_Angeles:20250504T100000
DTEND;TZID=America/Los_Angeles:20250504T140000
DTSTAMP:20260423T022532
CREATED:20250425T034127Z
LAST-MODIFIED:20250425T034127Z
UID:10000218-1746352800-1746367200@sactownsupermom.com
SUMMARY:Star Wars Day at Fairytale Town
DESCRIPTION:Step into a galaxy far far away on Star Wars Day at Fairytale Town on Sunday\, May 4\, 2025. Costumed characters will be out in force. There will also be a game and interactive craft.
URL:https://sactownsupermom.com/event/star-wars-day-at-fairytale-town/
LOCATION:Fairytale Town
CATEGORIES:Fairytale Town,May
END:VEVENT
BEGIN:VEVENT
DTSTART;TZID=America/Los_Angeles:20250503T160000
DTEND;TZID=America/Los_Angeles:20250503T190000
DTSTAMP:20260423T022532
CREATED:20250426T160006Z
LAST-MODIFIED:20250426T160006Z
UID:10000227-1746288000-1746298800@sactownsupermom.com
SUMMARY:Davis Food Co-op Block Party
DESCRIPTION:The Davis Food Co-op will have a free spring block party for the community on Saturday\, May 3\, 2025. There will be a petting zoo\, games\, food\, music\, and more. \nA schedule of events at the block party is below: \n\n4-5pm Cross walk painting\n4-6pm Petting zoo\n4-8pm – Photo booth\n5:30-7pm Face painting\n6-7pm Pin making
URL:https://sactownsupermom.com/event/davis-food-co-op-block-party/
LOCATION:Davis Food Co-op\, 620 G St\, Davis\, CA\, 95616
CATEGORIES:May
END:VEVENT
BEGIN:VEVENT
DTSTART;TZID=America/Los_Angeles:20250503T100000
DTEND;TZID=America/Los_Angeles:20250503T140000
DTSTAMP:20260423T022532
CREATED:20250425T013316Z
LAST-MODIFIED:20260418T223825Z
UID:10000205-1746266400-1746280800@sactownsupermom.com
SUMMARY:Flowers Day at the Koobs Nature Area
DESCRIPTION:The Earl J. Koobs Nature Area will have its monthly Public Open Day on Saturday\, May 3\, 2025. May’s theme is flowers and the day will include kid-friendly flower-themed art and science activities. \nMonthly Public Open Days at Koobs Nature Area are free! Families are welcome to explore the 4.7 acre nature area.
URL:https://sactownsupermom.com/event/flowers-day-at-the-koobs-nature-area/
LOCATION:Earl J. Koobs Nature Area\, 5325 Engle Rd\, Carmichael\, CA\, 95608
CATEGORIES:Free,Nature
END:VEVENT
BEGIN:VEVENT
DTSTART;TZID=America/Los_Angeles:20250503T100000
DTEND;TZID=America/Los_Angeles:20250503T140000
DTSTAMP:20260423T022532
CREATED:20250424T044626Z
LAST-MODIFIED:20250424T044626Z
UID:10000200-1746266400-1746280800@sactownsupermom.com
SUMMARY:Star Wars Open Cockpit at Aerospace Museum
DESCRIPTION:May the force be with you at Star Wars Open Cockpit at the Aerospace Museum on Saturday\, May 3\, 2025. Explore aircraft cockpits in a galaxy far far away alongside costumed characters. Dressing up in galactic gear is encouraged. \nThe day’s activities will also include hands-on STEM fun and snacks inspired by Star Wars in the museum’s cafe.
URL:https://sactownsupermom.com/event/star-wars-open-cockpit-at-aerospace-museum/
LOCATION:Aerospace Museum of California\, 3200 Freedom Park Drive\, McClellan\, CA\, 95652
CATEGORIES:May,Museums
END:VEVENT
BEGIN:VEVENT
DTSTART;TZID=America/Los_Angeles:20250503T100000
DTEND;TZID=America/Los_Angeles:20250503T130000
DTSTAMP:20260423T022532
CREATED:20250426T161243Z
LAST-MODIFIED:20250426T161243Z
UID:10000229-1746266400-1746277200@sactownsupermom.com
SUMMARY:Breathe Bike Festival
DESCRIPTION:The Breathe Bike Festival in West Sacramento kicks off Bike Month with a free community event on Saturday\, May 3\, 2025. There will be family activities\, helmet fittings\, a pump track\, and more.
URL:https://sactownsupermom.com/event/breathe-bike-festival/
LOCATION:The Bridge District\, West Sacramento\, CA
CATEGORIES:May
END:VEVENT
BEGIN:VEVENT
DTSTART;TZID=America/Los_Angeles:20250503T090000
DTEND;TZID=America/Los_Angeles:20250503T150000
DTSTAMP:20260423T022532
CREATED:20250425T034831Z
LAST-MODIFIED:20250501T211503Z
UID:10000219-1746262800-1746284400@sactownsupermom.com
SUMMARY:UC Davis California Raptor Center Spring Open House
DESCRIPTION:The UC Davis California Raptor Center has its free\, annual Spring Open House on Saturday\, May 3\, 2025. Kids can see raptors and participate in educational activities at this family-friendly event.
URL:https://sactownsupermom.com/event/uc-davis-california-raptor-center-spring-open-house/
LOCATION:California Raptor Center\, 1340 Equine Lane\, Davis\, CA\, 95616
CATEGORIES:Free,May
END:VEVENT
BEGIN:VEVENT
DTSTART;TZID=America/Los_Angeles:20250503T090000
DTEND;TZID=America/Los_Angeles:20250503T120000
DTSTAMP:20260423T022532
CREATED:20250426T202509Z
LAST-MODIFIED:20250426T203250Z
UID:10000230-1746262800-1746273600@sactownsupermom.com
SUMMARY:Folsom Pedal Quest
DESCRIPTION:Folsom Pedal Quest invites 500 bike riders of all ages to participate in a free self-guided “quest” through the connected bike paths of Folsom on Saturday\, May 3\, 2025. \nThe routes start and finish in Historic Folsom and range in distance from 1.5 to 30 miles. All ages and abilities are welcome to attend the event. While the event is free\, advance registration is required and the capacity for the event is limited to 500 people. \nKids ages 3-6 can participate in the Balance Bike Bash where t hey can pedal on balance bikes through Historic Folsom on a course with a pool noodle wall\, bubble wrap “rock garden”\, and mini rumble strips. \nEach Balance Bike Bash race takes place every 30 minutes from 9:30am-12pm\, and is limited to 25 kids per race. Races will occur on the 700 block of Sutter Street (between Riley and Wool Streets). Kids can see how many laps they complete in 15 minutes\, and are welcome to use the course as much as they like in between races.
URL:https://sactownsupermom.com/event/folsom-pedal-quest/
LOCATION:Folsom Historic District\, 200 Wool St\, Folsom\, CA\, 95630
CATEGORIES:Free,May
END:VEVENT
BEGIN:VEVENT
DTSTART;TZID=America/Los_Angeles:20250503T080000
DTEND;TZID=America/Los_Angeles:20250504T170000
DTSTAMP:20260423T022532
CREATED:20250216T220358Z
LAST-MODIFIED:20250424T045021Z
UID:10000095-1746259200-1746378000@sactownsupermom.com
SUMMARY:Davis Cherry Blossom Festival
DESCRIPTION:Celebrate the arrival of spring and the Sakura season at the annual Davis Cherry Blossom Festival on Saturday\, May 3\, and Sunday\, May 4\, 2025. \nThis free festival takes place at Sudwerk Brewing Co. in Davis. \nThe community festival features live music like Taiko drumming\, delicious food and drinks\, and activities for all ages\, like mochi pounding.
URL:https://sactownsupermom.com/event/davis-cherry-blossom-festival/
LOCATION:Sudwerk Brewing Co\, 2001 2nd St\, Davis\, CA\, 95618
CATEGORIES:May,Spring
END:VEVENT
BEGIN:VEVENT
DTSTART;TZID=America/Los_Angeles:20250501T140000
DTEND;TZID=America/Los_Angeles:20250501T170000
DTSTAMP:20260423T022532
CREATED:20250415T204650Z
LAST-MODIFIED:20250415T204650Z
UID:10000190-1746108000-1746118800@sactownsupermom.com
SUMMARY:Bike Rodeo at Sacramento Children's Museum
DESCRIPTION:The Sacramento Children’s Museum will have a free Bike Rodeo for kids on Thursday\, May 1\, 2025\, from 2-5pm. Kids can bring their bikes to participate in an obstacle course\, do arts and crafts\, and receive free bike repairs. \nThe Bike Rodeo at the Sacramento Children’s Museum is recommended for kids up to 6th grade. \nThis event is free! Advance registration is required and space is limited.
URL:https://sactownsupermom.com/event/bike-rodeo-at-sacramento-childrens-museum/
LOCATION:Sacramento Children’s Museum\, 2701 Prospect Park\, Rancho Cordova\, CA\, 95670
CATEGORIES:Sacramento Children's Museum
END:VEVENT
BEGIN:VEVENT
DTSTART;TZID=America/Los_Angeles:20250430T080000
DTEND;TZID=America/Los_Angeles:20250430T170000
DTSTAMP:20260423T022532
CREATED:20250501T053718Z
LAST-MODIFIED:20250501T053718Z
UID:10000239-1746000000-1746032400@sactownsupermom.com
SUMMARY:Dino Day @ Space To Play
DESCRIPTION:Space To Play in Elk Grove will have a special Dino Day on Saturday\, May 24\, 2025. Little dino lovers will get to dig for fossils\, hatch a dinosaur\, and get glitter face painting.
URL:https://sactownsupermom.com/event/dino-day-space-to-play/
LOCATION:Space To Play\, 9683 Elk Grove Florin Rd\, Elk Grove\, CA\, 95624
CATEGORIES:Elk Grove
END:VEVENT
BEGIN:VEVENT
DTSTART;TZID=America/Los_Angeles:20250428T100000
DTEND;TZID=America/Los_Angeles:20250428T140000
DTSTAMP:20260423T022532
CREATED:20250313T044447Z
LAST-MODIFIED:20250313T044447Z
UID:10000115-1745834400-1745848800@sactownsupermom.com
SUMMARY:Superhero Day at Fairytale Town
DESCRIPTION:Dress up as your favorite superhero and head to Fairtytale Town for Superhero Day on Monday\, April 28\, 2025. \nThere will be a superhero craft\, and meet and greets with superheroes. Costumes encouraged\, especially ones with capes and masks. \nSuperhero Day is included with Fairytale Town admission. Kids dressed up will receive half off one child admission with one paid adult ticket.
URL:https://sactownsupermom.com/event/superhero-day-at-fairytale-town/
LOCATION:Fairytale Town
CATEGORIES:Fairytale Town
END:VEVENT
BEGIN:VEVENT
DTSTART;TZID=America/Los_Angeles:20250427T110000
DTEND;TZID=America/Los_Angeles:20250427T160000
DTSTAMP:20260423T022532
CREATED:20250324T024229Z
LAST-MODIFIED:20260331T051051Z
UID:10000153-1745751600-1745769600@sactownsupermom.com
SUMMARY:Sacramento Earth Day
DESCRIPTION:The largest Earth Day celebration in Sacramento takes place on Sunday\, April 27\, 2025 at Southside Park. This is a free\, family-friendly festival with over 100 vendors around the sustainability theme of\, “Plan it for the Planet.” \nSacramento Earth Day takes place from 11am to 4pm. A list of vendors that will be at the Sacramento Earth Day celebration can be viewed here. There will also be musicians and food vendors. \nSacRT will be providing free transit to the event. To receive free transit\, show the driver the Free Rides Flyer on this website. There will also be a free bike valet provided by SABA (Sacramento Area Bicycle Advocates).
URL:https://sactownsupermom.com/event/sacramento-earth-day/
LOCATION:Southside Park\, 2115 6th Street\, Sacramento\, CA\, 95818
CATEGORIES:Earth Day
END:VEVENT
BEGIN:VEVENT
DTSTART;TZID=America/Los_Angeles:20250427T110000
DTEND;TZID=America/Los_Angeles:20250427T150000
DTSTAMP:20260423T022532
CREATED:20250218T235753Z
LAST-MODIFIED:20260331T052504Z
UID:10000103-1745751600-1745766000@sactownsupermom.com
SUMMARY:Old Sacramento Spring Festival
DESCRIPTION:Ring in spring with the Sacramento History Museum at a free family-friendly festival on Sunday\, April 27\, 2025. \nFestival attendees can participate in dancing around a 15-foot maypole with ribbons and crowns. Other activities for kids of all ages include arts and crafts\, gold panning\, face painting\, lawn games\, hobby-horse races\, living history demos\, and more. \nCelebrate the spring season and the famed traditions of Camellia Festivals. \nThe Old Sacramento Spring Festival takes place outside the Sacramento History Museum.
URL:https://sactownsupermom.com/event/old-sacramento-spring-festival/
LOCATION:Sacramento History Museum\, 101 I Street\, Old Sacramento\, CA\, 95814
CATEGORIES:Spring
END:VEVENT
END:VCALENDAR