BEGIN:VCALENDAR
VERSION:2.0
PRODID:-//Sactown Supermom - ECPv6.15.20//NONSGML v1.0//EN
CALSCALE:GREGORIAN
METHOD:PUBLISH
X-WR-CALNAME:Sactown Supermom
X-ORIGINAL-URL:https://sactownsupermom.com
X-WR-CALDESC:Events for Sactown Supermom
REFRESH-INTERVAL;VALUE=DURATION:PT1H
X-Robots-Tag:noindex
X-PUBLISHED-TTL:PT1H
BEGIN:VTIMEZONE
TZID:America/Los_Angeles
BEGIN:DAYLIGHT
TZOFFSETFROM:-0800
TZOFFSETTO:-0700
TZNAME:PDT
DTSTART:20240310T100000
END:DAYLIGHT
BEGIN:STANDARD
TZOFFSETFROM:-0700
TZOFFSETTO:-0800
TZNAME:PST
DTSTART:20241103T090000
END:STANDARD
BEGIN:DAYLIGHT
TZOFFSETFROM:-0800
TZOFFSETTO:-0700
TZNAME:PDT
DTSTART:20250309T100000
END:DAYLIGHT
BEGIN:STANDARD
TZOFFSETFROM:-0700
TZOFFSETTO:-0800
TZNAME:PST
DTSTART:20251102T090000
END:STANDARD
BEGIN:DAYLIGHT
TZOFFSETFROM:-0800
TZOFFSETTO:-0700
TZNAME:PDT
DTSTART:20260308T100000
END:DAYLIGHT
BEGIN:STANDARD
TZOFFSETFROM:-0700
TZOFFSETTO:-0800
TZNAME:PST
DTSTART:20261101T090000
END:STANDARD
END:VTIMEZONE
BEGIN:VEVENT
DTSTART;TZID=America/Los_Angeles:20250606T160000
DTEND;TZID=America/Los_Angeles:20250606T200000
DTSTAMP:20260423T001134
CREATED:20250525T224958Z
LAST-MODIFIED:20250525T224958Z
UID:10000300-1749225600-1749240000@sactownsupermom.com
SUMMARY:Fridays in the Grove: Party on the Plaza
DESCRIPTION:A free roller rink pops up at Old Town Plaza in Elk Grove as part of Fridays in the Grove: Party on the Plaza on Friday\, June 6\, 2025. \nAll experience levels and kids of all ages are welcome to skate. Don’t forget to bring socks! \nThere will be a photo van\, and a food truck will be on-site.
URL:https://sactownsupermom.com/event/fridays-in-the-grove-party-on-the-plaza/
LOCATION:Old Town Plaza\, 9615 Railroad Street\, Elk Grove\, CA\, 95624
CATEGORIES:Elk Grove,Free
END:VEVENT
BEGIN:VEVENT
DTSTART;VALUE=DATE:20250606
DTEND;VALUE=DATE:20250609
DTSTAMP:20260423T001134
CREATED:20250527T043341Z
LAST-MODIFIED:20250527T043932Z
UID:10000329-1749168000-1749427199@sactownsupermom.com
SUMMARY:Orangevale's Summer Palooza
DESCRIPTION:Orangevale’s Summer Palooza is a three-day community festival taking place June 6-8\, 2025 at Orangevale Community Park. The summer celebration will have carnival rides\, games\, live entertainment on a main stage\, a free kids zone\, vendors\, food\, and more. The Red\, White & Blue Parade takes place on Saturday\, June 7\, 2025 at 9am. \nThe times differ each day of the festival and are below: \n\nFriday\, June 6\, 2025 – 4-10pm\nSaturday\, June 7\, 2025 – 2-10pm\nSunday\, June 8\, 2025 – 2-8pm\n\nNote that Orangevale’s Summer Palooza carnival rides are a separate cost from admission.
URL:https://sactownsupermom.com/event/orangevales-summer-palooza/
LOCATION:Orangevale Community Park\, 7301 Filbert Ave\, Orangevale\, CA\, 95662
CATEGORIES:June
END:VEVENT
BEGIN:VEVENT
DTSTART;TZID=America/Los_Angeles:20250601T100000
DTEND;TZID=America/Los_Angeles:20250601T160000
DTSTAMP:20260423T001134
CREATED:20250523T215111Z
LAST-MODIFIED:20250523T215111Z
UID:10000265-1748772000-1748793600@sactownsupermom.com
SUMMARY:2025 Curtis Fest
DESCRIPTION:Curtis Fest will take place on Sunday\, June 1\, 2025 at Curtis Park. The free family-friendly festival will have a kids zone with free face painting\, bubble activities\, vendors\, food trucks\, and more.
URL:https://sactownsupermom.com/event/2025-curtis-fest/
LOCATION:Curtis Park\, 3349 W Curtis Ave\, Sacramento\, CA\, 95818
CATEGORIES:Free,June
END:VEVENT
BEGIN:VEVENT
DTSTART;TZID=America/Los_Angeles:20250531T163000
DTEND;TZID=America/Los_Angeles:20250531T173000
DTSTAMP:20260423T001134
CREATED:20250527T035409Z
LAST-MODIFIED:20260418T224705Z
UID:10000326-1748709000-1748712600@sactownsupermom.com
SUMMARY:Puppets and Pajamas!
DESCRIPTION:Puppet Arts Theater will perform a puppet adaptation of The Three Little Pigs at the Fair Oaks Library on Saturday\, May 31\, 2025. The show will combine puppetry with theatrical effects like blacklight and digital projected animations.
URL:https://sactownsupermom.com/event/puppets-and-pajamas/
LOCATION:Fair Oaks Library\, 11601 Fair Oaks Blvd\, Fair Oaks\, CA\, 95628
CATEGORIES:Sacramento Library
END:VEVENT
BEGIN:VEVENT
DTSTART;TZID=America/Los_Angeles:20250531T140000
DTEND;TZID=America/Los_Angeles:20250531T150000
DTSTAMP:20260423T001134
CREATED:20250527T034200Z
LAST-MODIFIED:20250527T034200Z
UID:10000324-1748700000-1748703600@sactownsupermom.com
SUMMARY:Puppet Art Theater at Rancho Cordova Library
DESCRIPTION:Kick off summer reading with a puppet show fairytale at the Rancho Cordova Library on Saturday\, May 31\, 2025.
URL:https://sactownsupermom.com/event/puppet-art-theater-at-rancho-cordova-library/
LOCATION:Rancho Cordova Library\, 9845 Folsom Blvd.\, Sacramento\, CA\, 95827
CATEGORIES:Rancho Cordova,Sacramento Library
END:VEVENT
BEGIN:VEVENT
DTSTART;TZID=America/Los_Angeles:20250531T100000
DTEND;TZID=America/Los_Angeles:20250531T160000
DTSTAMP:20260423T001134
CREATED:20250513T233638Z
LAST-MODIFIED:20260418T224810Z
UID:10000251-1748685600-1748707200@sactownsupermom.com
SUMMARY:Sacramento Book Festival
DESCRIPTION:The Sacramento Book Festival will take place on Saturday\, May 31\, 2025 at Shepard Garden & Arts Center near McKinley Park in East Sacramento. The festival will have a kids zone and children’s book readings. \nThe Sacramento Book Festival will be from 10am to 4pm. The Kids’ Zone will be on the Main Patio and will open at 10am. There will be children’s book readings\, balloon animals\, and art projects. \nWhile the schedule is subject to change\, the Kids’ Zone schedule is (currently) below: \n\n10-11:30am – Sharon Fujimoto-Johnson\n11:30am-1:30pm – Brian Patrick Avery\n1:30-2:30pm – Theresa Chao Rother\, Cortney Cino\n2:30-3pm – Kate McCarroll Moore\n\nBring a children’s book to donate to the Mustard Seed School children’s book drive. Books can be new or gently used.
URL:https://sactownsupermom.com/event/sacramento-book-festival/
LOCATION:Shepard Garden & Arts Center\, 3330 McKinley Blvd\, Sacramento\, CA\, 95816
END:VEVENT
BEGIN:VEVENT
DTSTART;TZID=America/Los_Angeles:20250531T100000
DTEND;TZID=America/Los_Angeles:20250531T140000
DTSTAMP:20260423T001134
CREATED:20250425T033805Z
LAST-MODIFIED:20250425T033805Z
UID:10000217-1748685600-1748700000@sactownsupermom.com
SUMMARY:Bubble Bonanza at Aerospace Museum
DESCRIPTION:Pop into Bubble Bonanza on Saturday\, May 31\, 2025 at the Aerospace Museum. From interactive activities like creating bubble wands\, bubble demos\, science experiments\, and stepping into a giant bubble\, kids will be bursting with bubble fun.
URL:https://sactownsupermom.com/event/bubble-bonanza-at-aerospace-museum/
LOCATION:Aerospace Museum of California\, 3200 Freedom Park Drive\, McClellan\, CA\, 95652
CATEGORIES:May,Museums
END:VEVENT
BEGIN:VEVENT
DTSTART;TZID=America/Los_Angeles:20250531T100000
DTEND;TZID=America/Los_Angeles:20250531T120000
DTSTAMP:20260423T001134
CREATED:20250513T234410Z
LAST-MODIFIED:20250513T234410Z
UID:10000252-1748685600-1748692800@sactownsupermom.com
SUMMARY:Sacramento Library Summer Reading Kickoff Celebration
DESCRIPTION:The Sacramento Library will kick off its annual Summer Reading Challenge with a free celebration full of family fun in Howe Park on Saturday\, May 31\, 2025. \nThe event will include: \n\nPlay and building activities with the Sacramento Children’s Museum\nLive music and instrument petting zoo with Bigger Than US Arts Collective\nSacramento Library Bookmobile
URL:https://sactownsupermom.com/event/sacramento-library-summer-reading-kickoff-celebration/
LOCATION:Howe Park\, 2201 Cottage Way\, Sacramento\, CA\, 95825
CATEGORIES:May
END:VEVENT
BEGIN:VEVENT
DTSTART;TZID=America/Los_Angeles:20250531T100000
DTEND;TZID=America/Los_Angeles:20250531T120000
DTSTAMP:20260423T001134
CREATED:20250513T230627Z
LAST-MODIFIED:20250513T230627Z
UID:10000250-1748685600-1748692800@sactownsupermom.com
SUMMARY:Kind Bubbles Pop-Up
DESCRIPTION:Kind Bubbles will be having a pop-up on Saturday\, May 31\, 2025 at 10am in Fair Oaks Park. The day will include family-friendly bubble activities. \nEvent activities will include: \n\nToddler bubble zone\nGiant bubble stations\nOutdoor bubble show\nKid-in-a-bubble photo booth ($5 presale)\nHandmade bubble merchandise\n\nTo secure tickets\, direct message Kind Bubbles on their Instagram channel for the link. \nTickets prices include: \n\n$15 per child\n$10 sibling rate\nAdults are free
URL:https://sactownsupermom.com/event/kind-bubbles-pop-up/
LOCATION:Fair Oaks Park\, 11549 Fair Oaks Blvd\, Fair Oaks\, CA\, 95628
CATEGORIES:Bubbles
END:VEVENT
BEGIN:VEVENT
DTSTART;TZID=America/Los_Angeles:20250531T100000
DTEND;TZID=America/Los_Angeles:20250531T120000
DTSTAMP:20260423T001134
CREATED:20250425T030511Z
LAST-MODIFIED:20250425T040220Z
UID:10000208-1748685600-1748692800@sactownsupermom.com
SUMMARY:Trucktopia in West Sacramento
DESCRIPTION:Kids can check out different kinds of trucks for free at the 4th annual Trucktopia on Saturday\, May 31\, 2025 in West Sacramento. \nIt’s encouraged to bring noise canceling headphones for children attending the event who are sensitive to horns and sirens. This event is courtesy of the West Sacramento Friends of the Library.
URL:https://sactownsupermom.com/event/trucktopia/
LOCATION:Arthur F. Turner Community Library\, 1212 Merkley Avenue\, West Sacramento\, CA\, 95691
CATEGORIES:Free,May,Touch-A-Truck
END:VEVENT
BEGIN:VEVENT
DTSTART;TZID=America/Los_Angeles:20250531T090000
DTEND;TZID=America/Los_Angeles:20250601T130000
DTSTAMP:20260423T001134
CREATED:20250427T151619Z
LAST-MODIFIED:20250427T151619Z
UID:10000237-1748682000-1748782800@sactownsupermom.com
SUMMARY:Black Bear Awareness Weekend at Folsom Zoo
DESCRIPTION:The Folsom City Zoo Sanctuary will celebrate black bears during Black Bear Awareness Weekend on Saturday\, May 31\, 2025\, and Sunday\, June 1\, 2025. There will be interactive activities\, educational tables\, and special black bear feedings and trainings. \nThis event is included with regular zoo admission.
URL:https://sactownsupermom.com/event/black-bear-weekend-folsom-zoo/
LOCATION:Folsom City Zoo Sanctuary\, 403 Stafford Street\, Folsom\, CA\, 95630
CATEGORIES:Folsom Zoo,May
END:VEVENT
BEGIN:VEVENT
DTSTART;VALUE=DATE:20250531
DTEND;VALUE=DATE:20250601
DTSTAMP:20260423T001134
CREATED:20250523T040207Z
LAST-MODIFIED:20250523T040207Z
UID:10000262-1748649600-1748735999@sactownsupermom.com
SUMMARY:Luau Night at West Wind Drive-In
DESCRIPTION:Aloha! West Wind Drive-In will have a Luau Night on Saturday\, May 31\, 2025. The feature film of the evening will be Lilo & Stitch. Hawaiian-themed family-friendly activities will take place before the movie begins. \nActivities include: \n\nLuau dancers\nFace painting\nBounce houses\nLive Hawaiian-inspired music\n\nFamilies will also have the chance to enter to win ticket tickets to Disneyland. \nRegular movie pricing applies for this event. The event begins when the gates open.
URL:https://sactownsupermom.com/event/luau-night-at-west-wind-drive-in/
LOCATION:West Wind Drive-In\, 9616 Oates Dr\, Sacramento\, CA\, 95827
CATEGORIES:Movies
END:VEVENT
BEGIN:VEVENT
DTSTART;TZID=America/Los_Angeles:20250530T173000
DTEND;TZID=America/Los_Angeles:20250530T193000
DTSTAMP:20260423T001134
CREATED:20250516T234603Z
LAST-MODIFIED:20250516T234603Z
UID:10000254-1748626200-1748633400@sactownsupermom.com
SUMMARY:Youth Bike Rodeo in Elk Grove
DESCRIPTION:The Elk Grove Police Department is hosting a free Youth Bike Rodeo for kids ages 6-11 on Friday\, May 30\, 2025 at Bike Park in Elk Grove Regional Park. There will be obstacle courses\, bike demos\, and bike inspections. Kids will also learn necessary bike safety skills. \nWhile the event is free\, pre-registration is required. Limited spots are available.
URL:https://sactownsupermom.com/event/youth-bike-rodeo-in-elk-grove/
LOCATION:Bike Park – Elk Grove Regional Park\, 9950 Elk Grove-Florin Rd.\, Elk Grove\, CA\, 95624
CATEGORIES:Elk Grove,Free
END:VEVENT
BEGIN:VEVENT
DTSTART;TZID=America/Los_Angeles:20250530T160000
DTEND;TZID=America/Los_Angeles:20250530T200000
DTSTAMP:20260423T001134
CREATED:20250522T164316Z
LAST-MODIFIED:20250522T164316Z
UID:10000259-1748620800-1748635200@sactownsupermom.com
SUMMARY:School's Out! Pool Party
DESCRIPTION:The Wackford Aquatic Complex in Elk Grove will be celebrating the end of the school year with a pool party on Friday\, May 30\, 2025. There will be water fun\, games\, and music.
URL:https://sactownsupermom.com/event/schools-out-pool-party/
LOCATION:Wackford Community & Aquatic Complex\, 9014 Bruceville Road\, Elk Grove\, CA\, 95758
CATEGORIES:Elk Grove
END:VEVENT
BEGIN:VEVENT
DTSTART;TZID=America/Los_Angeles:20250525T160000
DTEND;TZID=America/Los_Angeles:20250525T173000
DTSTAMP:20260423T001134
CREATED:20250324T032901Z
LAST-MODIFIED:20250426T232142Z
UID:10000160-1748188800-1748194200@sactownsupermom.com
SUMMARY:The First Adventures of The Hardy Boys
DESCRIPTION:The World Premiere of The First Adventures of The Hardy Boys will take the stage at the B Street Theatre from May 10-25\, 2025. \nEach performance is 1 hour and 15 minutes\, and includes an intermission. The show is for ages 5 and up. \nA Synopsis about the performance from the B Street Theatre is below: \nMystery and adventure? Frank and Joe Hardy are on the case! Join the iconic young detectives as they crack codes\, outsmart villains\, and unravel thrilling whodunits. Packed with action\, humor\, and lots of fun\, this high-energy show is perfect for young sleuths and classic mystery lovers alike!
URL:https://sactownsupermom.com/event/the-first-adventures-of-the-hardy-boys/2025-05-25/2/
LOCATION:B Street Theatre\, 2700 Capitol Avenue\, Sacramento\, CA\, 95816
CATEGORIES:B Street Theatre
END:VEVENT
BEGIN:VEVENT
DTSTART;TZID=America/Los_Angeles:20250525T094500
DTEND;TZID=America/Los_Angeles:20250525T120000
DTSTAMP:20260423T001134
CREATED:20250518T150032Z
LAST-MODIFIED:20250518T150032Z
UID:10000258-1748166300-1748174400@sactownsupermom.com
SUMMARY:PSVRR: Memorial Day Weekend Brunch Motorcar Ride
DESCRIPTION:Climb aboard the Placerville & Sacramento Valley Railroad (PSVRR) for a Memorial Day Weekend Brunch Motorcar ride from Oak Station to Willow Springs in Folsom on Sunday\, May 25\, 2025. \nA short and scenic train ride will take passengers to Willow Creek where a Memorial Day Weekend brunch will be served. Food will include: \n\nEggs\nBacon\nSausage\nPotato\nFruit\n\nThe rail trip will take a total of approximately 90 minutes. Each motorcar departs the station every 30 minutes. Families are welcome to stay as long as they like when reaching Willow Springs. \nChildren ages 3 and under are free. Select “Lap Child” at the checkout. All tickets must be purchased in advance online. Tickets will not be sold in-person at the station nor the event. \nThe PSVRR boarding location is next to Family Fitness at 700 Oak Pkwy in Folsom. Parking is in the Family Fitness parking lot (on the side facing the tracks).
URL:https://sactownsupermom.com/event/psvrr-memorial-day-weekend-brunch-motorcar-ride/
LOCATION:Parking at PSVRR\, 700 Oak Ave Pkwy\, Folsom\, CA\, 95630
CATEGORIES:May
END:VEVENT
BEGIN:VEVENT
DTSTART;TZID=America/Los_Angeles:20250525T090000
DTEND;TZID=America/Los_Angeles:20250525T140000
DTSTAMP:20260423T001134
CREATED:20250518T142114Z
LAST-MODIFIED:20250518T143315Z
UID:10000256-1748163600-1748181600@sactownsupermom.com
SUMMARY:Species in the Spotlight at Sacramento Zoo
DESCRIPTION:The Sacramento Zoo will celebrate World Turtle Day\, National Alligator Day\, and World Parrot Day as part of Species in the Spotlight on Sunday\, May 25\, 2025. \nSpecies in the Spotlight will have some special activities that will include: \n\nAnimal artifacts\nHands-on crafts and activities\nLimited edition trading cards that feature the zoo’s alligator (Guinness) and parrots (Mattie and Timmy)\nConservation partners\n\nThis event is included with regular museum admission.
URL:https://sactownsupermom.com/event/species-in-the-spotlight-at-sacramento-zoo/
LOCATION:Sacramento Zoo\, 3930 W Land Park Dr.\, Sacramento\, CA\, 95822
CATEGORIES:Sacramento Zoo
END:VEVENT
BEGIN:VEVENT
DTSTART;TZID=America/Los_Angeles:20250524T110000
DTEND;TZID=America/Los_Angeles:20250524T180000
DTSTAMP:20260423T001134
CREATED:20250427T145307Z
LAST-MODIFIED:20250427T145307Z
UID:10000236-1748084400-1748109600@sactownsupermom.com
SUMMARY:2025 Golfland Sunsplash Water Park Opening Day
DESCRIPTION:Roseville Golfland Sunsplash opens its water park for the 2025 season on Saturday\, May 24\, 2025. As the temperatures in Sacramento begin to warm up\, cool down with water attractions for all ages at this entertainment center in Roseville.
URL:https://sactownsupermom.com/event/2025-golfland-sunsplash-water-park-opening-day/
LOCATION:Roseville Golfland Sunsplash\, 1893 Taylor Road\, Roseville\, CA\, 95661
CATEGORIES:May,Roseville
END:VEVENT
BEGIN:VEVENT
DTSTART;TZID=America/Los_Angeles:20250524T104500
DTEND;TZID=America/Los_Angeles:20250524T130000
DTSTAMP:20260423T001134
CREATED:20250518T145611Z
LAST-MODIFIED:20250518T150059Z
UID:10000257-1748083500-1748091600@sactownsupermom.com
SUMMARY:PSVRR: BBQ Express Memorial Day Weekend
DESCRIPTION:Climb aboard the Placerville & Sacramento Valley Railroad (PSVRR) for a Memorial Day BBQ train ride from Oak Station to Willow Springs in Folsom on Saturday\, May 24\, 2025. \nA short and scenic train ride will take passengers to Willow Creek where a BBQ will be served. Food will include: \n\nBBQ chicken\nPork ribs\nPotato and macaroni salad\nColeslaw\nBeer will also be available for purchase for adults\n\nThe rail trip will take a total of approximately 90 minutes. Each motorcar departs the station every 30 minutes. Families are welcome to stay as long as they like when reaching Willow Springs. \nChildren ages 3 and under are free. Select “Lap Child” at the checkout. All tickets must be purchased in advance online. Tickets will not be sold in-person at the station nor the event. \nThe PSVRR boarding location is next to Family Fitness at 700 Oak Pkwy in Folsom. Parking is in the Family Fitness parking lot (on the side facing the tracks).
URL:https://sactownsupermom.com/event/psvrr-bbq-express-memorial-day-weekend/
LOCATION:Parking at PSVRR\, 700 Oak Ave Pkwy\, Folsom\, CA\, 95630
CATEGORIES:May
END:VEVENT
BEGIN:VEVENT
DTSTART;TZID=America/Los_Angeles:20250524T100000
DTEND;TZID=America/Los_Angeles:20250608T170000
DTSTAMP:20260423T001134
CREATED:20250506T043010Z
LAST-MODIFIED:20250506T141636Z
UID:10000240-1748080800-1749402000@sactownsupermom.com
SUMMARY:Spring Chicken at Fog Willow Farms
DESCRIPTION:Fog Willow Farms will have its annual Spring Chicken Family Festival beginning Saturday\, May 24\, 2025\, running through Sunday\, June 8\, 2025. \nSpring Chicken welcomes many new baby animals to Fog Willow Farms. Other highlights include: \n\nA Barnyard Kid’s Obstacle Course\nPigtona 500 Pig Races\nQuacktucky Derby Races\n\nThe farm is open daily from 10am to 5pm during the festival dates\, except for Tuesdays (closed on Tuesdays).
URL:https://sactownsupermom.com/event/spring-chicken-at-fog-willow-farms/
LOCATION:Fog Willow Farms\, 11011 Cecatra Drive\, Wilton\, CA\, 95693
CATEGORIES:Farms,May
END:VEVENT
BEGIN:VEVENT
DTSTART;TZID=America/Los_Angeles:20250524T100000
DTEND;TZID=America/Los_Angeles:20250524T160000
DTSTAMP:20260423T001134
CREATED:20250425T012604Z
LAST-MODIFIED:20250522T051917Z
UID:10000204-1748080800-1748102400@sactownsupermom.com
SUMMARY:International Kids Festival
DESCRIPTION:The annual International Kids Festival is a free family-friendly affair that will take place in Land Park on Saturday\, May 24\, 2025. \nThe International Kid’s Festival provides a space for kids to highlight their talents and artistic expressions on a professional stage while paying ode to childhood culture. \nHighlights at the festival will include: \n\nOver 50 live performances on the Main Stage\nSTEMpire Zone with interactive STEM-related activities\nHealth Zone\nLocal food vendors\nGiveaways
URL:https://sactownsupermom.com/event/international-kids-festival/
LOCATION:William A Carroll Amphitheatre\, 3901 Land Park Dr\, Sacramento\, CA\, 95822
CATEGORIES:Free,May
END:VEVENT
BEGIN:VEVENT
DTSTART;TZID=America/Los_Angeles:20250524T090000
DTEND;TZID=America/Los_Angeles:20250524T103000
DTSTAMP:20260423T001134
CREATED:20250516T233330Z
LAST-MODIFIED:20250516T233330Z
UID:10000253-1748077200-1748082600@sactownsupermom.com
SUMMARY:Li'l Sprouts in the Garden
DESCRIPTION:Li’l Sprouts in the Garden is a multi-sensory experience for toddlers ages 3-5 at Soil Born Farms in Rancho Cordova. There are multiple sessions\, each with different theme. This session will take place on Saturday\, May 24\, 2025 with the theme of Finding Colors in Nature. \nFinding Colors in Nature will take place from 9-10:30am. Kids will explore the Soil Born Farms garden while searching for colors in nature to find plants\, flowers\, and leaves from trees on the farm. Other activities will include: \n\nMaking natural prints with flora\nCreating leaf rubbings\nTasting a rainbow of fruits and veggies harvested from the farm\n\nChildren will play games\, sing songs\, hear stories\, and use their senses to explore. They will also acquire new words while gaining social skills. \nLi’l Sprouts in the Garden requires an adult chaperone with each child who attends. The adult chaperone is free with a paid toddler.
URL:https://sactownsupermom.com/event/lil-sprouts-in-the-garden/
LOCATION:Soil Born Farms\, 2140 Chase Dr.\, Rancho Cordova\, CA\, 95670
CATEGORIES:Farms,Rancho Cordova
END:VEVENT
BEGIN:VEVENT
DTSTART;TZID=America/Los_Angeles:20250522T100000
DTEND;TZID=America/Los_Angeles:20250526T220000
DTSTAMP:20260423T001134
CREATED:20250426T232629Z
LAST-MODIFIED:20250522T051438Z
UID:10000211-1747908000-1748296800@sactownsupermom.com
SUMMARY:Sacramento County Fair
DESCRIPTION:Kick off summer at the Sacramento County Fair! The family-friendly fun returns to Cal Expo for five days from May 22-26\, 2025. \nThere will be farm animals\, carnival rides\, and fried fair food. Expect live entertainment\, hands-on exhibits\, and more family fun. \n\n\n\n\n\n\n\n\n\n\n\n\n\n\nChildren ages 11 and under receive free admission.
URL:https://sactownsupermom.com/event/sacramento-county-fair-2/
LOCATION:Cal Expo\, 1600 Exposition Boulevard\, Sacramento\, CA\, 95815
CATEGORIES:Fairs,May
END:VEVENT
BEGIN:VEVENT
DTSTART;TZID=America/Los_Angeles:20250521T100000
DTEND;TZID=America/Los_Angeles:20250521T140000
DTSTAMP:20260423T001134
CREATED:20250425T032630Z
LAST-MODIFIED:20250425T040231Z
UID:10000216-1747821600-1747836000@sactownsupermom.com
SUMMARY:Big Truck Day in Elk Grove
DESCRIPTION:Elk Grove’s free Big Truck Day will take place on Wednesday\, May 21\, 2025 at District 56. In honor of National Public Works Week\, kids can explore the big trucks that operate in Elk Grove\, play in sand pits\, and build mini cities. \n  \n 
URL:https://sactownsupermom.com/event/big-truck-day/
LOCATION:District 56\, 8230 Civic Center Dr #100\, Elk Grove\, CA\, 95757
CATEGORIES:Elk Grove,Free,May,Touch-A-Truck
END:VEVENT
BEGIN:VEVENT
DTSTART;TZID=America/Los_Angeles:20250518T090000
DTEND;TZID=America/Los_Angeles:20250518T170000
DTSTAMP:20260423T001134
CREATED:20250506T051529Z
LAST-MODIFIED:20250506T051529Z
UID:10000249-1747558800-1747587600@sactownsupermom.com
SUMMARY:Golden State Pinball Festival
DESCRIPTION:Pinball fanatics will want to head to Lodi for the Golden State Pinball Festival during the weekend of May 16-18\, 2025. \nThere will be hundreds of pinball machines at the festival that will all be set to free play. A kids’ tournament will take place each day of the event. Proceeds from the festival also support the wonderful Worlds of Wonder kid’s science museum in Lodi.
URL:https://sactownsupermom.com/event/golden-state-pinball-festival/2025-05-18/
LOCATION:Lodi Grape Festival Fairgrounds\, 413 E. Lockeford St\, Lodi\, CA\, 95240
CATEGORIES:Lodi
END:VEVENT
BEGIN:VEVENT
DTSTART;TZID=America/Los_Angeles:20250518T090000
DTEND;TZID=America/Los_Angeles:20250518T160000
DTSTAMP:20260423T001134
CREATED:20250426T233239Z
LAST-MODIFIED:20250426T233239Z
UID:10000226-1747558800-1747584000@sactownsupermom.com
SUMMARY:California Mermaid Convention
DESCRIPTION:The California Mermaid Convention swims into Rancho Cordova with children’s activities taking place on Saturday and Sunday\, May 17 & 18\, 2025. This is a family-friendly event that includes specific children’s programming such as kids swimming with mermaids\, and participating in games and treasure hunts. \nChildren’s activities at the Mermaid Convention will include: \n\nThe Netflix Show\, Mermaid Magic Pavilion will have dance contests and games\nChildren’s swim with a mermaid entertainer each hour in a zero-depth entry pool\nChildren’s swim classes\nTreasure hunts and games in the Atlantis Play Area\n\nMain entry children’s tickets include a pass for one child and one adult. If an additional adult is attending\, they must purchase a Landlubber (spectator) ticket. Children ages 3 and under receive free admission.
URL:https://sactownsupermom.com/event/california-mermaid-convention-3/
LOCATION:Hagan Community Park\, 2197 Chase Dr\, Rancho Cordova\, CA\, 95670
CATEGORIES:Rancho Cordova
END:VEVENT
BEGIN:VEVENT
DTSTART;TZID=America/Los_Angeles:20250517T103000
DTEND;TZID=America/Los_Angeles:20250517T130000
DTSTAMP:20260423T001134
CREATED:20250425T040053Z
LAST-MODIFIED:20250425T040053Z
UID:10000221-1747477800-1747486800@sactownsupermom.com
SUMMARY:Folsom Skate & BMX Jam
DESCRIPTION:Skate and BMX Jam will take place on Saturday\, May 17\, 2025 at Cummings Family Park in Folsom. Riders of all ages and abilities are welcome to attend the free event to learn how to ride and skate. \nThe event will also include hands-on workshops and sponsor demos. \nSafety gear is required for all participating event riders and skaters. \nWhile the event is free\, participants must register on Rec Trac in advance.
URL:https://sactownsupermom.com/event/folsom-skate-bmx-jam/
LOCATION:Cummings Family Park\, 1775 Creekside Drive\, Folsom\, CA\, 95630
CATEGORIES:Free
END:VEVENT
BEGIN:VEVENT
DTSTART;TZID=America/Los_Angeles:20250517T090000
DTEND;TZID=America/Los_Angeles:20250517T120000
DTSTAMP:20260423T001134
CREATED:20250424T050305Z
LAST-MODIFIED:20250425T013438Z
UID:10000202-1747472400-1747483200@sactownsupermom.com
SUMMARY:Pancake Palooza at Safetyville USA
DESCRIPTION:Safetyville USA will have a Pancake Palooza on Saturday\, May 17\, 2025. Breakfast will be served\, and bikes will be ridden safely with helmets. \nBreakfast will include pancakes\, sausage\, and drinks\, and be served from 9-11am. Safetyville USA will remain open until 12pm for bike riding. All riders must wear helmets.
URL:https://sactownsupermom.com/event/pancake-palooza-at-safetyville-usa/
LOCATION:Safetyville USA\, 3909 Bradshaw Rd\, Sacramento\, CA\, 95827
CATEGORIES:May,Safetyville
END:VEVENT
BEGIN:VEVENT
DTSTART;TZID=America/Los_Angeles:20250516T170000
DTEND;TZID=America/Los_Angeles:20250516T193000
DTSTAMP:20260423T001134
CREATED:20250425T213228Z
LAST-MODIFIED:20250425T213228Z
UID:10000224-1747414800-1747423800@sactownsupermom.com
SUMMARY:The Promenade of Mermaids
DESCRIPTION:The free Promenade of Mermaids will take place on Friday\, May 16\, 2025. The family-friendly march will take place in Old Sacramento. \nThe march will begin from the Embarcadero in Old Sacramento. \nThe Promenade of Mermaids schedule is below: \n\n5pm – Activities include hair braiding\, face painting\, bubble show\, and vendors\n5:30pm – Flash mob with the Abalone Merman\n6pm – The Promenade of Mermaids march begins\n6:15pm – Dance party to take place on the boardwalk\n7:30pm – Event ends
URL:https://sactownsupermom.com/event/the-promenade-of-mermaids/
LOCATION:Old Sacramento Waterfront\, Sacramento\, CA
CATEGORIES:Old Sacramento
END:VEVENT
BEGIN:VEVENT
DTSTART;TZID=America/Los_Angeles:20250511T130000
DTEND;TZID=America/Los_Angeles:20250511T220000
DTSTAMP:20260423T001134
CREATED:20250506T044238Z
LAST-MODIFIED:20250506T044238Z
UID:10000243-1746968400-1747000800@sactownsupermom.com
SUMMARY:FoodieLand at Cal Expo
DESCRIPTION:FoodieLand takes place during the weekend of May 9-11\, 2025 at Cal Expo. This family-friendly foodie event will have tons of vendors with a diverse range of cuisines to choose from. \nCheck out the list of vendors here. \n 
URL:https://sactownsupermom.com/event/foodieland-at-cal-expo/2025-05-11/
LOCATION:Cal Expo\, 1600 Exposition Boulevard\, Sacramento\, CA\, 95815
CATEGORIES:Food
END:VEVENT
END:VCALENDAR