BEGIN:VCALENDAR
VERSION:2.0
PRODID:-//Sactown Supermom - ECPv6.15.20//NONSGML v1.0//EN
CALSCALE:GREGORIAN
METHOD:PUBLISH
X-ORIGINAL-URL:https://sactownsupermom.com
X-WR-CALDESC:Events for Sactown Supermom
REFRESH-INTERVAL;VALUE=DURATION:PT1H
X-Robots-Tag:noindex
X-PUBLISHED-TTL:PT1H
BEGIN:VTIMEZONE
TZID:America/Los_Angeles
BEGIN:DAYLIGHT
TZOFFSETFROM:-0800
TZOFFSETTO:-0700
TZNAME:PDT
DTSTART:20240310T100000
END:DAYLIGHT
BEGIN:STANDARD
TZOFFSETFROM:-0700
TZOFFSETTO:-0800
TZNAME:PST
DTSTART:20241103T090000
END:STANDARD
BEGIN:DAYLIGHT
TZOFFSETFROM:-0800
TZOFFSETTO:-0700
TZNAME:PDT
DTSTART:20250309T100000
END:DAYLIGHT
BEGIN:STANDARD
TZOFFSETFROM:-0700
TZOFFSETTO:-0800
TZNAME:PST
DTSTART:20251102T090000
END:STANDARD
BEGIN:DAYLIGHT
TZOFFSETFROM:-0800
TZOFFSETTO:-0700
TZNAME:PDT
DTSTART:20260308T100000
END:DAYLIGHT
BEGIN:STANDARD
TZOFFSETFROM:-0700
TZOFFSETTO:-0800
TZNAME:PST
DTSTART:20261101T090000
END:STANDARD
END:VTIMEZONE
BEGIN:VEVENT
DTSTART;TZID=America/Los_Angeles:20250704T160000
DTEND;TZID=America/Los_Angeles:20250704T220000
DTSTAMP:20260422T183421
CREATED:20250618T034549Z
LAST-MODIFIED:20250618T034549Z
UID:10000363-1751644800-1751666400@sactownsupermom.com
SUMMARY:4th of July Fireworks @the Grounds
DESCRIPTION:Celebrate 4th of July in Roseville @the Grounds. The fireworks show will take place between 9:15-9:30pm. There will be kids activities and games. \nGates will open at 4pm. Bring your own blanket or chairs. Grandstand seating is first-come\, first-serve. While outside food and coolers are not allowed\, sealed waters are allowed. \nParking is $15. Concessions will be available on-site for purchase.
URL:https://sactownsupermom.com/event/4th-of-july-fireworks-the-grounds/
LOCATION:@the grounds\, 700 Event Center Dr\, Roseville\, CA\, 95678
CATEGORIES:4th of July Fireworks
END:VEVENT
BEGIN:VEVENT
DTSTART;TZID=America/Los_Angeles:20250704T160000
DTEND;TZID=America/Los_Angeles:20250704T220000
DTSTAMP:20260422T183421
CREATED:20250617T042516Z
LAST-MODIFIED:20250617T042516Z
UID:10000354-1751644800-1751666400@sactownsupermom.com
SUMMARY:2025 Fourth of July in Davis
DESCRIPTION:Davis will have its 2025 Fourth of July at Community Park. This free event will include a free game zone and live music. A 15-minute fireworks show will occur at 9:35pm. \nSchedule of events: \n\n4-8pm – Free game zone\n4-9:30pm – Snacks and treats available for purchase\n6:30-9:30pm – Live music\n9:35pm – 15-minute fireworks show\n\nBiking or walking to the event is encouraged.
URL:https://sactownsupermom.com/event/2025-fourth-of-july-in-davis/
LOCATION:Community Park\, 203 East 14th Street\, Davis\, CA\, 95616
CATEGORIES:4th of July Fireworks
END:VEVENT
BEGIN:VEVENT
DTSTART;TZID=America/Los_Angeles:20250704T160000
DTEND;TZID=America/Los_Angeles:20250704T210000
DTSTAMP:20260422T183421
CREATED:20250622T054957Z
LAST-MODIFIED:20250702T233907Z
UID:10000379-1751644800-1751662800@sactownsupermom.com
SUMMARY:July 4th Celebration at Lodi Lake (CANCELED)
DESCRIPTION:4th of July fireworks in Lodi have been canceled as a result of the devastating Yolo County warehouse fire. (CANCELED) 4th of July fireworks in 2025 will occur at Lodi Lake. Fireworks will begin at approximately 9:30pm\, after dark. Gates will open at 4pm. Food vendors will be available on-site from 4-9pm.
URL:https://sactownsupermom.com/event/july-4th-celebration-at-lodi-lake/
LOCATION:Lodi Lake\, 1101 W. Turner Rd\, Lodi\, CA\, 95242
CATEGORIES:4th of July Fireworks
END:VEVENT
BEGIN:VEVENT
DTSTART;TZID=America/Los_Angeles:20250704T133000
DTEND;TZID=America/Los_Angeles:20250704T143000
DTSTAMP:20260422T183421
CREATED:20250629T051458Z
LAST-MODIFIED:20250629T051458Z
UID:10000416-1751635800-1751639400@sactownsupermom.com
SUMMARY:4th of July Boat Parade
DESCRIPTION:The Sacramento Yacht Club will have a “Red\, White & Crew” boat parade on July 4\, 2025 at 1:30pm. The boat parade will float along the Sacramento River and begin at the Sacramento Marina. It will travel upriver through Old Sacramento to the Virgin Sturgeon and then return via the same route. \nThe boat parade will be viewable from Old Sacramento.
URL:https://sactownsupermom.com/event/4th-of-july-boat-parade/
LOCATION:Old Sacramento Waterfront\, Sacramento\, CA
CATEGORIES:4th of July Parades
END:VEVENT
BEGIN:VEVENT
DTSTART;TZID=America/Los_Angeles:20250704T130000
DTEND;TZID=America/Los_Angeles:20250704T163000
DTSTAMP:20260422T183421
CREATED:20250617T052405Z
LAST-MODIFIED:20250617T052405Z
UID:10000359-1751634000-1751646600@sactownsupermom.com
SUMMARY:Fourth of July Carnival
DESCRIPTION:Take the kids to a Fourth of July Carnival for the afternoon on July 4\, 2025 at the Christine Thompson Aquatic Center. This family-friendly event will have game booths with prizes\, arts and crafts\, temporary tattoos\, and treats like nachos and ice cream.
URL:https://sactownsupermom.com/event/fourth-of-july-carnival/
LOCATION:Christine Thompson Aquatic Center\, 8025 Waterman Road\, Sacramento\, CA\, 95829
CATEGORIES:4th of July,July
END:VEVENT
BEGIN:VEVENT
DTSTART;TZID=America/Los_Angeles:20250704T130000
DTEND;TZID=America/Los_Angeles:20250704T160000
DTSTAMP:20260422T183421
CREATED:20250622T043453Z
LAST-MODIFIED:20250622T043732Z
UID:10000378-1751634000-1751644800@sactownsupermom.com
SUMMARY:Woodland Swim Fest
DESCRIPTION:Celebrate 4th of July at the pool! Swim Fest will take place at Charles Brooks Community Swim Center in Woodland from 1-4pm. There will be a floating inflatable obstacle course. Admission is free.
URL:https://sactownsupermom.com/event/woodland-swim-fest/
LOCATION:Charles Brooks Community Swim Center\, 155 N West St\, Woodland\, CA\, 95695
CATEGORIES:4th of July
END:VEVENT
BEGIN:VEVENT
DTSTART;TZID=America/Los_Angeles:20250704T120000
DTEND;TZID=America/Los_Angeles:20250704T190000
DTSTAMP:20260422T183421
CREATED:20250622T142859Z
LAST-MODIFIED:20250622T142859Z
UID:10000381-1751630400-1751655600@sactownsupermom.com
SUMMARY:4th of July at The Alley
DESCRIPTION:The Alley in Elk Grove will have a 4th of July special of $25 bowling per lane\, per hour from 12pm-7pm.
URL:https://sactownsupermom.com/event/4th-of-july-at-the-alley/
LOCATION:The Alley\, 3443 Laguna Blvd #150\, Elk Grove\, CA\, 95758
CATEGORIES:4th of July
END:VEVENT
BEGIN:VEVENT
DTSTART;TZID=America/Los_Angeles:20250704T120000
DTEND;TZID=America/Los_Angeles:20250704T180000
DTSTAMP:20260422T183421
CREATED:20250622T060510Z
LAST-MODIFIED:20250622T060510Z
UID:10000380-1751630400-1751652000@sactownsupermom.com
SUMMARY:4th of July Lodi Boathouse Rentals
DESCRIPTION:Boat rentals will be available by reservation on 4th of July at Lodi Boathouse from 12-6pm. Online reservations are required for rentals. \nRentals will be available only for Lodi Lake; no river access. There will also be some restricted areas of the lake. \nIf your rental time is between 12-2pm\, boathouse staff will escort you back to gate after your boat rental time as the public is not allowed in the park between 12-2pm with the exception of boat rentals.
URL:https://sactownsupermom.com/event/4th-of-july-lodi-boathouse-rentals/
LOCATION:Lodi Boathouse\, 1101 W Turner Rd\, Lodi\, CA\, 95242
CATEGORIES:4th of July
END:VEVENT
BEGIN:VEVENT
DTSTART;TZID=America/Los_Angeles:20250704T100000
DTEND;TZID=America/Los_Angeles:20250704T170000
DTSTAMP:20260422T183421
CREATED:20250617T050217Z
LAST-MODIFIED:20250617T050217Z
UID:10000357-1751623200-1751648400@sactownsupermom.com
SUMMARY:4th of July at California Automobile Museum
DESCRIPTION:Celebrate 4th of July in Sacramento at the California Automobile Museum. The day will include a Red\, White\, and Blue mini car show with various automobiles\, activities for kids\, museum exploration\, and food will be available to purchase. \n\n\n\nRegistration is not required. The museum will be open that day from 10 a.m. to 5 p.m. More information to come!
URL:https://sactownsupermom.com/event/4th-of-july-at-california-automobile-museum/
LOCATION:California Automobile Museum\, 2200 Front Street\, Sacramento\, CA\, 95818
CATEGORIES:4th of July,July
END:VEVENT
BEGIN:VEVENT
DTSTART;TZID=America/Los_Angeles:20250704T100000
DTEND;TZID=America/Los_Angeles:20250704T130000
DTSTAMP:20260422T183421
CREATED:20250618T034047Z
LAST-MODIFIED:20250618T034047Z
UID:10000362-1751623200-1751634000@sactownsupermom.com
SUMMARY:City of Roseville 4th of July Celebration
DESCRIPTION:A 4th of July Celebration will take place in Royer Park in Roseville at 10am after the City of Roseville 4th of July parade. There will be kids activities and games\, live music\, and more. Food will available to purchase on-site.
URL:https://sactownsupermom.com/event/city-of-roseville-4th-of-july-celebration/
LOCATION:Royer Park\, 190 Park Dr\, Roseville\, CA\, 95678
CATEGORIES:4th of July
END:VEVENT
BEGIN:VEVENT
DTSTART;TZID=America/Los_Angeles:20250704T100000
DTEND;TZID=America/Los_Angeles:20250704T123000
DTSTAMP:20260422T183421
CREATED:20250620T000557Z
LAST-MODIFIED:20250620T000557Z
UID:10000367-1751623200-1751632200@sactownsupermom.com
SUMMARY:Arden Park 4th of July Bike Parade & Festival
DESCRIPTION:The annual Arden Park 4th of July Bike Parade kicks off at 10am on July 4\, 2025. A family-friendly festival will take place after the parade back at Arden Park. There will be a kids zone with inflatables and live music. \nHamburgers ($6) and hot dogs ($5) will also be available for purchase. Live music by Funk Shui will be played until 12:30pm.
URL:https://sactownsupermom.com/event/arden-park-4th-of-july-bike-parade-festival/
LOCATION:Arden Park\, 1000 La Sierra Drive\, Sacramento\, CA\, 95864
CATEGORIES:4th of July Parades
END:VEVENT
BEGIN:VEVENT
DTSTART;TZID=America/Los_Angeles:20250704T100000
DTEND;TZID=America/Los_Angeles:20250704T120000
DTSTAMP:20260422T183421
CREATED:20250622T043141Z
LAST-MODIFIED:20250622T062220Z
UID:10000377-1751623200-1751630400@sactownsupermom.com
SUMMARY:Bike Parade & Party in the Park
DESCRIPTION:A bike parade will proceed from Heritage Plaza in Woodland on July 4\, 2025 at 10am. Party in the Park at Freeman Park will begin after the parade until 12pm. There will be bounce houses\, games\, and free snow cones. \nIf you plan on participating in the bike parade\, bike decorating starts at 9am.
URL:https://sactownsupermom.com/event/bike-parade-party-in-the-park/
LOCATION:Freeman Park\, 1001 Main St\, Woodland\, CA\, 95695
CATEGORIES:4th of July Parades
END:VEVENT
BEGIN:VEVENT
DTSTART;TZID=America/Los_Angeles:20250704T100000
DTEND;TZID=America/Los_Angeles:20250704T110000
DTSTAMP:20260422T183421
CREATED:20250629T050349Z
LAST-MODIFIED:20250629T050349Z
UID:10000414-1751623200-1751626800@sactownsupermom.com
SUMMARY:Pocket/Greenhaven 4th of July Parade
DESCRIPTION:The beloved Pocket/Greenhaven 4th of July Parade will take place on July 4th at 10am. The parade will begin at the corner of Windbridge and South Land Park Drive\, and end at Garcia Bend Park.
URL:https://sactownsupermom.com/event/pocket-greenhaven-4th-of-july-parade/
LOCATION:Windbridge and South Land Park Drive\, Sacramento\, CA\, 95831
CATEGORIES:4th of July Parades
END:VEVENT
BEGIN:VEVENT
DTSTART;TZID=America/Los_Angeles:20250704T100000
DTEND;TZID=America/Los_Angeles:20250704T110000
DTSTAMP:20260422T183421
CREATED:20250620T035139Z
LAST-MODIFIED:20250629T212106Z
UID:10000368-1751623200-1751626800@sactownsupermom.com
SUMMARY:Rancho Cordova 4th of July Parade
DESCRIPTION:The Rancho Cordova 4th of July Parade begins at 10am from Coloma Rd at Cordova Lane on July 4\, 2025. The parade will span 1.5 miles. \nThe remaining route will include west oto Chase Drive and left on Rinda Drive. Note that the parade will not enter Hagan Park.
URL:https://sactownsupermom.com/event/rancho-cordova-4th-of-july-parade/
LOCATION:Coloma Rd\, Rancho Cordova\, CA
CATEGORIES:4th of July Parades
END:VEVENT
BEGIN:VEVENT
DTSTART;TZID=America/Los_Angeles:20250704T093000
DTEND;TZID=America/Los_Angeles:20250704T103000
DTSTAMP:20260422T183421
CREATED:20250617T040320Z
LAST-MODIFIED:20250630T023322Z
UID:10000352-1751621400-1751625000@sactownsupermom.com
SUMMARY:Galt Independence Day Celebration Parade
DESCRIPTION:Wear your red\, white\, and blue and celebrate the 4th of July at the Independence Day Celebration Parade in Galt. The parade begins at 9:30am. The parade starts at Civic Dr and Caroline Ave. \nFull parade route includes: \n\nParade starts at Civic Dr & Caroline Ave\nWest on Caroline Ave / E St\nNorth on Fifth St\nWest on B St\nSouth Fourth St\nEast on E St. / Caroline into the Galt Market\n\nView the full parade route map here.
URL:https://sactownsupermom.com/event/galt-independence-day-celebration-parade/
LOCATION:Civic Dr & Caroline Ave\, Galt\, CA
CATEGORIES:4th of July Parades
END:VEVENT
BEGIN:VEVENT
DTSTART;TZID=America/Los_Angeles:20250704T090000
DTEND;TZID=America/Los_Angeles:20250704T103000
DTSTAMP:20260422T183421
CREATED:20250618T035454Z
LAST-MODIFIED:20250618T035454Z
UID:10000364-1751619600-1751625000@sactownsupermom.com
SUMMARY:Lincoln 4th of July Parade
DESCRIPTION:The annual 4th of July Parade in Lincoln will begin at 9am. The Parade will start at 640 5th Street and march through downtown Lincoln\, celebrating the Lincoln’s Rotary Club’s 100th year anniversary.
URL:https://sactownsupermom.com/event/lincoln-4th-of-july-parade/
LOCATION:640 5th Street\, Lincoln\, CA\, 95648
CATEGORIES:4th of July Parades
END:VEVENT
BEGIN:VEVENT
DTSTART;TZID=America/Los_Angeles:20250704T090000
DTEND;TZID=America/Los_Angeles:20250704T100000
DTSTAMP:20260422T183421
CREATED:20250618T033605Z
LAST-MODIFIED:20250618T033605Z
UID:10000361-1751619600-1751623200@sactownsupermom.com
SUMMARY:City of Roseville 4th of July Parade
DESCRIPTION:The City of Roseville will have a 4th of July parade starting at 9am. The parade will begin at the intersection of Vernon/Riverside/Douglas. The parade will last for about 1 hour. \nAfter the parade\, walk over to Royer Park for a 4th of July Celebration at 10am. \nThe parade route map can be viewed here.
URL:https://sactownsupermom.com/event/city-of-roseville-4th-of-july-parade/
LOCATION:Vernon Street\, Roseville\, CA
CATEGORIES:4th of July Parades
END:VEVENT
BEGIN:VEVENT
DTSTART;TZID=America/Los_Angeles:20250704T080000
DTEND;TZID=America/Los_Angeles:20250704T110000
DTSTAMP:20260422T183421
CREATED:20250622T041705Z
LAST-MODIFIED:20250622T041705Z
UID:10000376-1751616000-1751626800@sactownsupermom.com
SUMMARY:4th of July Pancake Breakfast
DESCRIPTION:A 4th of July pancake breakfast will occur in Woodland from 8-11am. Proceeds from the breakfast will support the Woodland Fire Volunteer Support Branch. \nThe pancake breakfast is $5 per person. Children ages 5 and under eat for free.
URL:https://sactownsupermom.com/event/4th-of-july-pancake-breakfast/
LOCATION:Fire Station #3\, 1550 Springlake Court\, Woodland\, CA\, 95776
CATEGORIES:4th of July
END:VEVENT
BEGIN:VEVENT
DTSTART;TZID=America/Los_Angeles:20250704T074500
DTEND;TZID=America/Los_Angeles:20250704T123000
DTSTAMP:20260422T183421
CREATED:20250630T050656Z
LAST-MODIFIED:20250630T050656Z
UID:10000417-1751615100-1751632200@sactownsupermom.com
SUMMARY:River Park Fourth of July
DESCRIPTION:Celebrate Independence Day at the Annual River Park Fourth of July festivities. The day will be packed with family-friendly activities that include a Kids Run\, Classic Car Parade\, Kids Firecracker & Bike Parade\, a Kids Carnival\, and more. \nA full schedule of events and locations taking place at River Park Fourth of July is below: \n\n7:45am – Buffalo Chips Kids 1/4 Mile Run\n8am – Buffalo Chips 5-Mile Run\n9-9:30am – Classic Car Parade (Route includes Ciavarella to Glenn Hall Park)\n10am – Kids Firecracker & Bike Parade at Caleb Greenwood\n10:30am – River Park Marching Musicians\n10:30am – 12:30pm – Kids Carnival with games and fun activities\n\nThere will also be a live band and food trucks at the event.
URL:https://sactownsupermom.com/event/river-park-fourth-of-july/
LOCATION:Glenn Hall Park\, 5415 Sandburg Dr\, Sacramento\, CA\, 95819
CATEGORIES:4th of July
END:VEVENT
BEGIN:VEVENT
DTSTART;TZID=America/Los_Angeles:20250703T193000
DTEND;TZID=America/Los_Angeles:20250705T213000
DTSTAMP:20260422T183421
CREATED:20250617T044508Z
LAST-MODIFIED:20250617T044624Z
UID:10000355-1751571000-1751751000@sactownsupermom.com
SUMMARY:Folsom Pro Rodeo
DESCRIPTION:The Folsom Pro Rodeo takes place for three days from July 3-5\, 2025. In addition to a thrilling rodeo tradition of bull riding\, there is also plenty of family fun that will include fireworks\, live music\, activities for kids of all ages\, and food.
URL:https://sactownsupermom.com/event/folsom-pro-rodeo/
LOCATION:Dan Russell Rodeo Arena\, 403 Stafford St\, Folsom\, CA\, 95630
CATEGORIES:July
END:VEVENT
BEGIN:VEVENT
DTSTART;TZID=America/Los_Angeles:20250703T190000
DTEND;TZID=America/Los_Angeles:20250703T214500
DTSTAMP:20260422T183421
CREATED:20250622T041118Z
LAST-MODIFIED:20250622T041118Z
UID:10000375-1751569200-1751579100@sactownsupermom.com
SUMMARY:Woodland Fireworks Celebration
DESCRIPTION:The Woodland Fireworks Celebration will take place on Thursday\, July 3\, 2025. Fireworks will kick off at 9:15pm. Family-friendly activities will include inflatables and games. \nGates will open at 7pm. Blankets and chairs are encouraged.  Food will be available for purchase.
URL:https://sactownsupermom.com/event/woodland-fireworks-celebration/
LOCATION:Woodland High School Stadium\, 21 N. West St\, Woodland\, CA\, 95695
CATEGORIES:4th of July Fireworks
END:VEVENT
BEGIN:VEVENT
DTSTART;TZID=America/Los_Angeles:20250703T170000
DTEND;TZID=America/Los_Angeles:20250703T220000
DTSTAMP:20260422T183421
CREATED:20250619T060206Z
LAST-MODIFIED:20250619T060206Z
UID:10000366-1751562000-1751580000@sactownsupermom.com
SUMMARY:City of Winters 3rd of July Fireworks
DESCRIPTION:The City of Winters celebrates the 4th of July a day early with 3rd of July fireworks. The celebration begins at 5pm and the fireworks show will take place at 9:15pm. There will be vendors and food trucks.
URL:https://sactownsupermom.com/event/city-of-winters-3rd-of-july-fireworks/
LOCATION:Winters High School Football Field\, 101 Grant Ave\, Winters\, CA\, 95694
CATEGORIES:4th of July Fireworks
END:VEVENT
BEGIN:VEVENT
DTSTART;TZID=America/Los_Angeles:20250703T160000
DTEND;TZID=America/Los_Angeles:20250704T230000
DTSTAMP:20260422T183421
CREATED:20250620T035951Z
LAST-MODIFIED:20250620T040009Z
UID:10000369-1751558400-1751670000@sactownsupermom.com
SUMMARY:Rancho Cordova 4th of July Celebration
DESCRIPTION:With a carnival\, circus\, and fireworks\, Rancho Cordova will have the ultimate two-day family-friendly 4th of July celebration on July 3-4\, 2025. \nThe carnival will take place each day from 4-11pm and feature various amusement rides for kids of all ages. There will be a Ferris wheel\, kiddie rides\, and midway games. Note that carnival tickets are a separate cost. \nAnother highlight for kids is the “It’s Showtime Circus.” The circus will occur both nights at 5:30pm and 7pm. \nThe Rancho Cordova fireworks spectacular show will occur on both nights at 9:45pm. There will also be live music on both evenings.
URL:https://sactownsupermom.com/event/rancho-cordova-4th-of-july-celebration/
LOCATION:Hagan Community Park\, 2197 Chase Dr\, Rancho Cordova\, CA\, 95670
CATEGORIES:4th of July Fireworks,July
END:VEVENT
BEGIN:VEVENT
DTSTART;TZID=America/Los_Angeles:20250703T090000
DTEND;TZID=America/Los_Angeles:20250704T160000
DTSTAMP:20260422T183421
CREATED:20250617T051245Z
LAST-MODIFIED:20250618T040739Z
UID:10000358-1751533200-1751644800@sactownsupermom.com
SUMMARY:$10 Community Day at Sacramento Zoo
DESCRIPTION:The Sacramento Zoo will have a $10 Community Day on July 3 & 4\, 2025.
URL:https://sactownsupermom.com/event/10-community-day-at-sacramento-zoo/
LOCATION:Sacramento Zoo\, 3930 W Land Park Dr.\, Sacramento\, CA\, 95822
CATEGORIES:4th of July,July
END:VEVENT
BEGIN:VEVENT
DTSTART;TZID=America/Los_Angeles:20250629T090000
DTEND;TZID=America/Los_Angeles:20250629T150000
DTSTAMP:20260422T183421
CREATED:20250525T035012Z
LAST-MODIFIED:20250525T035012Z
UID:10000293-1751187600-1751209200@sactownsupermom.com
SUMMARY:2025 Lavender Blue Harvest Days
DESCRIPTION:For two weekends in June from June 21-22 and June 28-29\, 2025\, Lavender Blue Harvest Days will take place at Bluestone Meadow Farm and other Apple Hill farms. \nNot only is it lavender season\, but it will be u-pick blueberry season over these two weekends. Lavender Blue Harvest Days will mostly take place at Bluestone Meadow Farm\, which will be the focal point of the celebration over the two weekends. \nAt Bluestone Meadow Farm\, there will be: \n\nMake-your-own lavender bouquets\, wreaths\, and critters\nWander through the Lavender Labyrinth\nKid Zone – a custom play area\nLocally made products including essential oils and soaps\n\nAdmission is $5 per car. Advance reservations are encouraged. \nAdditional Apple Hill farms will be open for Lavender Blue Harvest Days. Farms that will be open with additional details are below: \n\nDelfino Farms – Handmade seasonal desserts\nHarris Tree Farm – Lavender mini donuts\, lavender lemonade\, and other bites\n24Carrot Farm – Produce and baked goods\nJack Russell Farm Brewery – Blueberry pancake breakfast\, blueberry hot honey dessert pizza\, and blueberry-lavender craft beverages\nHidden Star – Blueberry lavender cider and blueberry-lavender cobbler\nRainbow Camino Ridge – U-pick blueberries; Reservations required.\nRucksack Cellars – 2-for-1 wine tasting flight\nSmokey Ridge Farmstand and Winery – Lavender sangria and lavender bouquets\nGrandpa’s Cellar – Lavender-themed menu and a special lavender tasting flight
URL:https://sactownsupermom.com/event/2025-lavender-blue-harvest-days/2025-06-29/
LOCATION:Bluestone Meadow Farm\, 2025 Carson Rd\, Placerville\, CA\, 95667
CATEGORIES:Apple Hill
END:VEVENT
BEGIN:VEVENT
DTSTART;TZID=America/Los_Angeles:20250628T180000
DTEND;TZID=America/Los_Angeles:20250628T220000
DTSTAMP:20260422T183421
CREATED:20250617T054156Z
LAST-MODIFIED:20250617T054156Z
UID:10000360-1751133600-1751148000@sactownsupermom.com
SUMMARY:Citrus Heights Stars & Stripes Celebration
DESCRIPTION:The Stars & Stripes Celebration will take place at Van Maren Park in Citrus Heights on Saturday\, June 28\, 2025. There will be a kids zone\, live music\, food trucks\, and a fireworks show. \nEvent Schedule: \n\n6pm – Event begins\n7pm – Live music from Mercy * the Heartbeats\n8:30pm – Kids Zone closes\n9:30pm – Live music concludes\n9:45pm – Fireworks show
URL:https://sactownsupermom.com/event/citrus-heights-stars-stripes-celebration/
LOCATION:Van Maren Park\, 6601 Thalia Way\, Citrus Heights\, CA\, 95621
CATEGORIES:4th of July Fireworks
END:VEVENT
BEGIN:VEVENT
DTSTART;TZID=America/Los_Angeles:20250628T170000
DTEND;TZID=America/Los_Angeles:20250628T220000
DTSTAMP:20260422T183421
CREATED:20250621T143243Z
LAST-MODIFIED:20250621T143253Z
UID:10000374-1751130000-1751148000@sactownsupermom.com
SUMMARY:2025 Summer Spectacular at Cameron Park Lake
DESCRIPTION:Cameron Park will celebrate its Annual Summer Spectacular on Saturday\, June 28\, 2025. The event will include a kids carnival\, live music\, and a fireworks show. \nFood will be available for purchase. The Kids Zone is included with admission. Kids ages 3 and under receive free admission. \nFree parking is available on Boeing Rd. (Cameron Park Airpark). There will also be free shuttles at the following locations: \n\nPleasant Grove Middle School\, 2540 Green Valley Rd\, Rescue\, CA\nCameron Park CSD\, 2502 Country Club Drive\, Cameron Park\, CA\nMarshall Lab Cameron Park\, 3581 Palmer Drive\, Cameron Park\, CA
URL:https://sactownsupermom.com/event/summer-spectacular-at-cameron-park-lake/
LOCATION:Cameron Park Lake\, 2989 Cambridge Rd\, Cameron Park\, CA\, 95682
CATEGORIES:Fireworks
END:VEVENT
BEGIN:VEVENT
DTSTART;TZID=America/Los_Angeles:20250628T160000
DTEND;TZID=America/Los_Angeles:20250628T210000
DTSTAMP:20260422T183421
CREATED:20250525T041314Z
LAST-MODIFIED:20250525T041314Z
UID:10000296-1751126400-1751144400@sactownsupermom.com
SUMMARY:Black Miners Bar Juneteenth Festival
DESCRIPTION:A free family-friendly Juneteenth Festival will take place on Saturday\, June 28\, 2025 at Black Miners Bar on Folsom Lake. \nThe festival will celebrate Black pioneers who established one of California’s earliest black communities in 1849. \nThere will be many family-friendly activities that will include: \n\nKids zone\nPetting zoo\nHorseback riding\nEducational exhibits\nKayaking\nDrumming\nLakeside concert\nFood and shopping
URL:https://sactownsupermom.com/event/black-miners-bar-juneteenth-festival/
LOCATION:Black Miners Bar at Folsom Lake\, 9698 Greenback Lane\, Folsom\, CA\, 95630
CATEGORIES:June
END:VEVENT
BEGIN:VEVENT
DTSTART;TZID=America/Los_Angeles:20250628T160000
DTEND;TZID=America/Los_Angeles:20250628T200000
DTSTAMP:20260422T183421
CREATED:20250616T233013Z
LAST-MODIFIED:20250616T233013Z
UID:10000346-1751126400-1751140800@sactownsupermom.com
SUMMARY:Dive in Movie Night: Luca
DESCRIPTION:Watch the family-friendly movie Luca from a pool in Elk Grove! Dive-in Movie Night will take place on Saturday\, June 28\, 2025 at Elk Grove Aquatics Center. \nThe pool will open at 4pm while the movie will begin around 6pm. Floaties are not allowed. Watch the movie from the pool or from a chair on the pool deck.
URL:https://sactownsupermom.com/event/dive-in-movie-night-luca/
LOCATION:Elk Grove Aquatics Center\, 9701 Big Horn Blvd\, Elk Grove\, CA\, 95757
CATEGORIES:Elk Grove
END:VEVENT
BEGIN:VEVENT
DTSTART;TZID=America/Los_Angeles:20250628T153000
DTEND;TZID=America/Los_Angeles:20250628T163000
DTSTAMP:20260422T183421
CREATED:20250527T034643Z
LAST-MODIFIED:20250527T034643Z
UID:10000325-1751124600-1751128200@sactownsupermom.com
SUMMARY:The Science Wizard at Elk Grove Public Library
DESCRIPTION:Science comes to life thanks to The Science Wizard with an interactive show and learning experience at the Elk Grove Public Library on Saturday\, June 28\, 2025.
URL:https://sactownsupermom.com/event/the-science-wizard-at-elk-grove-public-library/
LOCATION:CA
CATEGORIES:Elk Grove,Sacramento Library
END:VEVENT
END:VCALENDAR