BEGIN:VCALENDAR
VERSION:2.0
PRODID:-//Sactown Supermom - ECPv6.15.20//NONSGML v1.0//EN
CALSCALE:GREGORIAN
METHOD:PUBLISH
X-WR-CALNAME:Sactown Supermom
X-ORIGINAL-URL:https://sactownsupermom.com
X-WR-CALDESC:Events for Sactown Supermom
REFRESH-INTERVAL;VALUE=DURATION:PT1H
X-Robots-Tag:noindex
X-PUBLISHED-TTL:PT1H
BEGIN:VTIMEZONE
TZID:America/Los_Angeles
BEGIN:DAYLIGHT
TZOFFSETFROM:-0800
TZOFFSETTO:-0700
TZNAME:PDT
DTSTART:20240310T100000
END:DAYLIGHT
BEGIN:STANDARD
TZOFFSETFROM:-0700
TZOFFSETTO:-0800
TZNAME:PST
DTSTART:20241103T090000
END:STANDARD
BEGIN:DAYLIGHT
TZOFFSETFROM:-0800
TZOFFSETTO:-0700
TZNAME:PDT
DTSTART:20250309T100000
END:DAYLIGHT
BEGIN:STANDARD
TZOFFSETFROM:-0700
TZOFFSETTO:-0800
TZNAME:PST
DTSTART:20251102T090000
END:STANDARD
BEGIN:DAYLIGHT
TZOFFSETFROM:-0800
TZOFFSETTO:-0700
TZNAME:PDT
DTSTART:20260308T100000
END:DAYLIGHT
BEGIN:STANDARD
TZOFFSETFROM:-0700
TZOFFSETTO:-0800
TZNAME:PST
DTSTART:20261101T090000
END:STANDARD
END:VTIMEZONE
BEGIN:VEVENT
DTSTART;TZID=America/Los_Angeles:20250726T100000
DTEND;TZID=America/Los_Angeles:20250726T123000
DTSTAMP:20260422T150217
CREATED:20250723T052946Z
LAST-MODIFIED:20250723T052946Z
UID:10000474-1753524000-1753533000@sactownsupermom.com
SUMMARY:Safetyville Open Play & Water Safety Education
DESCRIPTION:Safetyville USA will have open play and water safety education on Saturday\, July 26\, 2025. Kids can bike around Safetyville USA while visiting stations about safe practices when being around water sources like pools or open water. There will be hands-on activities for kids. \nThis event is free however pre-registration is required. \nLoaner bikes are available by request. Email Safetyville USA for a loaner bike request.
URL:https://sactownsupermom.com/event/safetyville-open-play-water-safety-education/
LOCATION:Safetyville USA\, 3909 Bradshaw Rd\, Sacramento\, CA\, 95827
CATEGORIES:Free
END:VEVENT
BEGIN:VEVENT
DTSTART;TZID=America/Los_Angeles:20250726T100000
DTEND;TZID=America/Los_Angeles:20250726T120000
DTSTAMP:20260422T150217
CREATED:20250719T234009Z
LAST-MODIFIED:20250719T234009Z
UID:10000451-1753524000-1753531200@sactownsupermom.com
SUMMARY:Chalk Your Walk in Roseville
DESCRIPTION:Celebrate a vibrant morning of chalk art at Chalk Your Walk on Saturday\, July 26\, 2025 at Vernon Street Town Square in Roseville. This free event will have an art gallery\, interactive art projects\, games\, a sidewalk chalk contest\, music\, vendors\, and more. Limited quantities of Chalk Your Walk Kits will be available. \nChalk Your Walk kits include: \n\nChalk\nStencils\nChalk Activities\nYard Sign commemorating the event
URL:https://sactownsupermom.com/event/chalk-your-walk-in-roseville/
LOCATION:Vernon Street Town Square\, 311 Vernon St\, Roseville\, CA\, 95678
CATEGORIES:Free,July
END:VEVENT
BEGIN:VEVENT
DTSTART;TZID=America/Los_Angeles:20250726T100000
DTEND;TZID=America/Los_Angeles:20250726T120000
DTSTAMP:20260422T150217
CREATED:20250627T232134Z
LAST-MODIFIED:20250627T232134Z
UID:10000403-1753524000-1753531200@sactownsupermom.com
SUMMARY:Fair Oaks Summer Fun Run
DESCRIPTION:Conquer fun obstacles like an inflatable water slide and navigate through the slime zone during the Fair Oaks Summer Fun on Saturday\, July 26\, 2025. This 1.2 mile course for kids will take place in Phoenix Park. \nObstacles will include: \n\nHay Bale Hustle\nSlime Zone\nHydro Wave\nColor Explosion\nTire Tango\nZany Zoo Alley\nWaterslide Mania\nHopscotch Lane\nLegendary Lagoon\nHuman Car Wash\n\nNote that registration price increases to $30 on the day of the event.
URL:https://sactownsupermom.com/event/fair-oaks-summer-fun-run/
LOCATION:Phoenix Park\, 9050 Sunset Ave.\, Fair Oaks\, CA\, 95628
CATEGORIES:July
END:VEVENT
BEGIN:VEVENT
DTSTART;TZID=America/Los_Angeles:20250726T100000
DTEND;TZID=America/Los_Angeles:20250726T110000
DTSTAMP:20260422T150217
CREATED:20250707T044437Z
LAST-MODIFIED:20250707T044437Z
UID:10000432-1753524000-1753527600@sactownsupermom.com
SUMMARY:League of Explorers Launch Party
DESCRIPTION:The Roseville Utility Exploration Center will be having a League of Explorers Launch Party on Saturday\, July 26\, 2025. This event is for kids ages 7-11 years old\, who the League of Explorers free labs and kits are geared toward. The free Launch Party will include hands-on activities\, utility-themed games\, refreshments\, and more. \nWhile the event is free\, an RSVP is required by July 20.
URL:https://sactownsupermom.com/event/league-of-explorers-launch-party/
LOCATION:Roseville Utility Exploration Center\, 1501 Pleasant Grove Blvd\, Roseville\, CA\, 95747
CATEGORIES:Roseville
END:VEVENT
BEGIN:VEVENT
DTSTART;TZID=America/Los_Angeles:20250726T090000
DTEND;TZID=America/Los_Angeles:20250726T100000
DTSTAMP:20260422T150217
CREATED:20250624T053411Z
LAST-MODIFIED:20250624T053411Z
UID:10000387-1753520400-1753524000@sactownsupermom.com
SUMMARY:Li'l Sprouts in the Garden: Printmaking
DESCRIPTION:Li’l Sprouts in the Garden is a multi-sensory experience for toddlers ages 3-5 at Soil Born Farms in Rancho Cordova. There are multiple sessions\, each with different theme. This session will take place on Saturday\, July 12\, 2025 with the theme of Printmaking. \nNatural objects will be harvested from around Soil Born Farms to build small journals. Kids will also get to hone their handwriting skills and design and hand-print postcards. \nChildren will play games\, sing songs\, hear stories\, and use their senses to explore. They will also acquire new words while gaining social skills. \nLi’l Sprouts in the Garden requires an adult chaperone with each child who attends. The adult chaperone is free with a paid toddler.
URL:https://sactownsupermom.com/event/lil-sprouts-in-the-garden-printmaking-2/
LOCATION:Soil Born Farms\, 2140 Chase Dr.\, Rancho Cordova\, CA\, 95670
CATEGORIES:Farms,Rancho Cordova
END:VEVENT
BEGIN:VEVENT
DTSTART;TZID=America/Los_Angeles:20250726T080000
DTEND;TZID=America/Los_Angeles:20250726T120000
DTSTAMP:20260422T150217
CREATED:20250719T225914Z
LAST-MODIFIED:20250719T225914Z
UID:10000448-1753516800-1753531200@sactownsupermom.com
SUMMARY:Yolo County Back-to-School Resource Fair
DESCRIPTION:The Yolo County Children’s Alliance and Washington Unified School District will host its Annual Back-to-School Resource Fair on Saturday\, July 26\, 2025 in West Sacramento. This free event will include free school supplies and backpacks\, community resources\, and hands-on activities. \nBackpack giveaways are for Yolo County residents. Free backpacks and school supplies are while supplies last. \nEvent details: \n\nBackpack Giveaway for Yolo County Residents\nDiaper Giveaway\nInteractive Activities for Kids\nCommunity Resource Booths
URL:https://sactownsupermom.com/event/yolo-county-back-to-school-resource-fair/
LOCATION:River City High School\, 1 Raider Lane\, West Sacramento\, CA\, 95691
CATEGORIES:Back To School Giveaways
END:VEVENT
BEGIN:VEVENT
DTSTART;TZID=America/Los_Angeles:20250725T180000
DTEND;TZID=America/Los_Angeles:20250725T210000
DTSTAMP:20260422T150217
CREATED:20250723T051956Z
LAST-MODIFIED:20250723T051956Z
UID:10000473-1753466400-1753477200@sactownsupermom.com
SUMMARY:#STYN Summer Playfest
DESCRIPTION:STYN Summer Playfest is a free community event that will take place on Friday\, July 25\, 2025 at the Mack Road Valley Hi Community Center in Sacramento. There will be food\, games\, arts and crafts\, music\, and more.
URL:https://sactownsupermom.com/event/styn-summer-playfest/
LOCATION:CA
CATEGORIES:Free
END:VEVENT
BEGIN:VEVENT
DTSTART;TZID=America/Los_Angeles:20250725T180000
DTEND;TZID=America/Los_Angeles:20250725T200000
DTSTAMP:20260422T150217
CREATED:20250627T222512Z
LAST-MODIFIED:20250627T222512Z
UID:10000400-1753466400-1753473600@sactownsupermom.com
SUMMARY:Picnic with Dad
DESCRIPTION:Father figures and kids are welcome to attend Picnic with Dad on Friday\, July 25\, 2025 at the South Sacramento Family Resource Center. This is a free event that will have food and games. \nRegistration is required for this event by the deadline of July 18. To register\, contact Stephanie at 916-591-8266.
URL:https://sactownsupermom.com/event/picnic-with-dad/
LOCATION:South Sacramento Family Resource Center\, 4343 Williamsbourgh Dr\, Sacramento\, CA\, 95823
CATEGORIES:Free
END:VEVENT
BEGIN:VEVENT
DTSTART;TZID=America/Los_Angeles:20250725T080000
DTEND;TZID=America/Los_Angeles:20250727T193000
DTSTAMP:20260422T150217
CREATED:20250627T220639Z
LAST-MODIFIED:20250629T140919Z
UID:10000398-1753430400-1753644600@sactownsupermom.com
SUMMARY:Paddlesplash at Lake Natoma
DESCRIPTION:Get on the water during the annual three-day Paddlespash SUP Festival on July 25-27\, 2025 at Lake Natoma. All levels of paddlers are welcome to participate. The most popular races are the 2\, 5\, and 8 mile races. There is also a Grom short course race for kids on Sunday\, July 27\, 2025. \nThis event is a beloved family-friendly summer weekend on the water. A beach and water cleanup to close the Paddlespash Festival. \nPFD and leashes are required. Bring your own board/paddle for the races and clinics. Lake Natoma is a 5mph zone with no current and is protected from wind. The lake has perfect water conditions for races. \nA schedule of events by day is below: \nFriday July 25\, 2025\n\n8am-12pm: Community Life Jacket Giveaway\n11am-12:30pm: SUP Yoga – taught by Full Circle Yoga\n12-1pm: Basics of Kayak 101 Clinic\n4:30-6pm:  Swag/Registration Pick up\n4-6pm: Poker Paddle\n6:30-7:30pm: Racer Meetup at Fort Rock Brewing\n\nSaturday July 26\, 2025\n\n7am:  Registration Desk Opens\n7:45am: Racer Meeting\n8am:  5 Mile Race Start\n9-10:30am: SUP Yoga – taught by Full Circle Yoga\n10:30am: Kids Race-Long distance ( 3-17 y/o)\n11:30am-1pm:  SUP Yoga – taught by Full Circle Yoga\n12pm: Sprints 200m\n8am-12pm: Life Jacket Giveaway (free)\n3:30 – 4:30pm – Injury Prevention Clinic\n6-7:30pm: Post Race Party/Raffle\n\nSunday July 27\, 2025\n\n7am: Registration Desk Opens\n7:45am: Racer Meeting\n8am: 8 Mile Race Start\n8:15am: 2 Mile Race Start\n10am: Kids Sprint Race\n11am: First Timers Race- Entry fee includes 3 pre race clinics\n12pm: 4 Person Relay Races (all Boards provided) $7.50 per paddler /$30 a team\n8am-12pm: Life Jacket Giveaway\n1pm: Beach Clean Up\n\nPrices range from $17-60 for various activities.
URL:https://sactownsupermom.com/event/paddlesplash-at-lake-natoma/
LOCATION:Lake Natoma\, 1912 Hazel Ave\, Rancho Cordova\, CA\, 95670
CATEGORIES:July,Rancho Cordova
END:VEVENT
BEGIN:VEVENT
DTSTART;TZID=America/Los_Angeles:20250724T193000
DTEND;TZID=America/Los_Angeles:20250727T220000
DTSTAMP:20260422T150217
CREATED:20250723T054111Z
LAST-MODIFIED:20250723T054111Z
UID:10000475-1753385400-1753653600@sactownsupermom.com
SUMMARY:Strauss Festival of Elk Grove
DESCRIPTION:The Strauss Festival of Elk Grove will take the stage from July 24-27\, 2025 at Elk Grove Regional Park. This is a free family-friendly festival that will have choreographed costumed dancers accompanied by an orchestra playing compositions from the composer Johann Strauss. The festival also includes fireworks. \nWhile the festival is free\, there is a $10 parking fee. \n\n\n\n\n\n\n\n\n 
URL:https://sactownsupermom.com/event/strauss-festival-of-elk-grove/
LOCATION:Elk Grove Regional Park\, 9950 Elk Grove Florin Road\, Elk Grove\, CA\, 95624\, United States
CATEGORIES:Elk Grove
END:VEVENT
BEGIN:VEVENT
DTSTART;TZID=America/Los_Angeles:20250720T190000
DTEND;TZID=America/Los_Angeles:20250720T220000
DTSTAMP:20260422T150217
CREATED:20250627T231503Z
LAST-MODIFIED:20250627T231503Z
UID:10000402-1753038000-1753048800@sactownsupermom.com
SUMMARY:Disney Descendants/Zombies
DESCRIPTION:Disney’s Descendants/Zombies: Worlds Collide Tour takes the stage on Sunday\, July 20\, 2025 at the Golden 1 Center.
URL:https://sactownsupermom.com/event/disney-descendants-zombies/
LOCATION:Golden 1 Center\, 500 David J Stern Walk\, Sacramento\, CA\, 95814
CATEGORIES:July
END:VEVENT
BEGIN:VEVENT
DTSTART;TZID=America/Los_Angeles:20250720T110000
DTEND;TZID=America/Los_Angeles:20250720T130000
DTSTAMP:20260422T150217
CREATED:20250625T050051Z
LAST-MODIFIED:20250625T050051Z
UID:10000389-1753009200-1753016400@sactownsupermom.com
SUMMARY:International Moon Day with Brett Hoffstadt
DESCRIPTION:Ruby’s Books in Folsom will celebrate the first landing on the Moon with a storytime and activities for kids that are space-themed on Sunday\, July 20\, 2025. \nBrett Hoffstadt\, a local author\, will read his book\, Goodnight Moon Base. After storytime\, there will be kid-friendly\, hands-on space-themed activities. \nWhile the event is free\, RSVPs are needed to allow the bookstore to plan for activities.
URL:https://sactownsupermom.com/event/international-moon-day-with-brett-hoffstadt/
LOCATION:Ruby’s Books\, 724 Sutter Street\, Folsom\, CA\, 95630
CATEGORIES:July
END:VEVENT
BEGIN:VEVENT
DTSTART;TZID=America/Los_Angeles:20250720T090000
DTEND;TZID=America/Los_Angeles:20250720T190000
DTSTAMP:20260422T150217
CREATED:20250625T051045Z
LAST-MODIFIED:20250625T051045Z
UID:10000390-1753002000-1753038000@sactownsupermom.com
SUMMARY:BusyKids Birthday
DESCRIPTION:BusyKids in Folsom will celebrate its birthday on Sunday\, July 20\, 2025 with face painting\, scavenger hunts\, giveaways\, and $12 play all day long.
URL:https://sactownsupermom.com/event/busykids-birthday/
LOCATION:BusyKids\, 1014 Riley St\, Folsom\, CA\, 95630
CATEGORIES:July
END:VEVENT
BEGIN:VEVENT
DTSTART;TZID=America/Los_Angeles:20250719T190000
DTEND;TZID=America/Los_Angeles:20250719T210000
DTSTAMP:20260422T150217
CREATED:20250717T040601Z
LAST-MODIFIED:20250717T040601Z
UID:10000444-1752951600-1752958800@sactownsupermom.com
SUMMARY:Fairytale Festival
DESCRIPTION:Once upon a time in Elk Grove… The Fairytale Festival returns from July 18 – 27\, 2025. This family-friendly festival will bring six fairytales to life. Expect whimsical characters\, tender moments\, and theatrical amusement. \nA game wristband is available for $5 which will grant unlimited access to fairytale games. Available at every performance. \nIn addition to the Fairytale Festival\, the Fairytale Festival Faire will occur on Saturday\, July 19\, 2025\, and Saturday\, July 26\, 2025 from 3-7pm. The faire is a free outdoor celebration before the show begins that will include fairytale characters\, games\, and more. \nThe six fairytales being brought to life at Fairytale Festival will include: \n\nHansel and Gretel\nRapunzel\nSleeping Beauty\nThe Frog Prince\nPuss in Boots\nBeauty and the Beast
URL:https://sactownsupermom.com/event/fairytale-festival/2025-07-19/
LOCATION:Field Of Hope UCC\, 9624 Melrose Ave\, Elk Grove\, CA\, 95624
CATEGORIES:Elk Grove
END:VEVENT
BEGIN:VEVENT
DTSTART;TZID=America/Los_Angeles:20250719T150000
DTEND;TZID=America/Los_Angeles:20250719T163000
DTSTAMP:20260422T150217
CREATED:20250625T213541Z
LAST-MODIFIED:20250625T213541Z
UID:10000395-1752937200-1752942600@sactownsupermom.com
SUMMARY:Sacramento Children's Museum at Franklin Library
DESCRIPTION:The Sacramento Children’s Museum will be hosting STEAM engineering and building programming at the Franklin Library in Elk Grove on Saturday\, July 19\, 2025.
URL:https://sactownsupermom.com/event/sacramento-childrens-museum-at-franklin-library/
LOCATION:Franklin Library\, 10055 Franklin High Rd\, Elk Grove\, CA\, 95757
CATEGORIES:Elk Grove,Sacramento Library
END:VEVENT
BEGIN:VEVENT
DTSTART;TZID=America/Los_Angeles:20250719T143000
DTEND;TZID=America/Los_Angeles:20250719T153000
DTSTAMP:20260422T150217
CREATED:20250625T214007Z
LAST-MODIFIED:20250625T214007Z
UID:10000396-1752935400-1752939000@sactownsupermom.com
SUMMARY:Ohana Hawaiian Dance
DESCRIPTION:Kids can learn about Hawaiian culture through music and dance at an interactive hula performance on Saturday\, July 12\, 2025 at the McKinley Library.
URL:https://sactownsupermom.com/event/ohana-hawaiian-dance/
LOCATION:McKinley Library\, 601 Alhambra Blvd\, Sacramento\, CA\, 95816
CATEGORIES:Sacramento Library
END:VEVENT
BEGIN:VEVENT
DTSTART;TZID=America/Los_Angeles:20250719T110000
DTEND;TZID=America/Los_Angeles:20250719T120000
DTSTAMP:20260422T150217
CREATED:20250717T020833Z
LAST-MODIFIED:20250717T020833Z
UID:10000445-1752922800-1752926400@sactownsupermom.com
SUMMARY:Yolo County Library: Barnyard Bash
DESCRIPTION:Kids can meet cute farm animals\, play games\, and indulge in a sweet treat at the free Barynard Bash on Saturday\, July 19\, 2025 at the South Davis Montgomery Library.
URL:https://sactownsupermom.com/event/yolo-county-library-barnyard-bash/
LOCATION:South Davis Montgomery Library\, 1441 Danbury St\, Davis\, CA\, 95618
CATEGORIES:Free
END:VEVENT
BEGIN:VEVENT
DTSTART;TZID=America/Los_Angeles:20250719T100000
DTEND;TZID=America/Los_Angeles:20250719T200000
DTSTAMP:20260422T150217
CREATED:20250627T221921Z
LAST-MODIFIED:20250629T140823Z
UID:10000399-1752919200-1752955200@sactownsupermom.com
SUMMARY:Monet Expo: The Immersive Experience Opening
DESCRIPTION:Step into a Claude Monet painting in Monet: The Immersive Experience opening in Sacramento on Saturday\, July 19\, 2025.  The experience is kid-friendly and will be a 360º digital art exhibition. This is a one-of-a-kind VR experience. \nThe experience is approximately 60-90 minutes. All ages are welcome. \nPrices range from $23-60.
URL:https://sactownsupermom.com/event/monet-expo-the-immersive-experience-opening/
LOCATION:31 15th Street\, West Sacramento\, CA\, 95691
CATEGORIES:July
END:VEVENT
BEGIN:VEVENT
DTSTART;TZID=America/Los_Angeles:20250719T090000
DTEND;TZID=America/Los_Angeles:20250719T110000
DTSTAMP:20260422T150217
CREATED:20250711T191541Z
LAST-MODIFIED:20250711T191541Z
UID:10000441-1752915600-1752922800@sactownsupermom.com
SUMMARY:North Highlands Touch-A-Truck
DESCRIPTION:Race over to a free Touch-A-Truck event at Freedom Park in North Highlands on Saturday\, July 19\, 2025. Kids will be able to get up close to machines and a helicopter will even land at the park (weather pending). \nThere will also be a sensory-friendly time from 9-9:30am where the event will be siren-free for a quieter experience. \nThe Touch-A-Truck event will include: \n\nMany vehicles to interact with\nRace car craft\nPedal track karts\nTrackless train rides\nSac Metro Helicopter Landing at 9:30am (pending weather and if the helicopter is needed for service)
URL:https://sactownsupermom.com/event/north-highlands-touch-a-truck/
LOCATION:Freedom Park
CATEGORIES:July
END:VEVENT
BEGIN:VEVENT
DTSTART;TZID=America/Los_Angeles:20250718T160000
DTEND;TZID=America/Los_Angeles:20250718T200000
DTSTAMP:20260422T150217
CREATED:20250702T051130Z
LAST-MODIFIED:20250702T051145Z
UID:10000419-1752854400-1752868800@sactownsupermom.com
SUMMARY:Fridays in the Grove: Christmas in July
DESCRIPTION:Fridays in the Grove: Christmas in July is a free family event happening on Saturday\, July 18\, 2025 at District 56 in Elk Grove. Get in the holiday spirit with a free pop-up ice skating rink and jolly atmosphere. \nBring socks to the event. All skates are provided for free!
URL:https://sactownsupermom.com/event/fridays-in-the-grove-christmas-in-july/
LOCATION:District 56\, 8230 Civic Center Dr #100\, Elk Grove\, CA\, 95757
CATEGORIES:July
END:VEVENT
BEGIN:VEVENT
DTSTART;TZID=America/Los_Angeles:20250717T193000
DTEND;TZID=America/Los_Angeles:20250717T220000
DTSTAMP:20260422T150217
CREATED:20250628T021016Z
LAST-MODIFIED:20250628T021016Z
UID:10000411-1752780600-1752789600@sactownsupermom.com
SUMMARY:Broadway at Music Circus: West Side Story
DESCRIPTION:West Side Story brings “Tonight\,” “Maria\,” and more of its show stopping songs to Sacramento. As part of Broadway at Music Circus\, West Side Story will run from July 11-17\, 2025 at the UC Davis Health Pavilion. \nChildren under the age 4 are not permitted to attend the show.
URL:https://sactownsupermom.com/event/broadway-at-music-circus-west-side-story/2025-07-17/2/
LOCATION:UC Davis Health Pavilion\, 1419 H St\, Sacramento\, CA\, 95814
CATEGORIES:Broadway Sacramento
END:VEVENT
BEGIN:VEVENT
DTSTART;TZID=America/Los_Angeles:20250713T100000
DTEND;TZID=America/Los_Angeles:20250713T150000
DTSTAMP:20260422T150217
CREATED:20250709T183206Z
LAST-MODIFIED:20250709T183206Z
UID:10000439-1752400800-1752418800@sactownsupermom.com
SUMMARY:Summer Family Fun Fest
DESCRIPTION:Living Smart’s Summer Family Fun Fest will take place on Sunday\, July 13\, 2025 at Vernon Street Town Square. The festival will have a Kids Zone with inflatables\, carnival games\, face painting\, and a toddler soft play zone. There will also be food and music. \nKids Zone Details: \n\nInflatables and carnival games for kids ages 5+\nToddler Soft Play Zone for kids ages 4 & under (free)\n$12 per child for unlimited games and 1 face painting or 1 balloon
URL:https://sactownsupermom.com/event/summer-family-fun-fest/
LOCATION:Vernon Street Town Square\, 311 Vernon St\, Roseville\, CA\, 95678
CATEGORIES:Roseville
END:VEVENT
BEGIN:VEVENT
DTSTART;TZID=America/Los_Angeles:20250713T093000
DTEND;TZID=America/Los_Angeles:20250713T103000
DTSTAMP:20260422T150217
CREATED:20250707T045902Z
LAST-MODIFIED:20250707T045902Z
UID:10000433-1752399000-1752402600@sactownsupermom.com
SUMMARY:Slithering Snakes at Effie Yeaw Nature Center
DESCRIPTION:Effie Yeaw Nature Center will host a free educational program called Slithering Snakes on Sunday\, July 13\, 2025. Learn about snakes and meet one of their snake animal ambassadors. \nThis is a free program however\, registration is required at the front desk. Registration is first-come\, first-served. While Effie Yeaw Nature Center is free\, there is a parking fee.
URL:https://sactownsupermom.com/event/slithering-snakes-at-effie-yeaw-nature-center/
LOCATION:Effie Yeaw Nature Center\, 2850 San Lorenzo Way\, Carmichael\, CA\, 95608
CATEGORIES:Nature
END:VEVENT
BEGIN:VEVENT
DTSTART;TZID=America/Los_Angeles:20250712T150000
DTEND;TZID=America/Los_Angeles:20250712T155000
DTSTAMP:20260422T150217
CREATED:20250627T215013Z
LAST-MODIFIED:20250627T215013Z
UID:10000397-1752332400-1752335400@sactownsupermom.com
SUMMARY:The Science Wizard at Central Library
DESCRIPTION:Science comes to life thanks to The Science Wizard with an interactive show and learning experience at the Central Library on Saturday\, July 12\, 2025. The show will take place in the 1st Floor Galleria West Meeting Room.
URL:https://sactownsupermom.com/event/the-science-wizard-at-central-library/
LOCATION:Central Library\, 828 I St\, Sacramento\, CA\, 95814
CATEGORIES:Sacramento Library
END:VEVENT
BEGIN:VEVENT
DTSTART;TZID=America/Los_Angeles:20250712T140000
DTEND;TZID=America/Los_Angeles:20250712T160000
DTSTAMP:20260422T150217
CREATED:20250704T202046Z
LAST-MODIFIED:20250704T202046Z
UID:10000430-1752328800-1752336000@sactownsupermom.com
SUMMARY:Summer Festival at Space to Play
DESCRIPTION:Enjoy a Summer Festival at Space to Play in Elk Grove on Saturday\, July 12\, 2025. There will be ice cream\, games\, face painting\, arts and crafts\, and more. Open play is also included. Registration is required for this event. \nThe Summer Festival will take place from 2-4pm and is $25 per child.
URL:https://sactownsupermom.com/event/summer-festival-at-space-to-play/
LOCATION:Space To Play\, 9683 Elk Grove Florin Rd\, Elk Grove\, CA\, 95624
CATEGORIES:July
END:VEVENT
BEGIN:VEVENT
DTSTART;TZID=America/Los_Angeles:20250712T140000
DTEND;TZID=America/Los_Angeles:20250712T150000
DTSTAMP:20260422T150217
CREATED:20250709T182207Z
LAST-MODIFIED:20250709T182207Z
UID:10000438-1752328800-1752332400@sactownsupermom.com
SUMMARY:Mermaid Storytime
DESCRIPTION:Splash into a free Mermaid Storytime on Saturday\, July 12\, 2025 at the Arthur F Turner Community Library in Yolo County at 2pm. Dressing up is encouraged and there will be photo opportunities.
URL:https://sactownsupermom.com/event/mermaid-storytime/
LOCATION:Arthur F. Tuner Community Library\, 1212 Merkley Avenue\, West Sacramento\, CA\, 95691
CATEGORIES:Free
END:VEVENT
BEGIN:VEVENT
DTSTART;TZID=America/Los_Angeles:20250712T120000
DTEND;TZID=America/Los_Angeles:20250713T120000
DTSTAMP:20260422T150217
CREATED:20250702T044352Z
LAST-MODIFIED:20250702T044411Z
UID:10000418-1752321600-1752408000@sactownsupermom.com
SUMMARY:All-Star Weekend at the Waterfront
DESCRIPTION:Swing over to the Old Sacramento Waterfront for All-Star Weekend on  Saturday and Sunday\, July 12 & 13\, 2025 for free baseball-themed family fun. This experience aligns with the MLB’s All Star Break and will include batting cages\, a Wiffle ball home run derby for kids\, baseball cards\, and more. \nThis experience is free! Bring a glove to the event. \nThe following activities will occur: \n\nWiffle Ball Home Run Derby for kids\nBaseball-themed inflatables\nBatting cages\nMeet-and-greets with mascots\nGrand Slam Stamp Card\nGiveaways\nArts and crafts stations\nBaseball cards\nSurprise All-Star appearances
URL:https://sactownsupermom.com/event/all-star-weekend-at-the-waterfront/
LOCATION:Old Sacramento Waterfront\, Sacramento\, CA
CATEGORIES:July
END:VEVENT
BEGIN:VEVENT
DTSTART;TZID=America/Los_Angeles:20250712T113000
DTEND;TZID=America/Los_Angeles:20250712T123000
DTSTAMP:20260422T150217
CREATED:20250625T210622Z
LAST-MODIFIED:20250625T210622Z
UID:10000392-1752319800-1752323400@sactownsupermom.com
SUMMARY:Bluey Day at the Bookstore
DESCRIPTION:A Seat at the Table Books in Elk Grove will be having Bluey Day at the bookstore on Saturday\, July 12\, 2025. A Bluey themed storytime for kids will take place at 11:30am. \nThemed drinks at the cafe will also be available.
URL:https://sactownsupermom.com/event/bluey-day-at-the-bookstore/
LOCATION:A Seat at the Table\, 9257 Laguna Springs Drive\, Elk Grove\, CA\, 95758
CATEGORIES:July
END:VEVENT
BEGIN:VEVENT
DTSTART;TZID=America/Los_Angeles:20250712T110000
DTEND;TZID=America/Los_Angeles:20250712T160000
DTSTAMP:20260422T150217
CREATED:20250704T201152Z
LAST-MODIFIED:20250704T201152Z
UID:10000429-1752318000-1752336000@sactownsupermom.com
SUMMARY:Ducky Derby
DESCRIPTION:The annual Ducky Derby at Marshall Gold Discovery State Historic Park will take place on Saturday\, July 12\, 2025. There will be rubber duck races\, a BBQ fundraiser\, hat contest\, and local vendors. \nRubber duck races will take place at 12pm and 2pm. The ducks will race down the miner’s flume. Buy a duck at the event to participate. All proceeds from duck sales and the BBQ will go directly to the historic park. \nDucky Derby Schedule: \n\n12pm & 2pm – Rubber Duck Races\n1pm – Hat Contest\n11am – 4pm – BBQ Fundraiser\n11am – 4pm Local Vendors
URL:https://sactownsupermom.com/event/ducky-derby/
LOCATION:Marshall Gold Discovery State Historic Park\, 310 Back St\, Coloma\, CA\, 95613
CATEGORIES:July
END:VEVENT
BEGIN:VEVENT
DTSTART;TZID=America/Los_Angeles:20250712T110000
DTEND;TZID=America/Los_Angeles:20250712T140000
DTSTAMP:20260422T150217
CREATED:20250709T190853Z
LAST-MODIFIED:20250709T190853Z
UID:10000440-1752318000-1752328800@sactownsupermom.com
SUMMARY:BBQ in the Beat
DESCRIPTION:The Elk Grove Police Department hosts BBQ in the Beat on Saturday\, July 12\, 2025 at Miwok Park. Enjoy free food and fun at this community event.
URL:https://sactownsupermom.com/event/bbq-in-the-beat/
LOCATION:Miwok Park\, 9344 Village Tree Dr\, Elk Grove\, CA\, 95758
CATEGORIES:Elk Grove
END:VEVENT
END:VCALENDAR