BEGIN:VCALENDAR
VERSION:2.0
PRODID:-//Sactown Supermom - ECPv6.15.20//NONSGML v1.0//EN
CALSCALE:GREGORIAN
METHOD:PUBLISH
X-WR-CALNAME:Sactown Supermom
X-ORIGINAL-URL:https://sactownsupermom.com
X-WR-CALDESC:Events for Sactown Supermom
REFRESH-INTERVAL;VALUE=DURATION:PT1H
X-Robots-Tag:noindex
X-PUBLISHED-TTL:PT1H
BEGIN:VTIMEZONE
TZID:America/Los_Angeles
BEGIN:DAYLIGHT
TZOFFSETFROM:-0800
TZOFFSETTO:-0700
TZNAME:PDT
DTSTART:20240310T100000
END:DAYLIGHT
BEGIN:STANDARD
TZOFFSETFROM:-0700
TZOFFSETTO:-0800
TZNAME:PST
DTSTART:20241103T090000
END:STANDARD
BEGIN:DAYLIGHT
TZOFFSETFROM:-0800
TZOFFSETTO:-0700
TZNAME:PDT
DTSTART:20250309T100000
END:DAYLIGHT
BEGIN:STANDARD
TZOFFSETFROM:-0700
TZOFFSETTO:-0800
TZNAME:PST
DTSTART:20251102T090000
END:STANDARD
BEGIN:DAYLIGHT
TZOFFSETFROM:-0800
TZOFFSETTO:-0700
TZNAME:PDT
DTSTART:20260308T100000
END:DAYLIGHT
BEGIN:STANDARD
TZOFFSETFROM:-0700
TZOFFSETTO:-0800
TZNAME:PST
DTSTART:20261101T090000
END:STANDARD
END:VTIMEZONE
BEGIN:VEVENT
DTSTART;TZID=America/Los_Angeles:20250808T170000
DTEND;TZID=America/Los_Angeles:20250808T200000
DTSTAMP:20260422T131323
CREATED:20250525T042411Z
LAST-MODIFIED:20250525T042411Z
UID:10000299-1754672400-1754683200@sactownsupermom.com
SUMMARY:Full Belly Farm Pizza Nights
DESCRIPTION:Full Belly Farm in the Capay Valley has Pizza Nights during the summer. Families can enjoy wood-fired pizza with seasonal toppings in a casual and relaxed atmosphere on the farm. \n2025 Pizza Nights dates are below: \n\nFriday\, June 6\, 2025\nFriday\, July 11\, 2025\nFriday\, August 8\, 2025\n\nBring your own blankets or chairs for a relaxing setting on the farm. Additionally\, bring a cup or bottle for water. \nPizzas are 9-inches. Seasonal side salads and homemade ice cream will also be available for purchase. \nWhile RSVPs are not required\, they are encouraged so enough pizzas will be available. RSVPs open one month prior to the Pizza Nights dates.
URL:https://sactownsupermom.com/event/full-belly-farm-pizza-nights/2025-08-08/
LOCATION:Full Belly Farm\, 6090 County Road 43\, Guinda\, CA\, 95637
CATEGORIES:Food
END:VEVENT
BEGIN:VEVENT
DTSTART;TZID=America/Los_Angeles:20250808T150000
DTEND;TZID=America/Los_Angeles:20250808T190000
DTSTAMP:20260422T131323
CREATED:20250526T191439Z
LAST-MODIFIED:20250526T191439Z
UID:10000305-1754665200-1754679600@sactownsupermom.com
SUMMARY:Family Swim Nights
DESCRIPTION:Family Swim Nights will take place at Rosemont High School Pool in Rancho Cordova during select summer evenings in 2025. Each swim night will have a different theme\, food trucks\, vendors\, and family activities. \nDates and themes for Family Swim Nights are below: \n\nFriday\, June 20\, 2025 – Splash & Save – Celebrate first responders and water safety\nFriday\, July 18\, 2025 – Poolchella – Local music and art\nFriday\, August 8\, 2025 – Back To School at the Pool – Soak in the end of summer
URL:https://sactownsupermom.com/event/family-swim-nights/2025-08-08/
LOCATION:Rosemont High School Pool\, 9594 Kiefer Blvd\, Sacramento\, CA\, 95827
CATEGORIES:Rancho Cordova
END:VEVENT
BEGIN:VEVENT
DTSTART;TZID=America/Los_Angeles:20250808T130000
DTEND;TZID=America/Los_Angeles:20250808T160000
DTSTAMP:20260422T131323
CREATED:20250728T035035Z
LAST-MODIFIED:20250728T035035Z
UID:10000490-1754658000-1754668800@sactownsupermom.com
SUMMARY:Splash Jam: Sammy’s Fun Pop-Up Event
DESCRIPTION:Splash Jam: Sammy’s Fun Pop-Up Event will take place on Friday\, August 8\, 2025. This free event will include games and activities at the Jerry Fox Swim Center in Elk Grove.
URL:https://sactownsupermom.com/event/splash-jam-sammys-fun-pop-up-event/
LOCATION:Jerry Fox Swim Center\, 9950 Elk Grove Florin Rd\, Sacramento\, CA\, 95624
CATEGORIES:Elk Grove
END:VEVENT
BEGIN:VEVENT
DTSTART;TZID=America/Los_Angeles:20250808T110000
DTEND;TZID=America/Los_Angeles:20250808T233000
DTSTAMP:20260422T131323
CREATED:20250728T021849Z
LAST-MODIFIED:20250728T021950Z
UID:10000482-1754650800-1754695800@sactownsupermom.com
SUMMARY:The Blvd! Opening Day
DESCRIPTION:The Blvd! opens in West Sacramento on Friday\, August 8\, 2025. Families can enjoy this brand-new entertainment venue with immersive bowling\, arcades\, VR games\, and laser tag.
URL:https://sactownsupermom.com/event/the-blvd-opening-day/
LOCATION:The Blvd!\, 1298 W Capitol Ave\, West Sacramento\, CA\, 95691
CATEGORIES:August
END:VEVENT
BEGIN:VEVENT
DTSTART;TZID=America/Los_Angeles:20250806T090000
DTEND;TZID=America/Los_Angeles:20250806T120000
DTSTAMP:20260422T131323
CREATED:20250720T025347Z
LAST-MODIFIED:20250720T025347Z
UID:10000453-1754470800-1754481600@sactownsupermom.com
SUMMARY:Backpack Giveaway & End of Summer Bash
DESCRIPTION:Placer County Child Support Services will have its Annual Backpack Giveaway & End of Summer Bash in Rocklin on Wednesday\, August 6\, 2025. There will be free backpacks for kids\, and family activities likes games and crafts.\n\n\nA parent or guardian must accompany children to this event.
URL:https://sactownsupermom.com/event/backpack-giveaway-end-of-summer-bash/
LOCATION:1000 Sunset Blvd\, Rocklin\, CA\, 95765
CATEGORIES:Back To School Giveaways
END:VEVENT
BEGIN:VEVENT
DTSTART;TZID=America/Los_Angeles:20250805T180000
DTEND;TZID=America/Los_Angeles:20250805T200000
DTSTAMP:20260422T131323
CREATED:20250804T202344Z
LAST-MODIFIED:20250804T202344Z
UID:10000503-1754416800-1754424000@sactownsupermom.com
SUMMARY:Sac Connect: Back to School Skate Night
DESCRIPTION:Sac Connect will have a Back to School Skate Night on Tuesday\, August 5\, 2025 at The Rink. There will a backpack giveaway and free school supplies while supplies last. This event is free\, but registration is required. \nRegister for the event here.
URL:https://sactownsupermom.com/event/sac-connect-back-to-school-skate-night/
LOCATION:The Rink\, 2900 Bradshaw Rd\, Sacramento\, CA\, 95827
CATEGORIES:Back To School Giveaways
END:VEVENT
BEGIN:VEVENT
DTSTART;TZID=America/Los_Angeles:20250805T080000
DTEND;TZID=America/Los_Angeles:20250805T170000
DTSTAMP:20260422T131323
CREATED:20250531T043949Z
LAST-MODIFIED:20250531T043949Z
UID:10000341-1754380800-1754413200@sactownsupermom.com
SUMMARY:The W.O.W. Bus in Fair Oaks
DESCRIPTION:The W.O.W. (Wonderful Outdoor World) Bus stops at rotating Fair Oaks parks in summer 2025 to get kids outside. W.O.W. Bus activities are free and will include games and art. \nNote that this will be canceled in the event that temperatures exceed 100 degrees\, in rain\, or during Save the Air Days. Dates are subject to change\, so check the official event website. \nW.O.W. Bus Schedule: \n\n6/24/25 – Miller Park\n7/15/25 – Gum Ranch Park\n8/5/25 – Fair Oaks Park
URL:https://sactownsupermom.com/event/the-w-o-w-bus-in-fair-oaks/2025-08-05/
LOCATION:Miller Park\, 8480 Sunset Ave\, Fair Oaks\, CA\, 95628
CATEGORIES:Free
END:VEVENT
BEGIN:VEVENT
DTSTART;TZID=America/Los_Angeles:20250804T160000
DTEND;TZID=America/Los_Angeles:20250804T180000
DTSTAMP:20260422T131323
CREATED:20250719T230935Z
LAST-MODIFIED:20250719T230935Z
UID:10000449-1754323200-1754330400@sactownsupermom.com
SUMMARY:Mayor McCarty and Vice Mayor Talamantes Annual Backpack Giveaway
DESCRIPTION:Mayor McCarty and Vice Mayor Talamantes present their Annual Backpack Giveaway at Northgate Park in Natomas on August 4\, 2025. This free event will include free backpacks\, free school supplies\, free haircuts\, activities\, food\, and more. RSVPs are encouraged and currently full\, however an RSVP does not guarantee a backpack. All students and families are welcome to attend.
URL:https://sactownsupermom.com/event/mayor-mccarty-and-vice-mayor-talamantes-annual-backpack-giveaway/
LOCATION:Northgate Park\, 2825 Mendel Way\, Sacramento\, CA\, 95833
CATEGORIES:Back To School Giveaways
END:VEVENT
BEGIN:VEVENT
DTSTART;TZID=America/Los_Angeles:20250803T193000
DTEND;TZID=America/Los_Angeles:20250803T220000
DTSTAMP:20260422T131323
CREATED:20250702T052844Z
LAST-MODIFIED:20250702T052854Z
UID:10000428-1754249400-1754258400@sactownsupermom.com
SUMMARY:Shakespeare in the Park
DESCRIPTION:Enjoy Shakespeare in the Park in Elk Grove this summer at Laguna Town Hall. Twelfth Night will be performed for the run dates of July 18 – August 3\, 2025 on Friday\, Saturday\, and Sunday nights. \nPerformances will take place each night at 7:30pm\, and are performed at an outdoor amphitheater. \nAll performances are pay what you can. Purchase tickets here. \nBring your own chairs/blankets. Only low-back folding chairs are permitted. You’re welcome to bring your own food and beverages to the performance. \nPerformance dates are below: \n\nFriday\, July 18 at 7:30 pm\nSaturday\, July 19 at 7:30 pm\nSunday\, July 20 at 7:30 pm\nFriday\, July 25 at 7:30 pm\nSaturday\, July 26 at 7:30 pm\nSunday\, July 27 at 7:30 pm\nFriday\, August 1 at 7:30 pm\nSaturday\, August 2 at 7:30 pm\nSunday\, August 3 at 7:30 pm
URL:https://sactownsupermom.com/event/shakespeare-in-the-park/2025-08-03/
LOCATION:Laguna Town Hall\, 3020 Renwick Ave.\, Elk Grove\, CA\, 95758
CATEGORIES:Elk Grove
END:VEVENT
BEGIN:VEVENT
DTSTART;TZID=America/Los_Angeles:20250803T090000
DTEND;TZID=America/Los_Angeles:20250803T140000
DTSTAMP:20260422T131323
CREATED:20250728T024127Z
LAST-MODIFIED:20250728T024141Z
UID:10000485-1754211600-1754229600@sactownsupermom.com
SUMMARY:Peaches in the Plaza
DESCRIPTION:Things will be just peachy in Folsom at Peaches in the Plaza on Sunday\, August 3\, 2025. Celebrate all things peaches with various varieties and food and drinks with peaches. There will be a Kids Zone with all day carnival games for $8\, face painting\, and balloon art.
URL:https://sactownsupermom.com/event/peaches-in-the-plaza/
LOCATION:Folsom Historic District\, 200 Wool St\, Folsom\, CA\, 95630
CATEGORIES:Free
END:VEVENT
BEGIN:VEVENT
DTSTART;TZID=America/Los_Angeles:20250802T183000
DTEND;TZID=America/Los_Angeles:20250802T223000
DTSTAMP:20260422T131323
CREATED:20250525T025258Z
LAST-MODIFIED:20250525T025520Z
UID:10000289-1754159400-1754173800@sactownsupermom.com
SUMMARY:Folsom Family Movie Nights
DESCRIPTION:The Folsom Parks & Recreation Department will have free Family Movie Nights for three nights during the summer at different Folsom venues. \nBring your own lawn chairs and blankets to enjoy a movie under the stars. Activities will take place from 6pm to 8:30pm before the movie begins at 8:30pm. \nThe Folsom Family Movie Night Series and venues are below: \n\nFriday\, June 20\, 2025 – Folsom City Zoo Sanctuary\nMovie: Brother Bear \nActivities before the movie will include the zoo and biofacts\n\n\nFriday\, July 18\, 2025 – Andy Morin Sports Complex\nMovie: Space Jam: A New Legacy \nActivities before the movie will include amenities at the sports complex\n\n\nSaturday\, August 2\, 2025 – Steve Miklos Aquatic Center\nMovie: Moana 2 \nActivities before the movie include swimming and inflatables
URL:https://sactownsupermom.com/event/folsom-family-movie-nights/2025-08-02/
LOCATION:Folsom City Zoo Sanctuary\, 403 Stafford Street\, Folsom\, CA\, 95630
CATEGORIES:Folsom Zoo,Free,Movies
END:VEVENT
BEGIN:VEVENT
DTSTART;TZID=America/Los_Angeles:20250802T150000
DTEND;TZID=America/Los_Angeles:20250802T170000
DTSTAMP:20260422T131323
CREATED:20250731T034736Z
LAST-MODIFIED:20250731T034736Z
UID:10000497-1754146800-1754154000@sactownsupermom.com
SUMMARY:Pixie Tribe at South Natomas Libary
DESCRIPTION:There will be balloon animals and face painting with Pixie Tribe on Saturday\, August 2\, 2025 in the South Natomas Public Library.
URL:https://sactownsupermom.com/event/pixie-tribe-at-south-natomas-libary/
LOCATION:South Natomas Library\, 2901 Truxel Road\, Sacramento\, CA\, 95833
CATEGORIES:Free
END:VEVENT
BEGIN:VEVENT
DTSTART;TZID=America/Los_Angeles:20250802T143000
DTEND;TZID=America/Los_Angeles:20250802T153000
DTSTAMP:20260422T131323
CREATED:20250731T035612Z
LAST-MODIFIED:20250731T035612Z
UID:10000498-1754145000-1754148600@sactownsupermom.com
SUMMARY:Magical Mike at McKinley Library
DESCRIPTION:Magician Mike Della Penna will celebrate reading with a fun\, family-friendly magic show on Saturday\, August 2\, 2025 at the McKinley Library in East Sacramento.
URL:https://sactownsupermom.com/event/magical-mike-at-mckinley-library/
LOCATION:McKinley Library\, 601 Alhambra Blvd\, Sacramento\, CA\, 95816
CATEGORIES:Free
END:VEVENT
BEGIN:VEVENT
DTSTART;TZID=America/Los_Angeles:20250802T110000
DTEND;TZID=America/Los_Angeles:20250802T190000
DTSTAMP:20260422T131323
CREATED:20250720T053015Z
LAST-MODIFIED:20250720T053015Z
UID:10000460-1754132400-1754161200@sactownsupermom.com
SUMMARY:Dave's Pumpkin Patch Summerween Party
DESCRIPTION:Spooky season comes early in West Sacramento. Summerween at Dave’s Pumpkin Patch takes place on Saturday\, August 2\, 2025. The mischievous summer night will have BBQ\, a jumping pillow\, live music\, and family fun. Costumes are welcome but optional. \nAttendees will receive 50% off tickets to Dave’s Pumpkin Patch in 2025. Tickets must be purchased in person at Summerween. No entry fee or wristband is needed for Summerween.
URL:https://sactownsupermom.com/event/daves-pumpkin-patch-summerween-party/
LOCATION:Dave’s Pumpkin Patch\, 3010 Burrows Ave\, West Sacramento\, CA\, 95691
CATEGORIES:August
END:VEVENT
BEGIN:VEVENT
DTSTART;TZID=America/Los_Angeles:20250802T100000
DTEND;TZID=America/Los_Angeles:20250803T160000
DTSTAMP:20260422T131323
CREATED:20250728T040128Z
LAST-MODIFIED:20250728T040128Z
UID:10000491-1754128800-1754236800@sactownsupermom.com
SUMMARY:Gem Jewelry Fossil and Mineral Show
DESCRIPTION:The Roseville Rock Rollers Gem and Mineral Society’s annual Gem\, Jewelry\, Fossil and Mineral Show will take place on Saturday & Sunday\, August 2 & 3\, 2025. Explore gems and fossils at this family-friendly event. There will be a kid’s gem hunt.
URL:https://sactownsupermom.com/event/gem-jewelry-fossil-and-mineral-show/
LOCATION:@the grounds\, 700 Event Center Dr\, Roseville\, CA\, 95678
CATEGORIES:Roseville
END:VEVENT
BEGIN:VEVENT
DTSTART;TZID=America/Los_Angeles:20250802T100000
DTEND;TZID=America/Los_Angeles:20250802T140000
DTSTAMP:20260422T131323
CREATED:20250720T214846Z
LAST-MODIFIED:20250720T214846Z
UID:10000462-1754128800-1754143200@sactownsupermom.com
SUMMARY:2025 Healthy Families Fitness Festival
DESCRIPTION:The Sierra Community Medical Foundation will host a free Healthy Families Fitness Festival on Saturday\, August 2\, 2025 at the grounds in Roseville. The day will include free backpacks and school supplies\, health screenings and clinics\, free food\, family fun\, and more.
URL:https://sactownsupermom.com/event/2025-healthy-families-fitness-festival/
LOCATION:@the grounds\, 700 Event Center Dr\, Roseville\, CA\, 95678
CATEGORIES:Back To School Giveaways
END:VEVENT
BEGIN:VEVENT
DTSTART;TZID=America/Los_Angeles:20250802T100000
DTEND;TZID=America/Los_Angeles:20250802T130000
DTSTAMP:20260422T131323
CREATED:20250720T030820Z
LAST-MODIFIED:20250720T031711Z
UID:10000454-1754128800-1754139600@sactownsupermom.com
SUMMARY:Destiny Church Sacramento Backpack Giveaway 2025
DESCRIPTION:Destiny Church Sacramento will have a free Backpack Giveaway on Saturday\, August 2\, 2025. There will be backpacks\, a clothing boutique\, haircuts\, a BBQ lunch\, entertainment\, characters\, and more. Children must be present at the event to receive a backpack\, and accompanied by adults who need a registration ticket to attend the event.
URL:https://sactownsupermom.com/event/destiny-church-sacramento-backpack-giveaway-2025/
LOCATION:Destiny Church Sacramento\, 9470 Micron Avenue\, Sacramento\, CA\, 95827
CATEGORIES:Back To School Giveaways
END:VEVENT
BEGIN:VEVENT
DTSTART;TZID=America/Los_Angeles:20250802T090000
DTEND;TZID=America/Los_Angeles:20250802T160000
DTSTAMP:20260422T131323
CREATED:20250729T041333Z
LAST-MODIFIED:20250729T041333Z
UID:10000494-1754125200-1754150400@sactownsupermom.com
SUMMARY:NorCal Summer Smash
DESCRIPTION:NorCal Summer Smash is an outdoor combat robotics event taking place on Saturday\, August 2\, 2025 in Roseville. Four divisions of robot battles will take place at this family-friendly event\, which is free to watch. \n\n\n\n\n\n\n\n 
URL:https://sactownsupermom.com/event/norcal-summer-smash/
LOCATION:Vernon Street Town Square\, 311 Vernon St\, Roseville\, CA\, 95678
CATEGORIES:Roseville
END:VEVENT
BEGIN:VEVENT
DTSTART;TZID=America/Los_Angeles:20250802T090000
DTEND;TZID=America/Los_Angeles:20250802T120000
DTSTAMP:20260422T131323
CREATED:20250721T041324Z
LAST-MODIFIED:20250721T041324Z
UID:10000464-1754125200-1754136000@sactownsupermom.com
SUMMARY:Bags of Swag at Midas Giveaway
DESCRIPTION:The Midas Auto Repair in Carmichael will have its Annual Bags of Swag Backpack Giveaway on Saturday\, August 2\, 2025. Nearly 200 backpacks will be available for students in grades K-12 and will include school supplies. Backpacks are first-come\, first-serve  and children must be present to receive a backpack. \nPark on Landis Ave and walk to Midas on foot due to limited parking. For more details about the Midas Carmichael backpack giveaway\, check out this Carmichael Times article.
URL:https://sactownsupermom.com/event/bags-of-swag-at-midas-giveaway/
LOCATION:Carmichael Midas\, 6840 Fair Oaks Blvd.\, Carmichael\, CA\, 95608
CATEGORIES:Back To School Giveaways
END:VEVENT
BEGIN:VEVENT
DTSTART;TZID=America/Los_Angeles:20250801T133000
DTEND;TZID=America/Los_Angeles:20250801T143000
DTSTAMP:20260422T131323
CREATED:20250527T033831Z
LAST-MODIFIED:20250527T033831Z
UID:10000323-1754055000-1754058600@sactownsupermom.com
SUMMARY:Family Fun at Rancho Cordova Library
DESCRIPTION:As part of Summer Reading at the Sacramento Public Library\, the Rancho Cordova Library will have a kids activity every Friday from June 20 – August 1\, 2025 at 1:30pm. Each week will be a different activity. \nAll Family Fun activities begin at 1:30pm\, and are free. \nThe 2025 schedule and activities are below: \n\n\n\n\nFriday\, June 20 – Bingo; Play a summer-themed round of Bingo\nFriday\, June 27 – Raft Engineering; Test your engineering skills to see if you can build a raft that floats on water.\nFriday\, July 11 – Painting Without Brushes; Paint a masterpiece with everyday objects\nFriday\, July 18 – Binary Coding Necklaces; Design a necklace with your name or a secret word in code\nFriday\, July 25 – Hexbug Mazes; Create a maze from daily objects and see if a hexbug to move through it\nFriday\, August 1 – Straw Building; See what you can create and connect out of straws\n\n\n\n\n\n\n\n\n\n\n\n\n\n\n\n\n\n  \n  \n  \n\n\n\n\n\n\n\n\n\n\n\n\n\n\n\n\n  \n 
URL:https://sactownsupermom.com/event/family-fun-at-rancho-cordova-library/2025-08-01/
LOCATION:Rancho Cordova Library\, 9845 Folsom Blvd.\, Sacramento\, CA\, 95827
CATEGORIES:Free,Rancho Cordova
END:VEVENT
BEGIN:VEVENT
DTSTART;TZID=America/Los_Angeles:20250727T090000
DTEND;TZID=America/Los_Angeles:20250727T180000
DTSTAMP:20260422T131323
CREATED:20250628T022244Z
LAST-MODIFIED:20250628T022244Z
UID:10000412-1753606800-1753639200@sactownsupermom.com
SUMMARY:Annual Pear Fair
DESCRIPTION:The annual Pear Fair will take place on Sunday\, July 27 in the Sacramento River Delta town of Courtland. Entry to the fair is free. There will be a kids’ area with a wide range of fun activities\, a Youth Duck Calling\, a Fun Run\, and more. The Pear Fair parade will also take place at 1pm. \nWhile there is no admission fee to attend the Pear Fair\, parking is $20; cash only.
URL:https://sactownsupermom.com/event/annual-pear-fair/
LOCATION:180 Primasing Ave\, Courtland\, CA\, 95615
CATEGORIES:July
END:VEVENT
BEGIN:VEVENT
DTSTART;TZID=America/Los_Angeles:20250726T170000
DTEND;TZID=America/Los_Angeles:20250726T210000
DTSTAMP:20260422T131323
CREATED:20250625T203702Z
LAST-MODIFIED:20250625T203702Z
UID:10000391-1753549200-1753563600@sactownsupermom.com
SUMMARY:Early Learning: Family Fun & Playfest
DESCRIPTION:The Sacramento County Office of Education will host a free Family Fun & Playfest on Saturday July 26\, 2025 at Fairytale Town. Note that RSVPs are full for this event. However\, families are still welcome to attend\, they may just not receive educational materials or food without a registration. \nFamilies will be able to learn about available community resources while getting to play at Fairytale Town on a Saturday evening. This event is for ages 0-5 years old. \nThere will be interactive play stations\, read alouds\, developmental screening stations\, giveaways\, and more.
URL:https://sactownsupermom.com/event/early-learning-family-fun-playfest/
LOCATION:Fairytale Town
CATEGORIES:July
END:VEVENT
BEGIN:VEVENT
DTSTART;TZID=America/Los_Angeles:20250726T140000
DTEND;TZID=America/Los_Angeles:20250726T150000
DTSTAMP:20260422T131323
CREATED:20250625T213152Z
LAST-MODIFIED:20250625T213152Z
UID:10000394-1753538400-1753542000@sactownsupermom.com
SUMMARY:Mike the Magician at Rancho Cordova Library
DESCRIPTION:Mike the Magician will perform a free family magic show at the Rancho Cordova Library on Saturday\, July 26\, 2025.
URL:https://sactownsupermom.com/event/mike-the-magician-at-rancho-cordova-library/
LOCATION:Rancho Cordova Library\, 9845 Folsom Blvd.\, Sacramento\, CA\, 95827
CATEGORIES:Rancho Cordova,Sacramento Library
END:VEVENT
BEGIN:VEVENT
DTSTART;TZID=America/Los_Angeles:20250726T103000
DTEND;TZID=America/Los_Angeles:20250726T123000
DTSTAMP:20260422T131323
CREATED:20250720T024648Z
LAST-MODIFIED:20250720T024648Z
UID:10000452-1753525800-1753533000@sactownsupermom.com
SUMMARY:Avenue Church Back to School Backpack Drive
DESCRIPTION:Avenue Church will have a free Back to School Backpack Drive in Sacramento on July 26\, 2025. There will be free backpacks and school supplies while supplies last.
URL:https://sactownsupermom.com/event/avenue-church-back-to-school-backpack-drive/
LOCATION:The Avenue Church of Sacramento\, 5230 Ehrhardt Avenue\, Sacramento\, CA\, 95823
CATEGORIES:Back To School Giveaways
END:VEVENT
BEGIN:VEVENT
DTSTART;TZID=America/Los_Angeles:20250726T100000
DTEND;TZID=America/Los_Angeles:20250726T160000
DTSTAMP:20260422T131323
CREATED:20250719T232739Z
LAST-MODIFIED:20250719T232739Z
UID:10000450-1753524000-1753545600@sactownsupermom.com
SUMMARY:Exceeding Expectations Project Annual Back II School Giveaway
DESCRIPTION:The Exceeding Expectations Project will host its Annual Back II School Giveaway in Sacramento on Saturday\, July 26\, 2025. There will be a free backpack and school supplies giveaway. Activities will include haircuts\, food\, games\, and fun for students in grades from Pre-K through college. RSVP for this event.
URL:https://sactownsupermom.com/event/exceeding-expectations-project-annual-back-ii-school-giveaway/
LOCATION:7407 Imagination Pkwy\, Sacramento\, CA\, 95823
CATEGORIES:Back To School Giveaways
END:VEVENT
BEGIN:VEVENT
DTSTART;TZID=America/Los_Angeles:20250726T100000
DTEND;TZID=America/Los_Angeles:20250726T123000
DTSTAMP:20260422T131323
CREATED:20250723T052946Z
LAST-MODIFIED:20250723T052946Z
UID:10000474-1753524000-1753533000@sactownsupermom.com
SUMMARY:Safetyville Open Play & Water Safety Education
DESCRIPTION:Safetyville USA will have open play and water safety education on Saturday\, July 26\, 2025. Kids can bike around Safetyville USA while visiting stations about safe practices when being around water sources like pools or open water. There will be hands-on activities for kids. \nThis event is free however pre-registration is required. \nLoaner bikes are available by request. Email Safetyville USA for a loaner bike request.
URL:https://sactownsupermom.com/event/safetyville-open-play-water-safety-education/
LOCATION:Safetyville USA\, 3909 Bradshaw Rd\, Sacramento\, CA\, 95827
CATEGORIES:Free
END:VEVENT
BEGIN:VEVENT
DTSTART;TZID=America/Los_Angeles:20250726T100000
DTEND;TZID=America/Los_Angeles:20250726T120000
DTSTAMP:20260422T131323
CREATED:20250719T234009Z
LAST-MODIFIED:20250719T234009Z
UID:10000451-1753524000-1753531200@sactownsupermom.com
SUMMARY:Chalk Your Walk in Roseville
DESCRIPTION:Celebrate a vibrant morning of chalk art at Chalk Your Walk on Saturday\, July 26\, 2025 at Vernon Street Town Square in Roseville. This free event will have an art gallery\, interactive art projects\, games\, a sidewalk chalk contest\, music\, vendors\, and more. Limited quantities of Chalk Your Walk Kits will be available. \nChalk Your Walk kits include: \n\nChalk\nStencils\nChalk Activities\nYard Sign commemorating the event
URL:https://sactownsupermom.com/event/chalk-your-walk-in-roseville/
LOCATION:Vernon Street Town Square\, 311 Vernon St\, Roseville\, CA\, 95678
CATEGORIES:Free,July
END:VEVENT
BEGIN:VEVENT
DTSTART;TZID=America/Los_Angeles:20250726T100000
DTEND;TZID=America/Los_Angeles:20250726T120000
DTSTAMP:20260422T131323
CREATED:20250627T232134Z
LAST-MODIFIED:20250627T232134Z
UID:10000403-1753524000-1753531200@sactownsupermom.com
SUMMARY:Fair Oaks Summer Fun Run
DESCRIPTION:Conquer fun obstacles like an inflatable water slide and navigate through the slime zone during the Fair Oaks Summer Fun on Saturday\, July 26\, 2025. This 1.2 mile course for kids will take place in Phoenix Park. \nObstacles will include: \n\nHay Bale Hustle\nSlime Zone\nHydro Wave\nColor Explosion\nTire Tango\nZany Zoo Alley\nWaterslide Mania\nHopscotch Lane\nLegendary Lagoon\nHuman Car Wash\n\nNote that registration price increases to $30 on the day of the event.
URL:https://sactownsupermom.com/event/fair-oaks-summer-fun-run/
LOCATION:Phoenix Park\, 9050 Sunset Ave.\, Fair Oaks\, CA\, 95628
CATEGORIES:July
END:VEVENT
BEGIN:VEVENT
DTSTART;TZID=America/Los_Angeles:20250726T100000
DTEND;TZID=America/Los_Angeles:20250726T110000
DTSTAMP:20260422T131323
CREATED:20250707T044437Z
LAST-MODIFIED:20250707T044437Z
UID:10000432-1753524000-1753527600@sactownsupermom.com
SUMMARY:League of Explorers Launch Party
DESCRIPTION:The Roseville Utility Exploration Center will be having a League of Explorers Launch Party on Saturday\, July 26\, 2025. This event is for kids ages 7-11 years old\, who the League of Explorers free labs and kits are geared toward. The free Launch Party will include hands-on activities\, utility-themed games\, refreshments\, and more. \nWhile the event is free\, an RSVP is required by July 20.
URL:https://sactownsupermom.com/event/league-of-explorers-launch-party/
LOCATION:Roseville Utility Exploration Center\, 1501 Pleasant Grove Blvd\, Roseville\, CA\, 95747
CATEGORIES:Roseville
END:VEVENT
BEGIN:VEVENT
DTSTART;TZID=America/Los_Angeles:20250726T090000
DTEND;TZID=America/Los_Angeles:20250726T100000
DTSTAMP:20260422T131323
CREATED:20250624T053411Z
LAST-MODIFIED:20250624T053411Z
UID:10000387-1753520400-1753524000@sactownsupermom.com
SUMMARY:Li'l Sprouts in the Garden: Printmaking
DESCRIPTION:Li’l Sprouts in the Garden is a multi-sensory experience for toddlers ages 3-5 at Soil Born Farms in Rancho Cordova. There are multiple sessions\, each with different theme. This session will take place on Saturday\, July 12\, 2025 with the theme of Printmaking. \nNatural objects will be harvested from around Soil Born Farms to build small journals. Kids will also get to hone their handwriting skills and design and hand-print postcards. \nChildren will play games\, sing songs\, hear stories\, and use their senses to explore. They will also acquire new words while gaining social skills. \nLi’l Sprouts in the Garden requires an adult chaperone with each child who attends. The adult chaperone is free with a paid toddler.
URL:https://sactownsupermom.com/event/lil-sprouts-in-the-garden-printmaking-2/
LOCATION:Soil Born Farms\, 2140 Chase Dr.\, Rancho Cordova\, CA\, 95670
CATEGORIES:Farms,Rancho Cordova
END:VEVENT
END:VCALENDAR