BEGIN:VCALENDAR
VERSION:2.0
PRODID:-//Sactown Supermom - ECPv6.15.20//NONSGML v1.0//EN
CALSCALE:GREGORIAN
METHOD:PUBLISH
X-ORIGINAL-URL:https://sactownsupermom.com
X-WR-CALDESC:Events for Sactown Supermom
REFRESH-INTERVAL;VALUE=DURATION:PT1H
X-Robots-Tag:noindex
X-PUBLISHED-TTL:PT1H
BEGIN:VTIMEZONE
TZID:America/Los_Angeles
BEGIN:DAYLIGHT
TZOFFSETFROM:-0800
TZOFFSETTO:-0700
TZNAME:PDT
DTSTART:20240310T100000
END:DAYLIGHT
BEGIN:STANDARD
TZOFFSETFROM:-0700
TZOFFSETTO:-0800
TZNAME:PST
DTSTART:20241103T090000
END:STANDARD
BEGIN:DAYLIGHT
TZOFFSETFROM:-0800
TZOFFSETTO:-0700
TZNAME:PDT
DTSTART:20250309T100000
END:DAYLIGHT
BEGIN:STANDARD
TZOFFSETFROM:-0700
TZOFFSETTO:-0800
TZNAME:PST
DTSTART:20251102T090000
END:STANDARD
BEGIN:DAYLIGHT
TZOFFSETFROM:-0800
TZOFFSETTO:-0700
TZNAME:PDT
DTSTART:20260308T100000
END:DAYLIGHT
BEGIN:STANDARD
TZOFFSETFROM:-0700
TZOFFSETTO:-0800
TZNAME:PST
DTSTART:20261101T090000
END:STANDARD
END:VTIMEZONE
BEGIN:VEVENT
DTSTART;TZID=America/Los_Angeles:20250815T100000
DTEND;TZID=America/Los_Angeles:20250817T170000
DTSTAMP:20260422T112648
CREATED:20250812T015555Z
LAST-MODIFIED:20250812T015555Z
UID:10000518-1755252000-1755450000@sactownsupermom.com
SUMMARY:Tri-County Home & Garden Show
DESCRIPTION:The Tri-County Home & Garden Show will take place from August 15-17\, 2025 at the Roebbelen Center in Roseville. The show will have free gardening workshops for kids and adults\, tiny homes. a marketplace\, food\, music\, and more. \n 
URL:https://sactownsupermom.com/event/tri-county-home-garden-show/
LOCATION:@the grounds\, 700 Event Center Dr\, Roseville\, CA\, 95678
CATEGORIES:Roseville
END:VEVENT
BEGIN:VEVENT
DTSTART;TZID=America/Los_Angeles:20250813T120000
DTEND;TZID=America/Los_Angeles:20250817T230000
DTSTAMP:20260422T112648
CREATED:20250728T033133Z
LAST-MODIFIED:20250728T033133Z
UID:10000487-1755086400-1755471600@sactownsupermom.com
SUMMARY:Yolo County Fair
DESCRIPTION:The Yolo County Fair takes place from August 13-17\, 2025. The fair has free enty at the gate. Parking is $10 per car. \nFair hours vary by day and are below: \n\nWednesday\, August 13 – 6pm-10:30pm\nThursday\, August 14 – 12pm-11pm\nFriday\, August 15 – 12pm-12am\nSaturday\, August 16 – 11am-12am\nSunday\, August 17 – 11am-12am
URL:https://sactownsupermom.com/event/yolo-county-fair/
LOCATION:Yolo County Fairgrounds\, 1250 E. Gum Ave.\, Woodland\, CA\, 95776
CATEGORIES:August
END:VEVENT
BEGIN:VEVENT
DTSTART;TZID=America/Los_Angeles:20250812T140000
DTEND;TZID=America/Los_Angeles:20250812T160000
DTSTAMP:20260422T112648
CREATED:20250801T042315Z
LAST-MODIFIED:20250801T042315Z
UID:10000499-1755007200-1755014400@sactownsupermom.com
SUMMARY:Back To School Backpack Giveaway
DESCRIPTION:Chicks in Crisis will be having a free back to school backpack giveaway on Tuesday\, August 12\, 2025 in Elk Grove. While this event is free\, registration is required. To register\, text “Backpack” to 916-299-0035.
URL:https://sactownsupermom.com/event/back-to-school-backpack-giveaway/
LOCATION:Chicks in Crisis\, 9455 E Stockton Blvd\, Elk Grove\, CA\, 95624
CATEGORIES:Back To School Giveaways
END:VEVENT
BEGIN:VEVENT
DTSTART;TZID=America/Los_Angeles:20250812T100000
DTEND;TZID=America/Los_Angeles:20250812T140000
DTSTAMP:20260422T112648
CREATED:20250720T035723Z
LAST-MODIFIED:20250721T050906Z
UID:10000459-1754992800-1755007200@sactownsupermom.com
SUMMARY:MIXED Foundation Backpack Giveaway & Community Celebration
DESCRIPTION:The MIXED Foundation will have its 3rd Annual Backpack Giveaway & Community Celebration on Tuesday\, August 12\, 2025 in Sacramento. The free event will prepare K-12 students for the new school year with free backpacks and school supplies\, free haircuts\, games\, family fun\, music\, community resources\, and more. Free backpacks and supplies are first-come\, first-serve\, and pre-registration is required. \nChild must be present in order to receive backpack. There is a one ticket limit per child.
URL:https://sactownsupermom.com/event/mixed-foundation-backpack-giveaway-community-celebration/
LOCATION:Mixed Institute of Cosmetology & Barber\, 5950 Florin Road #103\, Sacramento\, CA\, 95823
CATEGORIES:Back To School Giveaways
END:VEVENT
BEGIN:VEVENT
DTSTART;TZID=America/Los_Angeles:20250811T170000
DTEND;TZID=America/Los_Angeles:20250811T200000
DTSTAMP:20260422T112648
CREATED:20250728T034319Z
LAST-MODIFIED:20250728T034319Z
UID:10000489-1754931600-1754942400@sactownsupermom.com
SUMMARY:Danny Go! Live!
DESCRIPTION:Danny Go! comes to Sacramento for an action-packed kids show that will help kiddos burn off all that energy on Monday\, August 11\, 2025.
URL:https://sactownsupermom.com/event/danny-go-live/
LOCATION:SAFE Credit Union Convention Center\, 1301 L St\,\, Sacramento\, CA\, 95814
CATEGORIES:August
END:VEVENT
BEGIN:VEVENT
DTSTART;TZID=America/Los_Angeles:20250811T090000
DTEND;TZID=America/Los_Angeles:20250811T140000
DTSTAMP:20260422T112648
CREATED:20250720T032807Z
LAST-MODIFIED:20250720T032815Z
UID:10000456-1754902800-1754920800@sactownsupermom.com
SUMMARY:Back-To-School Block Party Community Love
DESCRIPTION:It’s My Hair Salon and Crown Connection will host a Back-To-School Block Party Community Love on Monday\, August 11\, 2025 at the Roberts Family Development Center in Sacramento. The free block party will include free backpacks and school supplies\, kids haircuts\, face painting\, games\, community resources\, food\, and more.
URL:https://sactownsupermom.com/event/back-to-school-block-party-community-love/
LOCATION:Roberts Family Development Center\, 770 Darina Ave\, Sacramento\, CA\, 95815
CATEGORIES:Back To School Giveaways
END:VEVENT
BEGIN:VEVENT
DTSTART;TZID=America/Los_Angeles:20250810T193000
DTEND;TZID=America/Los_Angeles:20250810T203000
DTSTAMP:20260422T112648
CREATED:20250804T203518Z
LAST-MODIFIED:20250804T203518Z
UID:10000504-1754854200-1754857800@sactownsupermom.com
SUMMARY:Junior Rangers: Storytime at the Campfire
DESCRIPTION:Folsom Lake will celebrate National S’mores Day with a Junior Ranger program on Saturday\, August 10\, 2025. There will be a storytime about the science of light\, flashlight science\, and a shadow puppet show. \nThis event is free and open to anyone\, but registration is required and limited spots are available. Register for the event here. \nThe event will take place at the Beal’s Point Campfire Center and is not limited to campers.
URL:https://sactownsupermom.com/event/junior-rangers-storytime-at-the-campfire/
LOCATION:Beal’s Point Campfire Center\, 7806 Folsom-Auburn Road\, Folsom\, CA\, 95630
CATEGORIES:Free
END:VEVENT
BEGIN:VEVENT
DTSTART;TZID=America/Los_Angeles:20250810T110000
DTEND;TZID=America/Los_Angeles:20250810T150000
DTSTAMP:20260422T112648
CREATED:20250805T055602Z
LAST-MODIFIED:20250805T055602Z
UID:10000508-1754823600-1754838000@sactownsupermom.com
SUMMARY:Back to School Supply Distribution
DESCRIPTION:C.R.E.W. Collective is hosting a Back to School Supply Distribution in Land Park on Sunday\, August 10\, 2025. Free backpacks and school supplies will be distributed.
URL:https://sactownsupermom.com/event/back-to-school-supply-distribution/
LOCATION:Land Park\, 3855 East Park Road\, Sacramento\, CA\, 95822
CATEGORIES:Back To School Giveaways
END:VEVENT
BEGIN:VEVENT
DTSTART;TZID=America/Los_Angeles:20250810T090000
DTEND;TZID=America/Los_Angeles:20250810T140000
DTSTAMP:20260422T112648
CREATED:20250805T062302Z
LAST-MODIFIED:20250805T062302Z
UID:10000513-1754816400-1754834400@sactownsupermom.com
SUMMARY:Species in the Spotlight at Sacramento Zoo
DESCRIPTION:The Sacramento Zoo will celebrate World Lion Day\, International Clouded Leopard Day\, and International Orangutan Day as part of Species in the Spotlight on Sunday\, August 10\, 2025. \nSpecies in the Spotlight will have some special activities that will include: \n\nAnimal artifacts\nHands-on crafts and activities\nLimited edition trading cards that feature the zoo’s clouded leopard (Serai) and Cleo (the lion)\nConservation partners\n\nThis event is included with regular museum admission.
URL:https://sactownsupermom.com/event/species-in-the-spotlight-at-sacramento-zoo-2/
LOCATION:Sacramento Zoo\, 3930 W Land Park Dr.\, Sacramento\, CA\, 95822
CATEGORIES:Sacramento Zoo
END:VEVENT
BEGIN:VEVENT
DTSTART;TZID=America/Los_Angeles:20250809T183000
DTEND;TZID=America/Los_Angeles:20250809T223000
DTSTAMP:20260422T112648
CREATED:20250727T184155Z
LAST-MODIFIED:20250727T184155Z
UID:10000479-1754764200-1754778600@sactownsupermom.com
SUMMARY:Harry Potter Night at Sacramento River Cats
DESCRIPTION:Calling all wizards and muggles: The Sacramento River Cats will have Harry Potter Night on Saturday\, August 9\, 2025. There will be themed entertainment during the baseball game. Additionally\, fireworks will take place after the game.
URL:https://sactownsupermom.com/event/harry-potter-night-at-sacramento-river-cats/
LOCATION:Sutter Health Park\, 400 Ballpark Dr.\, West Sacramento\, CA\, 95691
CATEGORIES:August
END:VEVENT
BEGIN:VEVENT
DTSTART;TZID=America/Los_Angeles:20250809T170000
DTEND;TZID=America/Los_Angeles:20250809T183000
DTSTAMP:20260422T112648
CREATED:20250722T041906Z
LAST-MODIFIED:20250722T041906Z
UID:10000465-1754758800-1754764200@sactownsupermom.com
SUMMARY:Summer Shimmy at Sacramento Children's Museum
DESCRIPTION:Children with special needs and their friends and families can attend Summer Shimmy at the Sacramento Children’s Museum on Saturday\, August 9\, 2025. Kids can dance and play during a fun night at the museum. This is a free event with registration.
URL:https://sactownsupermom.com/event/summer-shimmy-at-sacramento-childrens-museum/
LOCATION:Sacramento Children’s Museum\, 2701 Prospect Park\, Rancho Cordova\, CA\, 95670
CATEGORIES:August
END:VEVENT
BEGIN:VEVENT
DTSTART;TZID=America/Los_Angeles:20250809T150000
DTEND;TZID=America/Los_Angeles:20250809T160000
DTSTAMP:20260422T112648
CREATED:20250804T210433Z
LAST-MODIFIED:20250804T210433Z
UID:10000507-1754751600-1754755200@sactownsupermom.com
SUMMARY:Sacramento Philharmonic presents Instrument Discovery!
DESCRIPTION:Explore various musical instruments during a hands-on instrument petting zoo presented by the Sacramento Philharmonic Orchestra on Saturday\, August 9\, 2025. This free event will take place at the Robbie Waters Pocket – Greenhaven Library.
URL:https://sactownsupermom.com/event/sacramento-philharmonic-presents-instrument-discovery/
LOCATION:Robbie Waters Pocket – Greenhaven\, 7335 Gloria Dr\, Sacramento\, CA\, 95831
CATEGORIES:Free
END:VEVENT
BEGIN:VEVENT
DTSTART;TZID=America/Los_Angeles:20250809T130000
DTEND;TZID=America/Los_Angeles:20250809T140000
DTSTAMP:20260422T112648
CREATED:20250805T064321Z
LAST-MODIFIED:20250805T064321Z
UID:10000516-1754744400-1754748000@sactownsupermom.com
SUMMARY:Sacramento Children's Museum Presents: Color Lab (West Sac)
DESCRIPTION:The Sacramento Children’s Museum will have a Color Lab on Saturday\,  August 9\, 2025 at the Arthur F. Turner Community Library in Yolo County. This free event invites kids to get interactive with color through art projects\, color mixing\, and colors in motion wind tunnels.
URL:https://sactownsupermom.com/event/sacramento-childrens-museum-presents-color-lab-west-sac/
LOCATION:Arthur F. Turner Community Library\, 1212 Merkley Avenue\, West Sacramento\, CA\, 95691
CATEGORIES:Free
END:VEVENT
BEGIN:VEVENT
DTSTART;TZID=America/Los_Angeles:20250809T120000
DTEND;TZID=America/Los_Angeles:20250810T140000
DTSTAMP:20260422T112648
CREATED:20250728T033922Z
LAST-MODIFIED:20250728T033922Z
UID:10000488-1754740800-1754834400@sactownsupermom.com
SUMMARY:Monster Jam at Golden 1 Center
DESCRIPTION:Monster Jam zooms into the Golden 1 Center in Sacramento on August 9 & 10\, 2025. Show times vary by day. \nMonster Jam dates and times are below: \n\nSaturday\, August 9\, 2025 – 12pm\nSaturday\, August 9\, 2025 – 6pm\nSunday\, August 10\, 2025 – 1pm
URL:https://sactownsupermom.com/event/monster-jam-at-golden-1-center/
LOCATION:Golden 1 Center\, 500 David J Stern Walk\, Sacramento\, CA\, 95814
CATEGORIES:August
END:VEVENT
BEGIN:VEVENT
DTSTART;TZID=America/Los_Angeles:20250809T110000
DTEND;TZID=America/Los_Angeles:20250809T190000
DTSTAMP:20260422T112648
CREATED:20250804T204119Z
LAST-MODIFIED:20250804T204119Z
UID:10000505-1754737200-1754766000@sactownsupermom.com
SUMMARY:79th Annual Japanese Food & Cultural Bazaar
DESCRIPTION:The Annual Japanese Food & Cultural Bazaar will take place on Saturday\, August 9\, 2025. This free festival that celebrates Japanese food and culture will take place at the Buddhist Church of Sacramento. There will be games for kids at the event.
URL:https://sactownsupermom.com/event/79th-annual-japanese-food-cultural-bazaar/
LOCATION:Buddhist Church of Sacramento\, 2401 Riverside Blvd\, Sacramento\, CA\, 95818
CATEGORIES:Food,Free
END:VEVENT
BEGIN:VEVENT
DTSTART;TZID=America/Los_Angeles:20250809T110000
DTEND;TZID=America/Los_Angeles:20250809T120000
DTSTAMP:20260422T112648
CREATED:20250805T063923Z
LAST-MODIFIED:20250805T063923Z
UID:10000515-1754737200-1754740800@sactownsupermom.com
SUMMARY:Nature's Critters at Yolo County Library
DESCRIPTION:Kids can meet and learn about critters and creatures up close on Saturday\, August 9\, 2025 at the South Davis Montgomery Library.
URL:https://sactownsupermom.com/event/natures-critters-at-yolo-county-library/
LOCATION:South Davis Montgomery Library\, 1441 Danbury St\, Davis\, CA\, 95618
CATEGORIES:Free
END:VEVENT
BEGIN:VEVENT
DTSTART;TZID=America/Los_Angeles:20250809T100000
DTEND;TZID=America/Los_Angeles:20250810T170000
DTSTAMP:20260422T112648
CREATED:20250729T043302Z
LAST-MODIFIED:20250729T043302Z
UID:10000496-1754733600-1754845200@sactownsupermom.com
SUMMARY:Reptilian Nation Expo
DESCRIPTION:The Reptilian Nation Expo comes to Roseville on August 9-10\, 2025. There will be thousands of reptiles and educational presentations. Plus\, the chance to see alligators\, crocodiles\, caimans\, and other reptiles up close during presentations and photo ops.
URL:https://sactownsupermom.com/event/reptilian-nation-expo/
LOCATION:@the grounds\, 700 Event Center Dr\, Roseville\, CA\, 95678
CATEGORIES:August,Roseville
END:VEVENT
BEGIN:VEVENT
DTSTART;TZID=America/Los_Angeles:20250809T100000
DTEND;TZID=America/Los_Angeles:20250809T130000
DTSTAMP:20260422T112648
CREATED:20250720T033822Z
LAST-MODIFIED:20250720T033822Z
UID:10000457-1754733600-1754744400@sactownsupermom.com
SUMMARY:Dream Center Sacramento: 2nd Annual Back to School Bash
DESCRIPTION:The Dream Center Sacramento will host its 2nd Annual Back-to-School Bash on Saturday\, August 9\, 2025 at North Laguna Creek Park. This event serves families in Elk Grove and South Sacramento and will provide free backpacks\, school supplies\, and community resources.
URL:https://sactownsupermom.com/event/dream-center-sacramento-2nd-annual-back-to-school-bash/
LOCATION:North Laguna Creek Park\, 6400 Jacinto Avenue\, Sacramento\, CA\, 95823
CATEGORIES:Back To School Giveaways
END:VEVENT
BEGIN:VEVENT
DTSTART;TZID=America/Los_Angeles:20250809T093000
DTEND;TZID=America/Los_Angeles:20250809T140000
DTSTAMP:20260422T112648
CREATED:20250720T031639Z
LAST-MODIFIED:20250720T031639Z
UID:10000455-1754731800-1754748000@sactownsupermom.com
SUMMARY:Destiny Church Rocklin Backpack Giveaway 2025
DESCRIPTION:Destiny Church Rocklin will have a free Backpack Giveaway on Saturday\, August 9\, 2025. There will be backpacks\, a clothing boutique\, haircuts\, a BBQ lunch\, entertainment\, characters\, and more. Children must be present at the event to receive a backpack\, and accompanied by adults who need a registration ticket to attend the event.
URL:https://sactownsupermom.com/event/destiny-church-rocklin-backpack-giveaway/
LOCATION:Destiny Community Center\, 6850 Five Star Blvd.\, Rocklin\, CA\, 95677
CATEGORIES:Back To School Giveaways
END:VEVENT
BEGIN:VEVENT
DTSTART;TZID=America/Los_Angeles:20250809T090000
DTEND;TZID=America/Los_Angeles:20250809T140000
DTSTAMP:20260422T112648
CREATED:20250723T050742Z
LAST-MODIFIED:20250723T050742Z
UID:10000472-1754730000-1754748000@sactownsupermom.com
SUMMARY:Back To School Fair
DESCRIPTION:T.Y The Barber will host a Back To School Fair on Saturday\, August 9\, 2025 at Mack Rd Valley Hi Community Center. There will be free backpacks\, school supplies\, free food\, personal hygiene\, free haircuts\, and more. The backpack and school supply giveaway will occur from 9-11am. Free haircuts\, hygiene\, and clothes will take place from 12-2pm.
URL:https://sactownsupermom.com/event/back-to-school-fair/
LOCATION:Mack Road Valley Hi Community Center\, 7833 Center Parkway\, Sacramento\, CA\, 95823
CATEGORIES:Back To School Giveaways
END:VEVENT
BEGIN:VEVENT
DTSTART;TZID=America/Los_Angeles:20250809T090000
DTEND;TZID=America/Los_Angeles:20250809T110000
DTSTAMP:20260422T112648
CREATED:20250723T050044Z
LAST-MODIFIED:20250723T050044Z
UID:10000471-1754730000-1754737200@sactownsupermom.com
SUMMARY:Kaiser Permanente South Sacramento Community Free Backpack and School Supplies
DESCRIPTION:Families can go through a drive-thru to receive free backpacks and school supplies courtesy of Kaiser Permanente on Saturday\, August 9\, 2025 at Mack Road Valley Hi Community Center in Sacramento. Families are asked to drive to this backpack giveaway and stay in cars. Children do not need to be in attendance to receive supplies. Free backpacks will be provided for K-12 students while supplies last.
URL:https://sactownsupermom.com/event/kaiser-permanente-south-sacramento-community-free-backpack-and-school-supplies/
LOCATION:Mack Road Valley Hi Community Center\, 7833 Center Parkway\, Sacramento\, CA\, 95823
CATEGORIES:Back To School Giveaways
END:VEVENT
BEGIN:VEVENT
DTSTART;TZID=America/Los_Angeles:20250809T090000
DTEND;TZID=America/Los_Angeles:20250809T100000
DTSTAMP:20260422T112648
CREATED:20250722T043419Z
LAST-MODIFIED:20250722T043659Z
UID:10000467-1754730000-1754733600@sactownsupermom.com
SUMMARY:Li'l Sprouts in the Garden: Insects Alive
DESCRIPTION:Li’l Sprouts in the Garden is a multi-sensory experience for toddlers ages 3-5 at Soil Born Farms in Rancho Cordova. There are multiple sessions\, each with different theme. This session will take place on Saturday\, August 9\, 2025 with the theme of Insects Alive. \nKids will get to explore various insects\, view insects with magnifying glasses\, and create an insect collage with crepe paper. Storytime will be The Very Hungry Caterpillar and the song will be the “Bug Parts” song. \nChildren will play games\, sing songs\, hear stories\, and use their senses to explore. They will also acquire new words while gaining social skills. \nLi’l Sprouts in the Garden requires an adult chaperone with each child who attends. The adult chaperone is free with a paid toddler.
URL:https://sactownsupermom.com/event/lil-sprouts-in-the-garden-insects-alive/
LOCATION:Soil Born Farms\, 2140 Chase Dr.\, Rancho Cordova\, CA\, 95670
CATEGORIES:Farms,Rancho Cordova
END:VEVENT
BEGIN:VEVENT
DTSTART;TZID=America/Los_Angeles:20250809T083000
DTEND;TZID=America/Los_Angeles:20250809T123000
DTSTAMP:20260422T112648
CREATED:20250801T051455Z
LAST-MODIFIED:20250801T051455Z
UID:10000500-1754728200-1754742600@sactownsupermom.com
SUMMARY:Councilmember Kaplan's Back to School Giveaway
DESCRIPTION:Team Kaplan will be hosting a free backpack giveaway on Saturday\, August 9\, 2025 at the North Natomas Regional Park Farmers Market. Backpacks will be distributed on a first-come\, first-serve basis. Free school supplies will also be distributed.
URL:https://sactownsupermom.com/event/councilmember-kaplans-back-to-school-giveaway/
LOCATION:North Natomas Regional Park\, 4989 Natomas Blvd\, Sacramento\, CA\, 95835
CATEGORIES:Back To School Giveaways
END:VEVENT
BEGIN:VEVENT
DTSTART;TZID=America/Los_Angeles:20250808T180000
DTEND;TZID=America/Los_Angeles:20250808T223000
DTSTAMP:20260422T112648
CREATED:20250805T062819Z
LAST-MODIFIED:20250805T062819Z
UID:10000514-1754676000-1754692200@sactownsupermom.com
SUMMARY:Friday Night Movies in Galt
DESCRIPTION:The free Summer Movie Series at Veterans Field in Galt returns in 2025. The movie Cars will be shown on Friday\, August 8\, 2025. \nBring blankets and lawn chairs for the showing. Food will be available for purchase. The movie will begin at dusk.
URL:https://sactownsupermom.com/event/friday-night-movies-in-galt/
LOCATION:Veterans Field\, 900 Caroline Avenue\, Galt\, CA\, 95632
CATEGORIES:Free
END:VEVENT
BEGIN:VEVENT
DTSTART;TZID=America/Los_Angeles:20250808T180000
DTEND;TZID=America/Los_Angeles:20250808T210000
DTSTAMP:20260422T112648
CREATED:20250807T043004Z
LAST-MODIFIED:20250807T043013Z
UID:10000517-1754676000-1754686800@sactownsupermom.com
SUMMARY:AAPI Celebration in Natomas
DESCRIPTION:Head to North Natomas Regional Park for an AAPI Celebration on Friday\, August 8\, 2025. There will be kids activities\, food trucks\, lion dancers\, a hula performance\, vendors\, and more cultural performances.
URL:https://sactownsupermom.com/event/aapi-celebration/
LOCATION:North Natomas Regional Park\, 4989 Natomas Blvd\, Sacramento\, CA\, 95835
CATEGORIES:August,Free
END:VEVENT
BEGIN:VEVENT
DTSTART;TZID=America/Los_Angeles:20250808T170000
DTEND;TZID=America/Los_Angeles:20250808T200000
DTSTAMP:20260422T112648
CREATED:20250525T042411Z
LAST-MODIFIED:20250525T042411Z
UID:10000299-1754672400-1754683200@sactownsupermom.com
SUMMARY:Full Belly Farm Pizza Nights
DESCRIPTION:Full Belly Farm in the Capay Valley has Pizza Nights during the summer. Families can enjoy wood-fired pizza with seasonal toppings in a casual and relaxed atmosphere on the farm. \n2025 Pizza Nights dates are below: \n\nFriday\, June 6\, 2025\nFriday\, July 11\, 2025\nFriday\, August 8\, 2025\n\nBring your own blankets or chairs for a relaxing setting on the farm. Additionally\, bring a cup or bottle for water. \nPizzas are 9-inches. Seasonal side salads and homemade ice cream will also be available for purchase. \nWhile RSVPs are not required\, they are encouraged so enough pizzas will be available. RSVPs open one month prior to the Pizza Nights dates.
URL:https://sactownsupermom.com/event/full-belly-farm-pizza-nights/2025-08-08/
LOCATION:Full Belly Farm\, 6090 County Road 43\, Guinda\, CA\, 95637
CATEGORIES:Food
END:VEVENT
BEGIN:VEVENT
DTSTART;TZID=America/Los_Angeles:20250808T150000
DTEND;TZID=America/Los_Angeles:20250808T190000
DTSTAMP:20260422T112648
CREATED:20250526T191439Z
LAST-MODIFIED:20250526T191439Z
UID:10000305-1754665200-1754679600@sactownsupermom.com
SUMMARY:Family Swim Nights
DESCRIPTION:Family Swim Nights will take place at Rosemont High School Pool in Rancho Cordova during select summer evenings in 2025. Each swim night will have a different theme\, food trucks\, vendors\, and family activities. \nDates and themes for Family Swim Nights are below: \n\nFriday\, June 20\, 2025 – Splash & Save – Celebrate first responders and water safety\nFriday\, July 18\, 2025 – Poolchella – Local music and art\nFriday\, August 8\, 2025 – Back To School at the Pool – Soak in the end of summer
URL:https://sactownsupermom.com/event/family-swim-nights/2025-08-08/
LOCATION:Rosemont High School Pool\, 9594 Kiefer Blvd\, Sacramento\, CA\, 95827
CATEGORIES:Rancho Cordova
END:VEVENT
BEGIN:VEVENT
DTSTART;TZID=America/Los_Angeles:20250808T130000
DTEND;TZID=America/Los_Angeles:20250808T160000
DTSTAMP:20260422T112648
CREATED:20250728T035035Z
LAST-MODIFIED:20250728T035035Z
UID:10000490-1754658000-1754668800@sactownsupermom.com
SUMMARY:Splash Jam: Sammy’s Fun Pop-Up Event
DESCRIPTION:Splash Jam: Sammy’s Fun Pop-Up Event will take place on Friday\, August 8\, 2025. This free event will include games and activities at the Jerry Fox Swim Center in Elk Grove.
URL:https://sactownsupermom.com/event/splash-jam-sammys-fun-pop-up-event/
LOCATION:Jerry Fox Swim Center\, 9950 Elk Grove Florin Rd\, Sacramento\, CA\, 95624
CATEGORIES:Elk Grove
END:VEVENT
BEGIN:VEVENT
DTSTART;TZID=America/Los_Angeles:20250808T110000
DTEND;TZID=America/Los_Angeles:20250808T233000
DTSTAMP:20260422T112648
CREATED:20250728T021849Z
LAST-MODIFIED:20250728T021950Z
UID:10000482-1754650800-1754695800@sactownsupermom.com
SUMMARY:The Blvd! Opening Day
DESCRIPTION:The Blvd! opens in West Sacramento on Friday\, August 8\, 2025. Families can enjoy this brand-new entertainment venue with immersive bowling\, arcades\, VR games\, and laser tag.
URL:https://sactownsupermom.com/event/the-blvd-opening-day/
LOCATION:The Blvd!\, 1298 W Capitol Ave\, West Sacramento\, CA\, 95691
CATEGORIES:August
END:VEVENT
BEGIN:VEVENT
DTSTART;TZID=America/Los_Angeles:20250806T090000
DTEND;TZID=America/Los_Angeles:20250806T120000
DTSTAMP:20260422T112648
CREATED:20250720T025347Z
LAST-MODIFIED:20250720T025347Z
UID:10000453-1754470800-1754481600@sactownsupermom.com
SUMMARY:Backpack Giveaway & End of Summer Bash
DESCRIPTION:Placer County Child Support Services will have its Annual Backpack Giveaway & End of Summer Bash in Rocklin on Wednesday\, August 6\, 2025. There will be free backpacks for kids\, and family activities likes games and crafts.\n\n\nA parent or guardian must accompany children to this event.
URL:https://sactownsupermom.com/event/backpack-giveaway-end-of-summer-bash/
LOCATION:1000 Sunset Blvd\, Rocklin\, CA\, 95765
CATEGORIES:Back To School Giveaways
END:VEVENT
END:VCALENDAR