BEGIN:VCALENDAR
VERSION:2.0
PRODID:-//Sactown Supermom - ECPv6.15.20//NONSGML v1.0//EN
CALSCALE:GREGORIAN
METHOD:PUBLISH
X-ORIGINAL-URL:https://sactownsupermom.com
X-WR-CALDESC:Events for Sactown Supermom
REFRESH-INTERVAL;VALUE=DURATION:PT1H
X-Robots-Tag:noindex
X-PUBLISHED-TTL:PT1H
BEGIN:VTIMEZONE
TZID:America/Los_Angeles
BEGIN:DAYLIGHT
TZOFFSETFROM:-0800
TZOFFSETTO:-0700
TZNAME:PDT
DTSTART:20240310T100000
END:DAYLIGHT
BEGIN:STANDARD
TZOFFSETFROM:-0700
TZOFFSETTO:-0800
TZNAME:PST
DTSTART:20241103T090000
END:STANDARD
BEGIN:DAYLIGHT
TZOFFSETFROM:-0800
TZOFFSETTO:-0700
TZNAME:PDT
DTSTART:20250309T100000
END:DAYLIGHT
BEGIN:STANDARD
TZOFFSETFROM:-0700
TZOFFSETTO:-0800
TZNAME:PST
DTSTART:20251102T090000
END:STANDARD
BEGIN:DAYLIGHT
TZOFFSETFROM:-0800
TZOFFSETTO:-0700
TZNAME:PDT
DTSTART:20260308T100000
END:DAYLIGHT
BEGIN:STANDARD
TZOFFSETFROM:-0700
TZOFFSETTO:-0800
TZNAME:PST
DTSTART:20261101T090000
END:STANDARD
END:VTIMEZONE
BEGIN:VEVENT
DTSTART;TZID=America/Los_Angeles:20250920T100000
DTEND;TZID=America/Los_Angeles:20250920T170000
DTSTAMP:20260422T061634
CREATED:20250819T053210Z
LAST-MODIFIED:20250819T053210Z
UID:10000533-1758362400-1758387600@sactownsupermom.com
SUMMARY:Little Field Farms Pumpkin Patch Opening Day
DESCRIPTION:Little Field Farms pumpkin patch in Loomis returns on Saturday\, September 20\, 2025.
URL:https://sactownsupermom.com/event/little-field-farms-pumpkin-patch-opening-day/
LOCATION:Little Field Farms\, 9000 Horseshoe Bar Road\, Loomis\, CA\, 95650
CATEGORIES:Pumpkin Patches
END:VEVENT
BEGIN:VEVENT
DTSTART;TZID=America/Los_Angeles:20250920T100000
DTEND;TZID=America/Los_Angeles:20250920T150000
DTSTAMP:20260422T061634
CREATED:20250917T035153Z
LAST-MODIFIED:20250917T035153Z
UID:10000663-1758362400-1758380400@sactownsupermom.com
SUMMARY:Rocklin Hot Chili & Cool Cars
DESCRIPTION:Hot Chili & Cool Cars will take place on Saturday\, September 20\, 2025 at Quarry Park & Rocklin Rd. This free annual event will have classic cars and a chili cook-off. There will also be a kids’ area\, food trucks\, and live music.
URL:https://sactownsupermom.com/event/rocklin-hot-chili-cool-cars/
LOCATION:4000 Rocklin Road\, Rocklin\, CA\, 95677
CATEGORIES:Free
END:VEVENT
BEGIN:VEVENT
DTSTART;TZID=America/Los_Angeles:20250920T100000
DTEND;TZID=America/Los_Angeles:20250920T140000
DTSTAMP:20260422T061634
CREATED:20250827T044711Z
LAST-MODIFIED:20250827T044711Z
UID:10000569-1758362400-1758376800@sactownsupermom.com
SUMMARY:Southgate Plaza Fun Fair
DESCRIPTION:The 7th Annual Fun Fair at Southgate Plaza will take place on Saturday\, September 20\, 2025. This free family event will have activities for kids\, games\, and free resources for the community that include free health resources\, free dental screenings\, and free animal care. \nThe Fun Fair event will be next to Foot Locker.
URL:https://sactownsupermom.com/event/southgate-plaza-fun-fair/
LOCATION:4242 Florin Road\, Sacramento\, CA\, 95823
CATEGORIES:Free
END:VEVENT
BEGIN:VEVENT
DTSTART;TZID=America/Los_Angeles:20250920T090000
DTEND;TZID=America/Los_Angeles:20250920T170000
DTSTAMP:20260422T061634
CREATED:20250821T151600Z
LAST-MODIFIED:20250821T151600Z
UID:10000545-1758358800-1758387600@sactownsupermom.com
SUMMARY:Fowler Ranch Pumpkin Patch Opening Day
DESCRIPTION:The pumpkin patch at Fowler Ranch in Lincoln will open for the 2025 season on Saturday\, September 20\, 2025.
URL:https://sactownsupermom.com/event/fowler-ranch-pumpkin-patch-opening-day/
LOCATION:Fowler Ranch\, 3111 Lincoln Newcastle Hwy\, Lincoln\, CA\, 95648
CATEGORIES:Pumpkin Patches
END:VEVENT
BEGIN:VEVENT
DTSTART;TZID=America/Los_Angeles:20250920T090000
DTEND;TZID=America/Los_Angeles:20250920T120000
DTSTAMP:20260422T061634
CREATED:20250831T015019Z
LAST-MODIFIED:20250831T015019Z
UID:10000604-1758358800-1758369600@sactownsupermom.com
SUMMARY:Great American River Clean-Up (GARCU)
DESCRIPTION:The Great American River Clean-Up (GARCU) takes place on Saturday\, September 20\, 2025. There will be over 20 American River Parkway locations for clean-up spots. Note that some clean-up spots do have age restrictions\, but most are all ages welcoming kids and Boy Scout or Girl Scout troops to participate. \nThe clean-up locations can be viewed here. This is a free event\, but registration is required. \nParticipating volunteers will also receive a 10% discount at the GARCU After Party at Movement Brewery or Touchstone Brewery on Saturday\, September 20\, 2025 from 12pm to close.
URL:https://sactownsupermom.com/event/great-american-river-clean-up-garcu/
LOCATION:American River Parkway\, 3690 Sunrise Blvd\, Rancho Cordova\, CA\, 95670
CATEGORIES:Nature
END:VEVENT
BEGIN:VEVENT
DTSTART;TZID=America/Los_Angeles:20250920T080000
DTEND;TZID=America/Los_Angeles:20250920T170000
DTSTAMP:20260422T061634
CREATED:20250825T043636Z
LAST-MODIFIED:20250825T043636Z
UID:10000556-1758355200-1758387600@sactownsupermom.com
SUMMARY:Ballet in the Park
DESCRIPTION:Enjoy Ballet in the Park for free in Land Park on Saturday\, September 20\, 2025. Ballet dancers will take the stage. Bring a blanket and picnic for the performances.
URL:https://sactownsupermom.com/event/ballet-in-the-park/
LOCATION:William Carroll Amphitheater\, 3901 Land Park Drive\, Sacramento\, CA\, 95822
CATEGORIES:September
END:VEVENT
BEGIN:VEVENT
DTSTART;TZID=America/Los_Angeles:20250919T170000
DTEND;TZID=America/Los_Angeles:20250919T183000
DTSTAMP:20260422T061634
CREATED:20250825T041144Z
LAST-MODIFIED:20250825T041144Z
UID:10000553-1758301200-1758306600@sactownsupermom.com
SUMMARY:Buccaneer Ball
DESCRIPTION:Arrghh! Pirates\, princesses\, and mermaids are invited to attend the Buccaneer Ball on Friday\, September 19\, 2025 at the Sacramento Children’s Museum. Prepare for an evening of fun at the museum. Registration is recommended.
URL:https://sactownsupermom.com/event/buccaneer-ball/
LOCATION:Sacramento Children’s Museum\, 2701 Prospect Park\, Rancho Cordova\, CA\, 95670
CATEGORIES:September
END:VEVENT
BEGIN:VEVENT
DTSTART;TZID=America/Los_Angeles:20250919T110000
DTEND;TZID=America/Los_Angeles:20250919T210000
DTSTAMP:20260422T061634
CREATED:20250831T033851Z
LAST-MODIFIED:20250921T202137Z
UID:10000607-1758279600-1758315600@sactownsupermom.com
SUMMARY:Urban Roots Brewing Oktoberfest 2025
DESCRIPTION:Oktoberfest 2025 at Urban Roots Brewing will take place from Friday\, September 19 to Sunday\, October 5\, 2025. Urban Roots Brewing is one of the best kid-friendly restaurants in Sacramento\, and this event is family-friendly. \nThere will be traditional German food specials such as sausages and Oktoberfest boards with sausage\, soft pretzels\, cheese sauce\, German mustard\, sauerkraut\, and apple strudels for dessert. \nThe kick-off weekend from September 19 – 21\, 2025 will have weenie dog racing on Sunday\, September 21. There will also be pork schnitzel.  Plus\, if you arrive in costume\, you’ll receive a free pretzel. \n  \n  \n 
URL:https://sactownsupermom.com/event/urban-roots-oktoberfest/
LOCATION:Urban Roots Brewing & Smokehouse\, 1322 V St.\, Sacramento\, CA\, 95818
CATEGORIES:Fall Festivals
END:VEVENT
BEGIN:VEVENT
DTSTART;TZID=America/Los_Angeles:20250919T093000
DTEND;TZID=America/Los_Angeles:20250919T110000
DTSTAMP:20260422T061634
CREATED:20250917T042324Z
LAST-MODIFIED:20250917T042431Z
UID:10000666-1758274200-1758279600@sactownsupermom.com
SUMMARY:Hot Moms on the Run 1-Year Birthday Bash
DESCRIPTION:Hot Moms on the Run celebrates their 1-year anniversary with a Birthday Bash on Friday\, September 19\, 2025. The morning will have tons of family-friendly fun that will include movement\, and a kids play zone. Sacramento vendors will be on-site with food and drinks available for purchase. \nThis event is free but pre-registration is required.
URL:https://sactownsupermom.com/event/hot-moms-on-the-run-1-year-birthday-bash/
LOCATION:River Access Trail & Jedediah Smith Memorial Trail\, Carmichael\, CA
CATEGORIES:Free
END:VEVENT
BEGIN:VEVENT
DTSTART;TZID=America/Los_Angeles:20250919T090000
DTEND;TZID=America/Los_Angeles:20250919T160000
DTSTAMP:20260422T061634
CREATED:20250906T192316Z
LAST-MODIFIED:20250906T192316Z
UID:10000653-1758272400-1758297600@sactownsupermom.com
SUMMARY:$10 Community Day at Sacramento Zoo
DESCRIPTION:The Sacramento Zoo will have a $10 Community Day on Friday\, September 19\, 2025.
URL:https://sactownsupermom.com/event/10-community-day-at-sacramento-zoo-3/
LOCATION:Sacramento Zoo\, 3930 W Land Park Dr.\, Sacramento\, CA\, 95822
CATEGORIES:Sacramento Zoo
END:VEVENT
BEGIN:VEVENT
DTSTART;TZID=America/Los_Angeles:20250914T123000
DTEND;TZID=America/Los_Angeles:20250914T143000
DTSTAMP:20260422T061634
CREATED:20250830T212630Z
LAST-MODIFIED:20250830T212630Z
UID:10000592-1757853000-1757860200@sactownsupermom.com
SUMMARY:Bubble Frenzy in Elk Grove
DESCRIPTION:The Center for Fathers and Families will be hosting Bubble Frenzy on Sunday\, September 14\, 2025 at Elk Grove Regional Park. This community event is free and will have bubble blowing\, entertainment\, free backpacks (while supplies last)\, games\, and more.
URL:https://sactownsupermom.com/event/bubble-frenzy-in-elk-grove/
LOCATION:Elk Grove Regional Park\, 9950 Elk Grove Florin Road\, Elk Grove\, CA\, 95624\, United States
CATEGORIES:Elk Grove
END:VEVENT
BEGIN:VEVENT
DTSTART;TZID=America/Los_Angeles:20250914T100000
DTEND;TZID=America/Los_Angeles:20250914T140000
DTSTAMP:20260422T061634
CREATED:20250825T033603Z
LAST-MODIFIED:20250831T015705Z
UID:10000548-1757844000-1757858400@sactownsupermom.com
SUMMARY:Kids Fest at Enchanted Natomas
DESCRIPTION:Kids Fest will take place on Sunday\, September 14\, 2025 at Enchanted Natomas. The free event will support childhood cancer during Childhood Cancer Awareness Month. There will be many free activities for families at the festival from slime to a bounce house\, character visits\, and more. \nWhile this event is free\, there is an option to purchase a $20 all-access wristband which will include access to the Enchanted Natomas indoor playground. Wristbands will be $25 on the day of the event. \nFree activities at the event will include: \n\nCharacter visits\nBounce house\nPerformances\nSlime\nDinger from the Sacramento River Cats at 10:30am\nVendors\, including food vendors\n\nPaid all-access wristbands include: \n\nEnchanted Natomas Admission\nFace painting\nTemporary tattoos\nBalloon twisting\n\n 
URL:https://sactownsupermom.com/event/kids-fest-at-enchanted-natomas/
LOCATION:Enchanted Natomas\, 3291 Truxel Rd #3\, Sacramento\, CA\, 95833
CATEGORIES:September
END:VEVENT
BEGIN:VEVENT
DTSTART;TZID=America/Los_Angeles:20250914T093000
DTEND;TZID=America/Los_Angeles:20250914T113000
DTSTAMP:20260422T061634
CREATED:20250826T225616Z
LAST-MODIFIED:20250826T225616Z
UID:10000565-1757842200-1757849400@sactownsupermom.com
SUMMARY:Wiggle Worms Pop-Up
DESCRIPTION:Wiggle Worms will have a pop-up play session on Sunday\, September 14\, 2025 at Emile “Whitey” Boisclair Park. There will be songs\, nature exploration\, story time\, and lots of play. Sessions are for kids ages 2-9\, and a parent or caregiver must be present the whole time.
URL:https://sactownsupermom.com/event/wiggle-worms-pop-up/
LOCATION:Emile “Whitey” Boisclair Park\, 728 Lake Washington Boulevard\, West Sacramento\, CA\, 95691
CATEGORIES:Free
END:VEVENT
BEGIN:VEVENT
DTSTART;TZID=America/Los_Angeles:20250913T110000
DTEND;TZID=America/Los_Angeles:20250913T130000
DTSTAMP:20260422T061634
CREATED:20250830T211555Z
LAST-MODIFIED:20250830T211555Z
UID:10000591-1757761200-1757768400@sactownsupermom.com
SUMMARY:Bubble Bash at Marketplace at Birdcage
DESCRIPTION:Kids can burst into fun at the free Bubble Bash on Saturday\, September 13\, 2025 at the Marketplace at Birdcage in Citrus Heights. There will be bubble stations\, a giant foam zone\, bubble games and crafts\, interactive bubble performances\, face painting\, balloon twisters\, and more. \nWhile this event is free\, pre-registration is required. Additionally\, food donations are requested for the Sunrise Christian Food Ministry\, which this event benefits. \nThis event will take place at the Art Block\, which is directly behind Jamba Juice at the Marketplace at Birdcage in Citrus Heights.
URL:https://sactownsupermom.com/event/bubble-bash-at-marketplace-at-birdcage/
LOCATION:Marketplace At Birdcage\, 5975 Birdcage Centre Lane\, Citrus Heights\, CA\, 95610
CATEGORIES:September
END:VEVENT
BEGIN:VEVENT
DTSTART;TZID=America/Los_Angeles:20250913T100000
DTEND;TZID=America/Los_Angeles:20250913T150000
DTSTAMP:20260422T061634
CREATED:20250911T045333Z
LAST-MODIFIED:20250911T045333Z
UID:10000657-1757757600-1757775600@sactownsupermom.com
SUMMARY:Cache Creek Nature Preserve’s 25th Anniversary
DESCRIPTION:The Cache Creek Nature Preserve celebrates its 25th Anniversary on Saturday\, September 13\, 2025. This free celebration will have fun family-friendly events like a touch-a-truck\, face painting\, a hay ride\, and more.
URL:https://sactownsupermom.com/event/cache-creek-nature-preserves-25th-anniversary/
LOCATION:Cache Creek Nature Preserve\, 34199 Co Rd 20\, Woodland\, CA\, 95695
CATEGORIES:Nature,Touch-A-Truck
END:VEVENT
BEGIN:VEVENT
DTSTART;TZID=America/Los_Angeles:20250913T100000
DTEND;TZID=America/Los_Angeles:20250913T150000
DTSTAMP:20260422T061634
CREATED:20250831T143023Z
LAST-MODIFIED:20250831T143023Z
UID:10000632-1757757600-1757775600@sactownsupermom.com
SUMMARY:Dancing the Globe: A Celebration of Cultural Dance
DESCRIPTION:Get ready to dance at Dancing the Globe: A Celebration of Cultural Dance on Saturday\, September 13\, 2025 at District 56 in Elk Grove. This free event highlights the diversity of different dance styles from around the world.
URL:https://sactownsupermom.com/event/dancing-the-globe-a-celebration-of-cultural-dance/
LOCATION:District 56\, 8230 Civic Center Dr #100\, Elk Grove\, CA\, 95757
CATEGORIES:Elk Grove,Free
END:VEVENT
BEGIN:VEVENT
DTSTART;TZID=America/Los_Angeles:20250913T100000
DTEND;TZID=America/Los_Angeles:20250913T150000
DTSTAMP:20260422T061634
CREATED:20250830T202037Z
LAST-MODIFIED:20250830T202037Z
UID:10000588-1757757600-1757775600@sactownsupermom.com
SUMMARY:Folsom Powerhouse 130th Anniversary Celebration
DESCRIPTION:The Folsom Powerhouse 130th Anniversary Celebration will take place on Saturday\, September 13\, 2025. This free event will have STEM-themed exhibits\, tours of the Powerhouse\, and Junior Ranger activities. Sign up in advance to receive cake or cupcakes (while supplies last).
URL:https://sactownsupermom.com/event/folsom-powerhouse-130th-anniversary-celebration/
LOCATION:Folsom Powerhouse SHP\, 980 Greenback Lane\, Folsom\, CA\, 95630
CATEGORIES:September
END:VEVENT
BEGIN:VEVENT
DTSTART;TZID=America/Los_Angeles:20250913T100000
DTEND;TZID=America/Los_Angeles:20250913T130000
DTSTAMP:20260422T061634
CREATED:20250906T162438Z
LAST-MODIFIED:20250906T162438Z
UID:10000651-1757757600-1757768400@sactownsupermom.com
SUMMARY:Kids & Trucks
DESCRIPTION:Kids & Trucks revs into Lincoln on Saturday\, September 13\, 2025. This free touch-a-truck event will take place at McBean Park. Kids will get to climb into trucks and interact with different city vehicles.
URL:https://sactownsupermom.com/event/kids-trucks/
LOCATION:McBean Park\, 65 McBean Park Drive\, Lincoln\, CA\, 95648
CATEGORIES:Free,September,Touch-A-Truck
END:VEVENT
BEGIN:VEVENT
DTSTART;TZID=America/Los_Angeles:20250913T100000
DTEND;TZID=America/Los_Angeles:20250913T120000
DTSTAMP:20260422T061634
CREATED:20250901T023518Z
LAST-MODIFIED:20250901T023518Z
UID:10000639-1757757600-1757764800@sactownsupermom.com
SUMMARY:Community Clay Day
DESCRIPTION:Families and kids of all ages are invited to attend Community Clay Day on Saturday\, September 13\, 2025 in West Sacramento. The event will celebrate the completion of the Fire Station 41 Public Art Bench Project. There will be kid-friendly art activities and light refreshments. \n 
URL:https://sactownsupermom.com/event/community-clay-day/
LOCATION:Fire Station 41\, 132 15th St\, West Sacramento\, CA\, 95691
CATEGORIES:Free
END:VEVENT
BEGIN:VEVENT
DTSTART;TZID=America/Los_Angeles:20250913T100000
DTEND;TZID=America/Los_Angeles:20250913T120000
DTSTAMP:20260422T061634
CREATED:20250825T040222Z
LAST-MODIFIED:20250825T040222Z
UID:10000552-1757757600-1757764800@sactownsupermom.com
SUMMARY:Meet the Machines
DESCRIPTION:Meet the Machines drives into Rancho Cordova on Saturday\, September 13\, 2025 at Hagan Community Park. This free touch-a-truck event will have over 20 machines and vehicles for families to check out. There will be additional activities such as games\, giant slides\, and more.
URL:https://sactownsupermom.com/event/meet-the-machines/
LOCATION:Hagan Community Park\, 2197 Chase Dr\, Rancho Cordova\, CA\, 95670
CATEGORIES:September
END:VEVENT
BEGIN:VEVENT
DTSTART;TZID=America/Los_Angeles:20250913T100000
DTEND;TZID=America/Los_Angeles:20250913T110000
DTSTAMP:20260422T061634
CREATED:20250831T013514Z
LAST-MODIFIED:20250831T013514Z
UID:10000602-1757757600-1757761200@sactownsupermom.com
SUMMARY:Gondolier Paddleboarders at Rainbow Bridge
DESCRIPTION:Don’t miss paddleboarders dressed as Italian gondoliers paddling in the water near Rainbow Bridge on Saturday\, September 13\, 2025. Spectators will be able to watch the event after the Ciao Folsom! market. The paddle will take place at 10am.
URL:https://sactownsupermom.com/event/gondolier-paddleboarders-at-rainbow-bridge/
LOCATION:Rainbow Bridge\, Folsom\, CA
CATEGORIES:September
END:VEVENT
BEGIN:VEVENT
DTSTART;TZID=America/Los_Angeles:20250913T090000
DTEND;TZID=America/Los_Angeles:20250913T100000
DTSTAMP:20260422T061634
CREATED:20250830T215502Z
LAST-MODIFIED:20250830T215502Z
UID:10000593-1757754000-1757757600@sactownsupermom.com
SUMMARY:Li'l Sprouts in the Garden: Flying Feathered Friends
DESCRIPTION:Li’l Sprouts in the Garden is a multi-sensory experience for toddlers ages 3-5 at Soil Born Farms in Rancho Cordova. There are multiple sessions\, each with different theme. This session will take place on Saturday\, September 13\, 2025 with the theme of Flying Feathered Friends. \nKids will get to identify birds\, build their own binoculars\, and create paper feathers. A meet and greet with the chickens on the farm will also take place. \nChildren will play games\, sing songs\, hear stories\, and use their senses to explore. They will also acquire new words while gaining social skills. \nLi’l Sprouts in the Garden requires an adult chaperone with each child who attends. The adult chaperone is free with a paid toddler.
URL:https://sactownsupermom.com/event/lil-sprouts-in-the-garden-flying-feathered-friends/
LOCATION:Soil Born Farms\, 2140 Chase Dr.\, Rancho Cordova\, CA\, 95670
CATEGORIES:Farms,Rancho Cordova
END:VEVENT
BEGIN:VEVENT
DTSTART;TZID=America/Los_Angeles:20250913T080000
DTEND;TZID=America/Los_Angeles:20250913T140000
DTSTAMP:20260422T061634
CREATED:20250831T012433Z
LAST-MODIFIED:20250831T012433Z
UID:10000600-1757750400-1757772000@sactownsupermom.com
SUMMARY:Ciao Folsom!
DESCRIPTION:Ciao Folsom! takes place on Saturday\, September 13\, 2025 and celebrates Italian culture with Folsom’s sister city\, Pieve del Grappa. There will be an Italian-themed market and entertainment at this free family-friendly event. Cultural activities will occur from 11am to 2pm.
URL:https://sactownsupermom.com/event/ciao-folsom/
LOCATION:Folsom Historic District\, 200 Wool St\, Folsom\, CA\, 95630
CATEGORIES:September
END:VEVENT
BEGIN:VEVENT
DTSTART;TZID=America/Los_Angeles:20250912T170000
DTEND;TZID=America/Los_Angeles:20250912T220000
DTSTAMP:20260422T061634
CREATED:20250911T024912Z
LAST-MODIFIED:20250911T024912Z
UID:10000656-1757696400-1757714400@sactownsupermom.com
SUMMARY:2025 Mid-Autumn Festival
DESCRIPTION:The 2025 Mid-Autumn Festival will take place on Friday\, September 12\, 2025 at District 56 in Elk Grove. The festival will have lion dancing\, family-friendly crafts\, lantern making\, and vendors.
URL:https://sactownsupermom.com/event/2025-mid-autumn-festival/
LOCATION:District 56\, 8230 Civic Center Dr #100\, Elk Grove\, CA\, 95757
CATEGORIES:Elk Grove
END:VEVENT
BEGIN:VEVENT
DTSTART;TZID=America/Los_Angeles:20250909T180000
DTEND;TZID=America/Los_Angeles:20250909T210000
DTSTAMP:20260422T061634
CREATED:20250901T022653Z
LAST-MODIFIED:20250901T022653Z
UID:10000638-1757440800-1757451600@sactownsupermom.com
SUMMARY:California's 175th Birthday Block Party
DESCRIPTION:Celebrate the 175th birthday of California’s Statehood at a free family-friendly block party on Tuesday\, September 9\, 2025. The block party will take place at the California State Capitol in Sacramento. There will be activities for kids\, food trucks\, music\, and a birthday cake.  A laser display will occur 30 minutes after sunset.
URL:https://sactownsupermom.com/event/californias-175th-birthday-block-party/
LOCATION:California State Capitol\, 10th Street and N Street\, Sacramento\, CA
CATEGORIES:September
END:VEVENT
BEGIN:VEVENT
DTSTART;TZID=America/Los_Angeles:20250907T183000
DTEND;TZID=America/Los_Angeles:20250907T200000
DTSTAMP:20260422T061634
CREATED:20250901T021818Z
LAST-MODIFIED:20250906T161707Z
UID:10000637-1757269800-1757275200@sactownsupermom.com
SUMMARY:Junior Rangers: Evening Orienteering (Event Full)
DESCRIPTION:Kids ages 8+ are welcome to attend a free Junior Rangers program at Folsom Lake about Evening Orienteering on Sunday\, September 7\, 2025. Kids will learn how to navigate in the wilderness using clues\, compasses\, and maps. While this program is free\, pre-registration is required. \n 
URL:https://sactownsupermom.com/event/junior-rangers-evening-orienteering/
LOCATION:Folsom Lake SRA\, 7755 Folsom-Auburn Rd\, Folsom\, CA\, 95630
CATEGORIES:Folsom
END:VEVENT
BEGIN:VEVENT
DTSTART;TZID=America/Los_Angeles:20250907T120000
DTEND;TZID=America/Los_Angeles:20250907T140000
DTSTAMP:20260422T061634
CREATED:20250827T182207Z
LAST-MODIFIED:20250827T182207Z
UID:10000571-1757246400-1757253600@sactownsupermom.com
SUMMARY:Superhero Sunday
DESCRIPTION:Don your cape and fly over to the Fountains of Roseville for Superhero Sunday on Sunday\, September 7\, 2025. Spiderman\, Captain America\, Wonder Woman\, and Superman will be at the Fountains of Roseville for photo ops for kids at this free event. Popsicles will also be available from Guest Services while supplies last. Costumes are encouraged.
URL:https://sactownsupermom.com/event/superhero-sunday/
LOCATION:Fountains at Roseville\, 1013 Galleria Blvd\, Roseville\, CA\, 95678
CATEGORIES:September
END:VEVENT
BEGIN:VEVENT
DTSTART;TZID=America/Los_Angeles:20250907T103000
DTEND;TZID=America/Los_Angeles:20250907T120000
DTSTAMP:20260422T061634
CREATED:20250825T041920Z
LAST-MODIFIED:20250825T041920Z
UID:10000554-1757241000-1757246400@sactownsupermom.com
SUMMARY:Batty's Butterfly Release
DESCRIPTION:The Sacramento Children’s Museum celebrates the role grandparents play at the annual Batty’s Butterfly Release on Sunday\, September 7\, 2025. Butterflies are limited and purchasing in advance is required. This will be an outdoor event that will include art projects\, activities\, vendors\, and more. \nButterflies are locally sourced and released back into the wild at the event. \nThis event does not include museum admission. The museum will be closed during the event but will open at 12pm. Event attendees can stay and pay to play at a reduced admission rate. \nButterflies cost as follows: \n\n1 butterfly – $30\n2 butterflies – $50\n5 butterflies – $100
URL:https://sactownsupermom.com/event/battys-butterfly-release/
LOCATION:Sacramento Children’s Museum\, 2701 Prospect Park\, Rancho Cordova\, CA\, 95670
CATEGORIES:September
END:VEVENT
BEGIN:VEVENT
DTSTART;TZID=America/Los_Angeles:20250907T090000
DTEND;TZID=America/Los_Angeles:20250907T110000
DTSTAMP:20260422T061634
CREATED:20250827T043516Z
LAST-MODIFIED:20250827T043938Z
UID:10000568-1757235600-1757242800@sactownsupermom.com
SUMMARY:Character Breakfast at BusyKids
DESCRIPTION:Kids can enjoy breakfast with Elsa and Spiderman at BusyKids in Folsom on Sunday\, September 7\, 2025. Dress as a character and stay for indoor play.
URL:https://sactownsupermom.com/event/characters-breakfast-at-busykids/
LOCATION:BusyKids\, 1014 Riley St\, Folsom\, CA\, 95630
CATEGORIES:Indoor Play Spaces
END:VEVENT
BEGIN:VEVENT
DTSTART;TZID=America/Los_Angeles:20250906T130000
DTEND;TZID=America/Los_Angeles:20250906T160000
DTSTAMP:20260422T061634
CREATED:20250825T050209Z
LAST-MODIFIED:20250825T050209Z
UID:10000560-1757163600-1757174400@sactownsupermom.com
SUMMARY:Healthy Kids Extravaganza
DESCRIPTION:Learn about healthy choices for kids at the Healthy Kids Extravaganza on Saturday\, September 6\, 2025 in Elk Grove. This free event for families will have interactive activities\, physical wellness challenges\, arts & crafts\, swimming\, and more.
URL:https://sactownsupermom.com/event/healthy-kids-extravaganza/
LOCATION:Wackford Community & Aquatic Complex\, 9014 Bruceville Road\, Elk Grove\, CA\, 95758
CATEGORIES:Elk Grove
END:VEVENT
END:VCALENDAR