BEGIN:VCALENDAR
VERSION:2.0
PRODID:-//Sactown Supermom - ECPv6.15.20//NONSGML v1.0//EN
CALSCALE:GREGORIAN
METHOD:PUBLISH
X-ORIGINAL-URL:https://sactownsupermom.com
X-WR-CALDESC:Events for Sactown Supermom
REFRESH-INTERVAL;VALUE=DURATION:PT1H
X-Robots-Tag:noindex
X-PUBLISHED-TTL:PT1H
BEGIN:VTIMEZONE
TZID:America/Los_Angeles
BEGIN:DAYLIGHT
TZOFFSETFROM:-0800
TZOFFSETTO:-0700
TZNAME:PDT
DTSTART:20240310T100000
END:DAYLIGHT
BEGIN:STANDARD
TZOFFSETFROM:-0700
TZOFFSETTO:-0800
TZNAME:PST
DTSTART:20241103T090000
END:STANDARD
BEGIN:DAYLIGHT
TZOFFSETFROM:-0800
TZOFFSETTO:-0700
TZNAME:PDT
DTSTART:20250309T100000
END:DAYLIGHT
BEGIN:STANDARD
TZOFFSETFROM:-0700
TZOFFSETTO:-0800
TZNAME:PST
DTSTART:20251102T090000
END:STANDARD
BEGIN:DAYLIGHT
TZOFFSETFROM:-0800
TZOFFSETTO:-0700
TZNAME:PDT
DTSTART:20260308T100000
END:DAYLIGHT
BEGIN:STANDARD
TZOFFSETFROM:-0700
TZOFFSETTO:-0800
TZNAME:PST
DTSTART:20261101T090000
END:STANDARD
END:VTIMEZONE
BEGIN:VEVENT
DTSTART;TZID=America/Los_Angeles:20251012T123000
DTEND;TZID=America/Los_Angeles:20251012T150000
DTSTAMP:20260421T231821
CREATED:20250922T212456Z
LAST-MODIFIED:20251008T052344Z
UID:10000707-1760272200-1760281200@sactownsupermom.com
SUMMARY:I Love Sugar Skulls Workshops
DESCRIPTION:Join the California Museum for their I Love Sugar Skulls Workshops on Sunday\, October 12\, 2025. Pre-registration is required and includes admission to the California Museum\, including the new Recuerdos Ilustrados: Día de los Muertos 2025 exhibit. 
URL:https://sactownsupermom.com/event/i-love-sugar-skulls-workshops/
LOCATION:California Museum\, 1020 O Street Sacramento\, Sacramento\, CA\, 95814
CATEGORIES:Dia de los Muertos,Oct 10-12
END:VEVENT
BEGIN:VEVENT
DTSTART;TZID=America/Los_Angeles:20251012T110000
DTEND;TZID=America/Los_Angeles:20251012T160000
DTSTAMP:20260421T231821
CREATED:20251008T042328Z
LAST-MODIFIED:20251008T052209Z
UID:10000841-1760266800-1760284800@sactownsupermom.com
SUMMARY:Sacramento Jewish Food Faire
DESCRIPTION:Enjoy traditional Jewish food\, kids’ activities\, vendors\, live music\, and more at the Sacramento Jewish Food Faire on Sunday\, October 12\, 2025. The best bagel competition is a highlight of the festival.
URL:https://sactownsupermom.com/event/sacramento-jewish-food-faire/
LOCATION:Scottish Rite Masonic Center\, 6151 H St\, Sacramento\, CA\, 95819
CATEGORIES:Food,Oct 10-12
END:VEVENT
BEGIN:VEVENT
DTSTART;TZID=America/Los_Angeles:20251012T100000
DTEND;TZID=America/Los_Angeles:20251012T140000
DTSTAMP:20260421T231821
CREATED:20250930T234806Z
LAST-MODIFIED:20251008T052140Z
UID:10000797-1760263200-1760277600@sactownsupermom.com
SUMMARY:Community Carnival at Fair Oaks Village Park
DESCRIPTION:To celebrate the Grand Opening of the newly remodeled Village Park in Fair Oaks\, a free family-friendly Community Carnival will take place on Sunday\, October 12\, 2025. There will be games\, hands-on activities\, live performances\, and more.
URL:https://sactownsupermom.com/event/community-carnival-at-fair-oaks-village-park/
LOCATION:Village Park\, Plaza\, 7991 California Avenue\, Fair Oaks\, CA\, 95628
CATEGORIES:Oct 10-12,October
END:VEVENT
BEGIN:VEVENT
DTSTART;TZID=America/Los_Angeles:20251012T090000
DTEND;TZID=America/Los_Angeles:20251012T170000
DTSTAMP:20260421T231821
CREATED:20250821T151247Z
LAST-MODIFIED:20251008T052113Z
UID:10000544-1760259600-1760288400@sactownsupermom.com
SUMMARY:Placer County Farm & Barn Tour
DESCRIPTION:Visit various farms on the annual Placer County Farm & Barn tour on Sunday\, October 12\, 2025. Each farm will have its own experiences and activities for families to check out. Map out your route and visit one\, a few\, or as many farms as you want! \nNo tickets are required for this event. \nThe following Placer County farms will be participating in the 2025 Placer County Farm & Barn tour: \n\nBaroness Olive Oil\nCoffeepot Ranch\nColwell Thundering Herd Ranch\nDueling Dogs Brewing Co.\nFowler Ranch Farm Brewery & Farmers’ Market\nHorton Iris Farm & La Bella Vito Farm\nLittle Bear Tree Farm\nLillards Lavenders\nLone Buffalo Vineyard & Millertown Sheep Farm\nMandarin Hill Orchards & Happy Dayz Vineyard\nMartha’s Gardens\nMartynse Family Farm\nRedbud Nursery\nSerendipity Ranch Flowers\nStoryteller Seed Co.\nTwin Peaks Orchards\nThe Flower Farm Gift Shop\nWise Villa Winery\n\n 
URL:https://sactownsupermom.com/event/placer-county-farm-barn-tour/
LOCATION:Placer County\, CA
CATEGORIES:Fall Festivals,Farms,Oct 10-12,October
END:VEVENT
BEGIN:VEVENT
DTSTART;TZID=America/Los_Angeles:20251011T180000
DTEND;TZID=America/Los_Angeles:20251011T220000
DTSTAMP:20260421T231821
CREATED:20250922T211908Z
LAST-MODIFIED:20251002T223641Z
UID:10000706-1760205600-1760220000@sactownsupermom.com
SUMMARY:California Museum Día de los Muertos Fiesta (Sold Out)
DESCRIPTION:The California Museum will be having a family-friendly Día de los Muertos Fiesta on Saturday\, October 11\, 2025 to celebrate the opening of their newest exhibit\, Recuerdos Ilustrados: Día de los Muertos 2025. There will be interactive activities\, face painting (for ages 3+)\, Aztec dancers\, and more.
URL:https://sactownsupermom.com/event/california-museum-dia-de-los-muertos-fiesta/
LOCATION:California Museum\, 1020 O Street Sacramento\, Sacramento\, CA\, 95814
CATEGORIES:Dia de los Muertos,October
END:VEVENT
BEGIN:VEVENT
DTSTART;TZID=America/Los_Angeles:20251011T170000
DTEND;TZID=America/Los_Angeles:20251011T190000
DTSTAMP:20260421T231821
CREATED:20251005T164528Z
LAST-MODIFIED:20251008T051935Z
UID:10000831-1760202000-1760209200@sactownsupermom.com
SUMMARY:Tree Trunk or Treat
DESCRIPTION:Participate in free Halloween fun at Tree Trunk or Treat on Saturday\, October 11\, 2025 at the Cache Creek Nature Preserve. There will be candy stations\, face painting\, games\, and more. Halloween costumes are encouraged. Bring candy bags\, flashlights\, and bug spray. While this is a free event\, pre-registration is required.
URL:https://sactownsupermom.com/event/tree-trunk-or-treat/
LOCATION:Cache Creek Nature Preserve\, 34199 Co Rd 20\, Woodland\, CA\, 95695
CATEGORIES:Free Halloween,Oct 10-12
END:VEVENT
BEGIN:VEVENT
DTSTART;TZID=America/Los_Angeles:20251011T150000
DTEND;TZID=America/Los_Angeles:20251011T233000
DTSTAMP:20260421T231821
CREATED:20251002T061039Z
LAST-MODIFIED:20251002T061039Z
UID:10000662-1760194800-1760225400@sactownsupermom.com
SUMMARY:Sacramento Turn Verein Oktoberfest
DESCRIPTION:The Annual Sacramento Turn Verein Oktoberfest returns for two days on October 10 & 11\, 2025. There will be authentic German food and beer\, live music\, and dancers. Oktoberfest is family-friendly and will have activities for kids.
URL:https://sactownsupermom.com/event/sacramento-turn-verein-oktoberfest-3/
LOCATION:Sacramento Turn Verein\, 3349 J St\, Sacramento\, CA\, 95816
CATEGORIES:Fall
END:VEVENT
BEGIN:VEVENT
DTSTART;TZID=America/Los_Angeles:20251011T150000
DTEND;TZID=America/Los_Angeles:20251011T233000
DTSTAMP:20260421T231821
CREATED:20250901T024031Z
LAST-MODIFIED:20251002T061208Z
UID:10000804-1760194800-1760225400@sactownsupermom.com
SUMMARY:Sacramento Turn Verein Oktoberfest
DESCRIPTION:The Annual Sacramento Turn Verein Oktoberfest returns for two days on October 10 & 11\, 2025. There will be authentic German food and beer\, live music\, and dancers. Oktoberfest is family-friendly and will have activities for kids.
URL:https://sactownsupermom.com/event/sacramento-turn-verein-oktoberfest/
LOCATION:Sacramento Turn Verein\, 3349 J St\, Sacramento\, CA\, 95816
CATEGORIES:Fall
END:VEVENT
BEGIN:VEVENT
DTSTART;TZID=America/Los_Angeles:20251011T140000
DTEND;TZID=America/Los_Angeles:20251011T160000
DTSTAMP:20260421T231821
CREATED:20251008T214232Z
LAST-MODIFIED:20251008T214232Z
UID:10000844-1760191200-1760198400@sactownsupermom.com
SUMMARY:Southgate Splashing Pumpkins
DESCRIPTION:Jump into the fall festivity of Splashing Pumpkins on Saturday\, October 11\, 2025 in Southgate. Kids can pick their pumpkins from a pool\, and then decorate them. There will also be Halloween crafts\, carnival games\, and more.
URL:https://sactownsupermom.com/event/southgate-splashing-pumpkins/
LOCATION:Christine Thompson Aquatic Center\, 8025 Waterman Road\, Sacramento\, CA\, 95829
CATEGORIES:Fall,Oct 10-12
END:VEVENT
BEGIN:VEVENT
DTSTART;TZID=America/Los_Angeles:20251011T130000
DTEND;TZID=America/Los_Angeles:20251011T200000
DTSTAMP:20260421T231821
CREATED:20250914T200439Z
LAST-MODIFIED:20251008T051908Z
UID:10000661-1760187600-1760212800@sactownsupermom.com
SUMMARY:Oktoberfest at Touchstone Brewing
DESCRIPTION:Oktoberfest at Touchstone Brewing in Sacramento will take place on Saturday\, October 11\, 2025. This is a free all ages event and there will be hay rides from 2-5pm. Traditional German food and beverages will be available for purchase.
URL:https://sactownsupermom.com/event/oktoberfest-at-touchstone-brewing/
LOCATION:Touchstone Brewing Company\, 116 North 16th Street #Suite 100\, Sacramento\, CA\, 95811
CATEGORIES:Fall Festivals,Oct 10-12
END:VEVENT
BEGIN:VEVENT
DTSTART;TZID=America/Los_Angeles:20251011T110000
DTEND;TZID=America/Los_Angeles:20251011T160000
DTSTAMP:20260421T231821
CREATED:20250921T201905Z
LAST-MODIFIED:20251008T051838Z
UID:10000705-1760180400-1760198400@sactownsupermom.com
SUMMARY:Lodi Pumpkin Harvest Festival
DESCRIPTION:The Annual Lodi Pumpkin Harvest Festival at Jessie’s Grove Winery will take place on Saturday\, October 11\, 2025. There will be gondola rides around the pumpkin patch\, bubble shows\, a trunk-or-treat for kids\, and more. Tickets purchased before October 4 will include a free pumpkin. Kids 5 and under receive free admission.
URL:https://sactownsupermom.com/event/lodi-pumpkin-harvest-festival/
LOCATION:Jessie’s Grove Winery\, 1973 West Turner Road\, Lodi\, CA\, 95242
CATEGORIES:Fall Festivals,Oct 10-12
END:VEVENT
BEGIN:VEVENT
DTSTART;TZID=America/Los_Angeles:20251011T110000
DTEND;TZID=America/Los_Angeles:20251011T150000
DTSTAMP:20260421T231821
CREATED:20250921T143441Z
LAST-MODIFIED:20251008T051816Z
UID:10000699-1760180400-1760194800@sactownsupermom.com
SUMMARY:Fall Festival at Arden Park
DESCRIPTION:Celebrate the Fall Festival & 75th Anniversary Celebration of Arden Park Recreation on Saturday\, October 11\, 2025. This fall festival will have a large kids zone with a pumpkin patch\, petting zoo\, carnival games\, inflatables\, and more.
URL:https://sactownsupermom.com/event/fall-festival-at-arden-park/
LOCATION:Arden Park\, 1000 La Sierra Drive\, Sacramento\, CA\, 95864
CATEGORIES:Fall Festivals,Oct 10-12
END:VEVENT
BEGIN:VEVENT
DTSTART;TZID=America/Los_Angeles:20251011T110000
DTEND;TZID=America/Los_Angeles:20251011T130000
DTSTAMP:20260421T231821
CREATED:20250928T011843Z
LAST-MODIFIED:20251008T051753Z
UID:10000779-1760180400-1760187600@sactownsupermom.com
SUMMARY:Arts in the Heart
DESCRIPTION:Bring the whole family to celebrate Arts in the Heart on Saturday\, October 11\, 2025 in West Sacramento. This free multicultural community event will have calavera (sugar skull) decorating\, a Día De Los Muertos altar you can add photos to\, a chalk the walk\, art\, dance performances\, and more.
URL:https://sactownsupermom.com/event/arts-in-the-heart/
LOCATION:West Sacramento Community Center\, 1075 West Capitol Avenue\, West Sacramento\, CA\, 95691
CATEGORIES:Dia de los Muertos,Oct 10-12
END:VEVENT
BEGIN:VEVENT
DTSTART;TZID=America/Los_Angeles:20251011T110000
DTEND;TZID=America/Los_Angeles:20251011T120000
DTSTAMP:20260421T231821
CREATED:20250927T212015Z
LAST-MODIFIED:20250927T212015Z
UID:10000741-1760180400-1760184000@sactownsupermom.com
SUMMARY:Puppet Art Theater: Hansel and Gretel
DESCRIPTION:Kids can enjoy a free Hansel and Gretel puppet show on Saturday\, October 11\, 2025 at the Carmichael Library.
URL:https://sactownsupermom.com/event/puppet-art-theater-hansel-and-gretel/
LOCATION:Carmichael Library\, 5605 Marconi Ave.\, Carmichael\, CA\, 95608
CATEGORIES:Sacramento Library
END:VEVENT
BEGIN:VEVENT
DTSTART;TZID=America/Los_Angeles:20251011T100000
DTEND;TZID=America/Los_Angeles:20251011T150000
DTSTAMP:20260421T231821
CREATED:20250927T232957Z
LAST-MODIFIED:20251008T051732Z
UID:10000773-1760176800-1760194800@sactownsupermom.com
SUMMARY:Folsom Family Expo at Palladio
DESCRIPTION:The free Folsom Family Expo at Palladio will take place on Saturday\, October 11\, 2025. There will be a petting zoo\, kids’ games\, live performances\, vendors\, and more.
URL:https://sactownsupermom.com/event/folsom-family-expo-at-palladio/
LOCATION:Palladio Piazza\, 350 Palladio Pkwy\, Folsom\, CA\, 95630
CATEGORIES:Folsom,Oct 10-12
END:VEVENT
BEGIN:VEVENT
DTSTART;TZID=America/Los_Angeles:20251011T100000
DTEND;TZID=America/Los_Angeles:20251011T150000
DTSTAMP:20260421T231821
CREATED:20250927T225742Z
LAST-MODIFIED:20251008T051702Z
UID:10000763-1760176800-1760194800@sactownsupermom.com
SUMMARY:Sacramento County Women & Girls Festival
DESCRIPTION:The free Sacramento County Women & Girls Festival takes place on Saturday\, October 11\, 2025. This event includes activities and resources that support girls and women in the Sacramento community.
URL:https://sactownsupermom.com/event/sacramento-county-women-girls-festival/
LOCATION:Sacramento City College\, 3835 Freeport Blvd\, Sacramento\, CA\, 95822
CATEGORIES:Free,Oct 10-12
END:VEVENT
BEGIN:VEVENT
DTSTART;TZID=America/Los_Angeles:20251011T100000
DTEND;TZID=America/Los_Angeles:20251011T150000
DTSTAMP:20260421T231821
CREATED:20250831T150112Z
LAST-MODIFIED:20251008T051642Z
UID:10000635-1760176800-1760194800@sactownsupermom.com
SUMMARY:Falling Leaf Food & Crafts Festival
DESCRIPTION:The Falling Leaf Food & Crafts Festival takes place on Saturday\, October 11\, 2025 at Vernon Square in Roseville. There will be fall family activities like a pumpkin patch and painting\, and a pre-halloween costume contest. A kids zone will have inflatables and carnival games. Food and vendors will be at the event. \nEntry is free to the event but some activities will have a fee.
URL:https://sactownsupermom.com/event/falling-leaf-food-crafts-festival/
LOCATION:Vernon Street Town Square\, 311 Vernon St\, Roseville\, CA\, 95678
CATEGORIES:Fall Festivals,Oct 10-12,October
END:VEVENT
BEGIN:VEVENT
DTSTART;TZID=America/Los_Angeles:20251011T100000
DTEND;TZID=America/Los_Angeles:20251011T140000
DTSTAMP:20260421T231821
CREATED:20251008T044832Z
LAST-MODIFIED:20251008T051615Z
UID:10000842-1760176800-1760191200@sactownsupermom.com
SUMMARY:Folsom Family Pride
DESCRIPTION:Folsom Family Pride takes place on Saturday\, October 11\, 2025. This family-friendly event will welcome all and celebrate community with activities\, arts and crafts\, live music\, speakers\, vendors\, and more.
URL:https://sactownsupermom.com/event/folsom-family-pride/
LOCATION:Folsom City Lions Park\, 403 Stafford Street\, Folsom\, CA\, 95630
CATEGORIES:Folsom,Oct 10-12
END:VEVENT
BEGIN:VEVENT
DTSTART;TZID=America/Los_Angeles:20251011T100000
DTEND;TZID=America/Los_Angeles:20251011T140000
DTSTAMP:20260421T231821
CREATED:20250906T161508Z
LAST-MODIFIED:20251008T051554Z
UID:10000650-1760176800-1760191200@sactownsupermom.com
SUMMARY:Founder's Harvest Festival
DESCRIPTION:Founder’s Harvest Festival will take place on Saturday\, October 11\, 2025 at Carmichael Park. This free fall festival will have a Kids Zone with games\, a pumpkin patch\, petting zoo\, live entertainment\, food trucks\, and more.
URL:https://sactownsupermom.com/event/founders-harvest-festival/
LOCATION:Carmichael Park\, 5750 Grant Ave\, Carmichael\, CA\, 95608
CATEGORIES:Fall Festivals,Oct 10-12,October
END:VEVENT
BEGIN:VEVENT
DTSTART;TZID=America/Los_Angeles:20251011T100000
DTEND;TZID=America/Los_Angeles:20251011T120000
DTSTAMP:20260421T231821
CREATED:20251005T033640Z
LAST-MODIFIED:20251008T051532Z
UID:10000815-1760176800-1760184000@sactownsupermom.com
SUMMARY:Boo Bash on Candy Lane 2025
DESCRIPTION:Boo Bash on Candy Lane takes place on Saturday\, October 11\, 2025 at Citrus Town Center. This free Halloween event will have a Candy Lane\, face painting\, balloon twisting\, an interactive performance by The Science Wizard\, slime making\, and a surprise character appearance.
URL:https://sactownsupermom.com/event/boo-bash-on-candy-lane/
LOCATION:Citrus Town Center\, 7925 Greenback Ln\, Citrus Heights\, CA\, 95610
CATEGORIES:Free Halloween,Oct 10-12
END:VEVENT
BEGIN:VEVENT
DTSTART;TZID=America/Los_Angeles:20251011T100000
DTEND;TZID=America/Los_Angeles:20251011T120000
DTSTAMP:20260421T231821
CREATED:20251005T033048Z
LAST-MODIFIED:20251008T051513Z
UID:10000814-1760176800-1760184000@sactownsupermom.com
SUMMARY:Halloween Extravaganza & Costume Parade
DESCRIPTION:The free Halloween Extravaganza & Costume Parade takes place on Saturday\, October 11\, 2025 in North Highlands. There will be a pumpkin patch\, hands-on activities and crafts\, a costume contest\, and more.
URL:https://sactownsupermom.com/event/halloween-extravaganza-costume-parade/
LOCATION:Kay F. Dahill Community Center\, 6040 Watt Ave\, North Highlands\, CA\, 95660
CATEGORIES:Free Halloween,Oct 10-12
END:VEVENT
BEGIN:VEVENT
DTSTART;TZID=America/Los_Angeles:20251011T093000
DTEND;TZID=America/Los_Angeles:20251011T190000
DTSTAMP:20260421T231821
CREATED:20251007T202125Z
LAST-MODIFIED:20251008T051451Z
UID:10000838-1760175000-1760209200@sactownsupermom.com
SUMMARY:Peek-a-Boo Factory Grand Opening
DESCRIPTION:The Grand Opening of the new Peek-a-Boo Factory takes place on Saturday\, October 11\, 2025. The first 50 kids will receive free admission to this brand-new indoor playground in Rancho Cordova. The doors open at 9:30am. Plus\, all kids will receive a free pair of Peek-a-Boo grip socks on Grand Opening day. \nLearn more about what to expect at the new Peek-a-Boo Factory in Rancho Cordova. \n\n\n\n\n\n\n\n\n 
URL:https://sactownsupermom.com/event/peek-a-boo-factory-grand-opening/
LOCATION:11270 Sanders Drive\, Suite A\, Rancho Cordova\, CA\, 95742
CATEGORIES:Oct 10-12,October
END:VEVENT
BEGIN:VEVENT
DTSTART;TZID=America/Los_Angeles:20251011T093000
DTEND;TZID=America/Los_Angeles:20251011T120000
DTSTAMP:20260421T231821
CREATED:20250930T035905Z
LAST-MODIFIED:20250930T035905Z
UID:10000786-1760175000-1760184000@sactownsupermom.com
SUMMARY:Walk With Us in Elk Grove
DESCRIPTION:Walk with the Elk Grove community on the morning of Saturday\, October 11\, 2025. The walk will be dedicated to youth mental wellness and will take place in Hilma Colton Park. The first 100 people to attend will receive a free commemorative t-shirt.
URL:https://sactownsupermom.com/event/walk-with-us-in-elk-grove/
LOCATION:Hilma Colton Park\, 9410 Laguna Springs Drive\, Elk Grove\, CA\, 95758
CATEGORIES:Elk Grove
END:VEVENT
BEGIN:VEVENT
DTSTART;TZID=America/Los_Angeles:20251011T090000
DTEND;TZID=America/Los_Angeles:20251011T150000
DTSTAMP:20260421T231821
CREATED:20250927T230422Z
LAST-MODIFIED:20251008T051435Z
UID:10000764-1760173200-1760194800@sactownsupermom.com
SUMMARY:UC Davis California Raptor Center Fall Open House
DESCRIPTION:The UC Davis California Raptor Center will have its free annual Fall Open House on Saturday\, October 11\, 2025. This family-friendly event will include hands-on educational experiences while getting to see some of the raptors up close\, on the gloves of ambassadors.
URL:https://sactownsupermom.com/event/uc-davis-california-raptor-center-fall-open-house/
LOCATION:California Raptor Center\, 1340 Equine Lane\, Davis\, CA\, 95616
CATEGORIES:Oct 10-12,October
END:VEVENT
BEGIN:VEVENT
DTSTART;TZID=America/Los_Angeles:20251010T160000
DTEND;TZID=America/Los_Angeles:20251010T170000
DTSTAMP:20260421T231821
CREATED:20250927T210905Z
LAST-MODIFIED:20250927T210905Z
UID:10000738-1760112000-1760115600@sactownsupermom.com
SUMMARY:NorCal Bats at South Natomas Library
DESCRIPTION:See live bats on Friday\, October 10\, 2025 at the South Natomas Library. Learn about their environmental importance.
URL:https://sactownsupermom.com/event/norcal-bats-at-south-natomas-library/
LOCATION:South Natomas Library\, 2901 Truxel Road\, Sacramento\, CA\, 95833
CATEGORIES:Sacramento Library
END:VEVENT
BEGIN:VEVENT
DTSTART;TZID=America/Los_Angeles:20251010T100000
DTEND;TZID=America/Los_Angeles:20251012T150000
DTSTAMP:20260421T231822
CREATED:20251008T045833Z
LAST-MODIFIED:20251008T045855Z
UID:10000843-1760090400-1760281200@sactownsupermom.com
SUMMARY:Coloma Gold Rush Live
DESCRIPTION:Go back in time to an 1850s California Gold Rush tent town at the three-day Coloma Gold Rush Live on October 10-12\, 2025. There will be live demonstrations\, wagon rides\, puppet shows\, candle making\, hands-on activities\, bakery\, and more.
URL:https://sactownsupermom.com/event/coloma-gold-rush-live/
LOCATION:Marshall Gold Discovery State Historic Park\, 310 Back St\, Coloma\, CA\, 95613
CATEGORIES:Fall
END:VEVENT
BEGIN:VEVENT
DTSTART;TZID=America/Los_Angeles:20251006T180000
DTEND;TZID=America/Los_Angeles:20251006T200000
DTSTAMP:20260421T231822
CREATED:20250831T040647Z
LAST-MODIFIED:20251001T220349Z
UID:10000629-1759773600-1759780800@sactownsupermom.com
SUMMARY:Circus Vargas in Folsom
DESCRIPTION:Circus Vargas comes to town in Folsom at Lakeside Church from September 25 – October 6\, 2025. The two-hour family-friendly circus show pays tribute to the Golden Age of cinema through aerialists and mesmerizing performances. Kids under 2 receive free admission. \n  \n 
URL:https://sactownsupermom.com/event/circus-vargas-in-folsom/2025-10-06/
LOCATION:Lakeside Church\, 745 Oak Ave Pkwy\, Folsom\, CA\, 95630
CATEGORIES:Folsom
END:VEVENT
BEGIN:VEVENT
DTSTART;TZID=America/Los_Angeles:20251005T140000
DTEND;TZID=America/Los_Angeles:20251005T180000
DTSTAMP:20260421T231822
CREATED:20250930T035428Z
LAST-MODIFIED:20250930T035428Z
UID:10000785-1759672800-1759687200@sactownsupermom.com
SUMMARY:International Peace Festival
DESCRIPTION:A free International Peace Festival will take place on Sunday\, October 5\, 2025 in Elk Grove. The event aims to promote peace in the community. There will be children’s art activities at the event.
URL:https://sactownsupermom.com/event/international-peace-festival/
LOCATION:District 56\, 8230 Civic Center Dr #100\, Elk Grove\, CA\, 95757
CATEGORIES:Elk Grove
END:VEVENT
BEGIN:VEVENT
DTSTART;TZID=America/Los_Angeles:20251005T110000
DTEND;TZID=America/Los_Angeles:20251005T200000
DTSTAMP:20260421T231822
CREATED:20250927T203436Z
LAST-MODIFIED:20250927T203436Z
UID:10000733-1759662000-1759694400@sactownsupermom.com
SUMMARY:Sacramento Greek Festival
DESCRIPTION:Celebrate all things Greek at the three-day Sacramento Greek Festival from October 3-5\, 2025. There will be Greek food\, culture\, and entertainment. Kids 12 and under receive free admission.
URL:https://sactownsupermom.com/event/sacramento-greek-festival/2025-10-05/
LOCATION:600 & 616 Alhambra Blvd\, Sacramento\, CA\, 95816
CATEGORIES:Food
END:VEVENT
BEGIN:VEVENT
DTSTART;TZID=America/Los_Angeles:20251005T100000
DTEND;TZID=America/Los_Angeles:20251005T140000
DTSTAMP:20260421T231822
CREATED:20250921T145645Z
LAST-MODIFIED:20251001T043527Z
UID:10000701-1759658400-1759672800@sactownsupermom.com
SUMMARY:Fall Festival at The Flower Farm Gift Shop
DESCRIPTION:The Flower Farm Gift Shop in Loomis will have a free Fall Festival on Sunday\, October 5\, 2025. There will be a pumpkin patch\, flower field\, live music\, vendors\, and more.
URL:https://sactownsupermom.com/event/fall-festival-at-the-flower-farm-gift-shop/
LOCATION:The Flower Farm Gift Shop\, 9280 Horseshoe Bar Road\, Loomis\, CA\, 95650
CATEGORIES:Fall Festivals,Oct 3-5
END:VEVENT
END:VCALENDAR