BEGIN:VCALENDAR
VERSION:2.0
PRODID:-//Sactown Supermom - ECPv6.15.20//NONSGML v1.0//EN
CALSCALE:GREGORIAN
METHOD:PUBLISH
X-ORIGINAL-URL:https://sactownsupermom.com
X-WR-CALDESC:Events for Sactown Supermom
REFRESH-INTERVAL;VALUE=DURATION:PT1H
X-Robots-Tag:noindex
X-PUBLISHED-TTL:PT1H
BEGIN:VTIMEZONE
TZID:America/Los_Angeles
BEGIN:DAYLIGHT
TZOFFSETFROM:-0800
TZOFFSETTO:-0700
TZNAME:PDT
DTSTART:20240310T100000
END:DAYLIGHT
BEGIN:STANDARD
TZOFFSETFROM:-0700
TZOFFSETTO:-0800
TZNAME:PST
DTSTART:20241103T090000
END:STANDARD
BEGIN:DAYLIGHT
TZOFFSETFROM:-0800
TZOFFSETTO:-0700
TZNAME:PDT
DTSTART:20250309T100000
END:DAYLIGHT
BEGIN:STANDARD
TZOFFSETFROM:-0700
TZOFFSETTO:-0800
TZNAME:PST
DTSTART:20251102T090000
END:STANDARD
BEGIN:DAYLIGHT
TZOFFSETFROM:-0800
TZOFFSETTO:-0700
TZNAME:PDT
DTSTART:20260308T100000
END:DAYLIGHT
BEGIN:STANDARD
TZOFFSETFROM:-0700
TZOFFSETTO:-0800
TZNAME:PST
DTSTART:20261101T090000
END:STANDARD
END:VTIMEZONE
BEGIN:VEVENT
DTSTART;TZID=America/Los_Angeles:20251026T110000
DTEND;TZID=America/Los_Angeles:20251026T130000
DTSTAMP:20260421T182003
CREATED:20250930T052032Z
LAST-MODIFIED:20251021T033433Z
UID:10000791-1761476400-1761483600@sactownsupermom.com
SUMMARY:Floating Pumpkin Patch at Antelope Aquatic Complex
DESCRIPTION:Jump into a pool of pumpkins in a floating pumpkin patch at Antelope Aquatic Complex on Sunday\, October 26\, 2025. There will also be decorating booths at the event.
URL:https://sactownsupermom.com/event/floating-pumpkin-patch-at-antelope-aquatic-complex/
LOCATION:Antelope Aquatic Complex\, 7990 Palmerson Drive\, Antelope\, CA\, 95843
CATEGORIES:Fall,Oct 24-26
END:VEVENT
BEGIN:VEVENT
DTSTART;TZID=America/Los_Angeles:20251026T100000
DTEND;TZID=America/Los_Angeles:20251026T170000
DTSTAMP:20260421T182003
CREATED:20251024T151717Z
LAST-MODIFIED:20251024T151717Z
UID:10000892-1761472800-1761498000@sactownsupermom.com
SUMMARY:Back to the Future Day
DESCRIPTION:Celebrate Back to the Future Day on Sunday\, October 26\, 2025 at the California Automobile Museum. Check out the museum’s DeLorean and enjoy fun surprises at the museum.
URL:https://sactownsupermom.com/event/back-to-the-future-day/
LOCATION:California Automobile Museum\, 2200 Front Street\, Sacramento\, CA\, 95818
CATEGORIES:Oct 24-26
END:VEVENT
BEGIN:VEVENT
DTSTART;TZID=America/Los_Angeles:20251026T093000
DTEND;TZID=America/Los_Angeles:20251026T100000
DTSTAMP:20260421T182003
CREATED:20251021T013838Z
LAST-MODIFIED:20251021T013838Z
UID:10000879-1761471000-1761472800@sactownsupermom.com
SUMMARY:Grow Resilient Families Free Music Class
DESCRIPTION:Join Ms. Phoebe of Grow Resilient Families for a free music class on Sunday\, October 26\, 2025 at Moonbelly Bakery in East Sacramento. While the event is free\, purchasing a pastry or coffee is encouraged.
URL:https://sactownsupermom.com/event/grow-resilient-families-free-music-class/
LOCATION:Moonbelly Bakery\, 6511 Folsom Blvd\, Sacramento\, CA\, 95819
CATEGORIES:Oct 24-26
END:VEVENT
BEGIN:VEVENT
DTSTART;TZID=America/Los_Angeles:20251026T090000
DTEND;TZID=America/Los_Angeles:20251026T130000
DTSTAMP:20260421T182003
CREATED:20251021T014456Z
LAST-MODIFIED:20251021T014456Z
UID:10000880-1761469200-1761483600@sactownsupermom.com
SUMMARY:Gourds & Ghouls Halloween Market
DESCRIPTION:The free Gourds & Ghouls Halloween Market will take place at the Meadowview Farmers Market on Sunday\, October 26\, 2025. The event will include pumpkin decorating\, face painting\, gourd derby races\, and more fall fun. \nA schedule of events is below: \n\n9am-1pm: Pumpkin decorating\, live music\, fall photobooth\n10am-1pm: Face painting\n10:30am: Costume Contest\n11am: Gourd Derby Races
URL:https://sactownsupermom.com/event/gourds-ghouls-halloween-market/
LOCATION:Meadowview Light Rail Station\, 3501 Meadowview Rd\, Sacramento\, CA\, 95822
CATEGORIES:Fall
END:VEVENT
BEGIN:VEVENT
DTSTART;TZID=America/Los_Angeles:20251026T090000
DTEND;TZID=America/Los_Angeles:20251026T110000
DTSTAMP:20260421T182003
CREATED:20251021T042512Z
LAST-MODIFIED:20251021T042512Z
UID:10000884-1761469200-1761476400@sactownsupermom.com
SUMMARY:Halloween Party at BusyKids
DESCRIPTION:A Halloween Party takes place at BusyKids Folsom on Sunday\, October 26\, 2025. There will be snacks\, a witch\, potions\, and more.
URL:https://sactownsupermom.com/event/halloween-party-at-busykids/
LOCATION:BusyKids\, 1014 Riley St\, Folsom\, CA\, 95630
CATEGORIES:Fall
END:VEVENT
BEGIN:VEVENT
DTSTART;TZID=America/Los_Angeles:20251026T070000
DTEND;TZID=America/Los_Angeles:20251026T110000
DTSTAMP:20260421T182003
CREATED:20250928T013652Z
LAST-MODIFIED:20251021T063747Z
UID:10000781-1761462000-1761476400@sactownsupermom.com
SUMMARY:Dia de los Miles
DESCRIPTION:The Dia de los Miles race will take place on Sunday\, October 26\, 2025 at District 56 in Elk Grove. There will be a 5k and kids’ fun runs for ages 12 and under. Strollers are welcome on the course.
URL:https://sactownsupermom.com/event/dia-de-los-miles/
LOCATION:District 56\, 8230 Civic Center Dr #100\, Elk Grove\, CA\, 95757
CATEGORIES:Dia de los Muertos
END:VEVENT
BEGIN:VEVENT
DTSTART;TZID=America/Los_Angeles:20251025T180000
DTEND;TZID=America/Los_Angeles:20251025T200000
DTSTAMP:20260421T182003
CREATED:20251021T015116Z
LAST-MODIFIED:20251021T015116Z
UID:10000881-1761415200-1761422400@sactownsupermom.com
SUMMARY:A Very Spooky Circus
DESCRIPTION:A Very Spooky Circus Fire & Aerial Show takes to Folsom skies on Saturday\, October 25\, 2025. The circus gets a spooky twist with acts\, tricks\, and stunts. Tickets are going fast!
URL:https://sactownsupermom.com/event/a-very-spooky-circus/
LOCATION:Zittel Family Ampitheatre\, 200 Wool Street\, Folsom\, CA\, 95630
CATEGORIES:Oct 24-26
END:VEVENT
BEGIN:VEVENT
DTSTART;TZID=America/Los_Angeles:20251025T170000
DTEND;TZID=America/Los_Angeles:20251025T200000
DTSTAMP:20260421T182003
CREATED:20251020T061041Z
LAST-MODIFIED:20251021T033409Z
UID:10000869-1761411600-1761422400@sactownsupermom.com
SUMMARY:Davis Food Co-op Halloween Block Party
DESCRIPTION:The Annual Davis Food Co-op Halloween Block Party takes place on Saturday\, October 25\, 2025. This free community event will have trick-or-treating\, games\, a scavenger hunt\, food\, vendors\, and more.
URL:https://sactownsupermom.com/event/davis-food-co-op-halloween-block-party/
LOCATION:Davis Food Co-op\, 620 G St\, Davis\, CA\, 95616
CATEGORIES:Free Halloween,Oct 24-26
END:VEVENT
BEGIN:VEVENT
DTSTART;TZID=America/Los_Angeles:20251025T163000
DTEND;TZID=America/Los_Angeles:20251025T183000
DTSTAMP:20260421T182003
CREATED:20251024T150649Z
LAST-MODIFIED:20251024T150649Z
UID:10000891-1761409800-1761417000@sactownsupermom.com
SUMMARY:East Sac Trunk-or-Treat and Chili Cook-Off
DESCRIPTION:A free trunk-or-treat and chili cook-off will take place on Saturday\, October 25\, 2025. The community is welcome to attend this free event at Friends Church in East Sacramento. There will also be bounce houses\, games\, and more family fun.
URL:https://sactownsupermom.com/event/east-sac-trunk-or-treat-and-chili-cook-off/
LOCATION:Friends Church Sacramento\, 4001 E Street\, Sacramento\, CA\, 95819
CATEGORIES:Free Halloween
END:VEVENT
BEGIN:VEVENT
DTSTART;TZID=America/Los_Angeles:20251025T160000
DTEND;TZID=America/Los_Angeles:20251025T190000
DTSTAMP:20260421T182003
CREATED:20251017T194925Z
LAST-MODIFIED:20251017T194925Z
UID:10000860-1761408000-1761418800@sactownsupermom.com
SUMMARY:Trick-or-Treat on 4th Street in Old Town Galt
DESCRIPTION:Trick-or-Treat through 4th Street in Old Town Galt on Saturday\, October 25\, 2025. This free event will have candy for kids from local businesses and organizations.
URL:https://sactownsupermom.com/event/trick-or-treat-on-4th-street-in-old-town-galt/
LOCATION:400 4th St Ste 160\, Galt\, CA\, 95632
CATEGORIES:Free Halloween
END:VEVENT
BEGIN:VEVENT
DTSTART;TZID=America/Los_Angeles:20251025T153000
DTEND;TZID=America/Los_Angeles:20251025T170000
DTSTAMP:20260421T182003
CREATED:20251017T194053Z
LAST-MODIFIED:20251017T194053Z
UID:10000859-1761406200-1761411600@sactownsupermom.com
SUMMARY:Trick-or-Treat on Main Street Downtown Woodland
DESCRIPTION:Trick-or-Treat on Main Street in Downtown Woodland for free on Saturday\, October 25\, 2025. Several businesses will be handing out candy in Downtown Woodland. After trick-or-treating\, more spooky fun will take place in Heritage Plaza where there will be games\, activities for kids\, and a costume contest.
URL:https://sactownsupermom.com/event/trick-or-treat-on-main-street-downtown-woodland/
LOCATION:Downtown Woodland\, Woodland\, CA
CATEGORIES:Free Halloween
END:VEVENT
BEGIN:VEVENT
DTSTART;TZID=America/Los_Angeles:20251025T150000
DTEND;TZID=America/Los_Angeles:20251025T180000
DTSTAMP:20260421T182003
CREATED:20251021T024346Z
LAST-MODIFIED:20251021T024411Z
UID:10000882-1761404400-1761415200@sactownsupermom.com
SUMMARY:Socktoberfest Family Faire
DESCRIPTION:The Annual Socktoberfest Family Fun Faire hosted by Mosaic West Sac takes place on Saturday\, October 26\, 2025. Help sort socks collected from the winter clothing drive\, and participate in a free community event with carnival games\, trick-or-treating\, food\, music\, activities\, and more.
URL:https://sactownsupermom.com/event/socktoberfest-family-faire/
LOCATION:920 Drever St\, West Sacramento\, CA\, 95691
CATEGORIES:Free,Free Halloween,Oct 24-26
END:VEVENT
BEGIN:VEVENT
DTSTART;TZID=America/Los_Angeles:20251025T143000
DTEND;TZID=America/Los_Angeles:20251025T173000
DTSTAMP:20260421T182003
CREATED:20250930T232846Z
LAST-MODIFIED:20251021T033333Z
UID:10000796-1761402600-1761413400@sactownsupermom.com
SUMMARY:Halloween at Hagan
DESCRIPTION:Halloween at Hagan takes place on Saturday\, October 25\, 2025. A free trunk-or-treat will take place at this Rancho Cordova community event. There will also be carnival games\, an obstacle course\, a zombie run\, and more.
URL:https://sactownsupermom.com/event/halloween-at-hagan/
LOCATION:Hagan Community Park\, 2197 Chase Dr\, Rancho Cordova\, CA\, 95670
CATEGORIES:Free Halloween,Halloween,Oct 24-26
END:VEVENT
BEGIN:VEVENT
DTSTART;TZID=America/Los_Angeles:20251025T140000
DTEND;TZID=America/Los_Angeles:20251025T170000
DTSTAMP:20260421T182003
CREATED:20251005T041201Z
LAST-MODIFIED:20251005T041201Z
UID:10000817-1761400800-1761411600@sactownsupermom.com
SUMMARY:Festifall Trick-or-Treating in Historic Folsom
DESCRIPTION:Head over to Historic Folsom for Festifall trick-or-treating on Saturday\, October 25\, 2025. This free\, family-friendly event will have participating businesses along the 600-900 Blocks of Sutter Street passing out candy.
URL:https://sactownsupermom.com/event/festifall-trick-or-treating-in-historic-folsom/
LOCATION:Folsom Historic District\, 200 Wool St\, Folsom\, CA\, 95630
CATEGORIES:Free Halloween
END:VEVENT
BEGIN:VEVENT
DTSTART;TZID=America/Los_Angeles:20251025T140000
DTEND;TZID=America/Los_Angeles:20251025T153000
DTSTAMP:20260421T182003
CREATED:20251007T205215Z
LAST-MODIFIED:20251021T033309Z
UID:10000839-1761400800-1761406200@sactownsupermom.com
SUMMARY:Trick Art Treat at Crocker Art Museum
DESCRIPTION:Trick Art Treat takes place at the Crocker Art Museum on Saturday\, October 25\, 2025. This Halloween-themed event will have an artsy twist for kids of all ages. Enjoy trick-or-treating for art supplies\, hands-on art activities\, slime\, interactive performances by the Sacramento Ballet Second Company\, a brass band second line\, and more.
URL:https://sactownsupermom.com/event/trick-art-treat-at-crocker-art-museum/
LOCATION:Crocker Art Museum\, 216 O Street\, Sacramento\, CA\, 95814
CATEGORIES:Halloween,Oct 24-26
END:VEVENT
BEGIN:VEVENT
DTSTART;TZID=America/Los_Angeles:20251025T130000
DTEND;TZID=America/Los_Angeles:20251025T170000
DTSTAMP:20260421T182003
CREATED:20251001T012320Z
LAST-MODIFIED:20251021T033241Z
UID:10000799-1761397200-1761411600@sactownsupermom.com
SUMMARY:Ofrendas y Recuerdos: A Celebration of Life & Legacy
DESCRIPTION:A free Día de los Muertos (Day of the Dead) Celebration will take place at Arden Fair on Saturday\, October 25\, 2025. The event will include sugar skull decorating\, interactive workshops\, and live performances. \nThis event is part of Ofrendas y Recuerdos: A Celebration of Life & Legacy. From September 15 – November 2\, 2025\, an art installation in Arden Fair will show marigolds\, sugar skulls\, and an ofrenda.
URL:https://sactownsupermom.com/event/ofrendas-y-recuerdos-a-celebration-of-life-legacy/
LOCATION:Arden Fair\, 1689 Arden Way\, #1167\, Sacramento\, CA\, 95815
CATEGORIES:Dia de los Muertos,Oct 24-26
END:VEVENT
BEGIN:VEVENT
DTSTART;TZID=America/Los_Angeles:20251025T130000
DTEND;TZID=America/Los_Angeles:20251025T160000
DTSTAMP:20260421T182003
CREATED:20251005T044440Z
LAST-MODIFIED:20251021T033213Z
UID:10000820-1761397200-1761408000@sactownsupermom.com
SUMMARY:Howe Park's Frightfully Fun Carnival
DESCRIPTION:Get ready for Howe Park’s Frightfully Fun Carnival on Saturday\, October 25\, 2025. This free event will have candy\, games\, a train ride\, and Halloween fun.
URL:https://sactownsupermom.com/event/howe-parks-frightfully-fun-carnival/
LOCATION:Howe Park\, 2201 Cottage Way\, Sacramento\, CA\, 95825
CATEGORIES:Free Halloween,Oct 24-26
END:VEVENT
BEGIN:VEVENT
DTSTART;TZID=America/Los_Angeles:20251025T120000
DTEND;TZID=America/Los_Angeles:20251025T170000
DTSTAMP:20260421T182003
CREATED:20251015T050921Z
LAST-MODIFIED:20251021T033150Z
UID:10000856-1761393600-1761411600@sactownsupermom.com
SUMMARY:Día de los Muertos in Northgate Park
DESCRIPTION:Día de los Muertos takes place on Saturday\, October 25\, 2025 in Northgate Park. There will be community altars\, ballet folklirico\, vendors\, music\, and more.
URL:https://sactownsupermom.com/event/dia-de-los-muertos-in-northgate-park/
LOCATION:Northgate Park\, 2825 Mendel Way\, Sacramento\, CA\, 95833
CATEGORIES:Dia de los Muertos,Oct 24-26
END:VEVENT
BEGIN:VEVENT
DTSTART;TZID=America/Los_Angeles:20251025T120000
DTEND;TZID=America/Los_Angeles:20251025T150000
DTSTAMP:20260421T182003
CREATED:20251001T013142Z
LAST-MODIFIED:20251001T013142Z
UID:10000800-1761393600-1761404400@sactownsupermom.com
SUMMARY:Midtown Halloween Festival & Pooch Parade
DESCRIPTION:The annual Midtown Halloween Festival & Pooch Parade returns on Saturday\, October 25\, 2025. While dogs in a costume parade are the main event\, there will be lots of family fun for kids such as arts & crafts\, photo ops\, live entertainment\, and more. \nPets can be registered in advance.
URL:https://sactownsupermom.com/event/midtown-halloween-festival-pooch-parade/
LOCATION:Marshall Park\, 915 27th St\, Sacramento\, CA\, 95816
CATEGORIES:Free Halloween,Halloween,October
END:VEVENT
BEGIN:VEVENT
DTSTART;TZID=America/Los_Angeles:20251025T110000
DTEND;TZID=America/Los_Angeles:20251025T170000
DTSTAMP:20260421T182003
CREATED:20251003T050056Z
LAST-MODIFIED:20251021T033127Z
UID:10000809-1761390000-1761411600@sactownsupermom.com
SUMMARY:Trick or Treat Safetyville
DESCRIPTION:Kids can safely trick-or-treat in the miniature city of Safetyville on Saturday\, October 25\, 2025. Trick-or-treat stations will be set up throughout the mini city. While Safetyville USA is typically known for biking\, there will be no bikes or scooters allowed at this event. \nChoose from 3 timed event entries. Food and activities will be at the event including face painting\, pumpkin decorating\, caramel apple making\, etc. These activities cost extra and are paid for by tickets.
URL:https://sactownsupermom.com/event/trick-or-treat-safetyville/
LOCATION:Safetyville USA\, 3909 Bradshaw Rd\, Sacramento\, CA\, 95827
CATEGORIES:Halloween,Oct 24-26
END:VEVENT
BEGIN:VEVENT
DTSTART;TZID=America/Los_Angeles:20251025T110000
DTEND;TZID=America/Los_Angeles:20251025T170000
DTSTAMP:20260421T182003
CREATED:20250927T212822Z
LAST-MODIFIED:20251021T033059Z
UID:10000742-1761390000-1761411600@sactownsupermom.com
SUMMARY:Lodi Comic Con Fall
DESCRIPTION:The Fall Lodi Comic Con will take place on Saturday\, October 25\, 2025 at the Lodi Grape Festival Grounds. Expect cosplay\, pop culture\, and all things comics. Kids 12 and under receive free admission with a paying adult.
URL:https://sactownsupermom.com/event/lodi-comic-con-fall/
LOCATION:Lodi Grape Festival Fairgrounds\, 413 E. Lockeford St\, Lodi\, CA\, 95240
CATEGORIES:Lodi,Oct 24-26
END:VEVENT
BEGIN:VEVENT
DTSTART;TZID=America/Los_Angeles:20251025T110000
DTEND;TZID=America/Los_Angeles:20251025T140000
DTSTAMP:20260421T182003
CREATED:20251003T043728Z
LAST-MODIFIED:20251021T033039Z
UID:10000807-1761390000-1761400800@sactownsupermom.com
SUMMARY:Trunk-or-Treat & Autumn Festival
DESCRIPTION:The free Trunk-or-Treat & Autumn Festival will take place on Saturday\, October 25\, 2025 at North Natomas Regional Park. There will be a trunk-or-treat\, a free pumpkin patch\, costume contest\, bounce houses\, games\, face painting\, and more.
URL:https://sactownsupermom.com/event/trunk-or-treat-autumn-festival/
LOCATION:North Natomas Regional Park\, 4989 Natomas Blvd\, Sacramento\, CA\, 95835
CATEGORIES:Free Halloween,Halloween,Oct 24-26
END:VEVENT
BEGIN:VEVENT
DTSTART;TZID=America/Los_Angeles:20251025T110000
DTEND;TZID=America/Los_Angeles:20251025T130000
DTSTAMP:20260421T182003
CREATED:20251005T043819Z
LAST-MODIFIED:20251021T033008Z
UID:10000819-1761390000-1761397200@sactownsupermom.com
SUMMARY:Safe Trick-or-Treat Street
DESCRIPTION:Safe Trick-or-Treat street will take place on Saturday\, October 25\, 2025 at River City High School in West Sacramento. There will be free candy\, games\, and activity stations. This is an outdoor event at River City High School Stadium.
URL:https://sactownsupermom.com/event/safe-trick-or-treat-street/
LOCATION:River City High School Stadium\, 1 Raider Ln\, West Sacramento\, CA\, 95691
CATEGORIES:Free Halloween,Halloween,Oct 24-26
END:VEVENT
BEGIN:VEVENT
DTSTART;TZID=America/Los_Angeles:20251025T110000
DTEND;TZID=America/Los_Angeles:20251025T120000
DTSTAMP:20260421T182003
CREATED:20251020T220219Z
LAST-MODIFIED:20251020T220219Z
UID:10000876-1761390000-1761393600@sactownsupermom.com
SUMMARY:Día de los Muertos: Sugar Skull Decorating (South Davis)
DESCRIPTION:In honor of Día de los Muertos\, kids can participate in Sugar Skull Decorating and enjoy pan de muerto on Saturday\, October 25\, 2025 at the South Davis Montgomery Library. Available while supplies last.
URL:https://sactownsupermom.com/event/dia-de-los-muertos-sugar-skull-decorating-south-davis/
LOCATION:South Davis Montgomery Library\, 1441 Danbury St\, Davis\, CA\, 95618
CATEGORIES:Dia de los Muertos
END:VEVENT
BEGIN:VEVENT
DTSTART;TZID=America/Los_Angeles:20251025T110000
DTEND;TZID=America/Los_Angeles:20251025T120000
DTSTAMP:20260421T182003
CREATED:20250927T211238Z
LAST-MODIFIED:20250927T211238Z
UID:10000739-1761390000-1761393600@sactownsupermom.com
SUMMARY:Reptile Explorers at Carmichael Library
DESCRIPTION:Meet reptiles from Fairytale Town on Saturday\, October 25\, 2025 at the Carmichael Library. Learn about reptiles at this free event. Children under 8 must be supervised by an adult.
URL:https://sactownsupermom.com/event/reptile-explorers-at-carmichael-library/
LOCATION:Carmichael Library\, 5605 Marconi Ave.\, Carmichael\, CA\, 95608
CATEGORIES:Sacramento Library
END:VEVENT
BEGIN:VEVENT
DTSTART;TZID=America/Los_Angeles:20251025T100000
DTEND;TZID=America/Los_Angeles:20251025T140000
DTSTAMP:20260421T182003
CREATED:20251001T033911Z
LAST-MODIFIED:20251021T200941Z
UID:10000801-1761386400-1761400800@sactownsupermom.com
SUMMARY:Pumpkins & Planes: Halloween in the Air Park
DESCRIPTION:Fly over to the Aerospace Museum of California for Pumpkins & Planes on Saturday\, October 25\, 2025. This Halloween event will have trick-or-treat stations\, Halloween-themed crafts\, a spooky walk-through of the Jolly Green Giant helicopter\, games\, and more.
URL:https://sactownsupermom.com/event/pumpkins-planes-halloween-in-the-air-park/
LOCATION:Aerospace Museum of California\, 3200 Freedom Park Drive\, McClellan\, CA\, 95652
CATEGORIES:Halloween,Oct 24-26,October
END:VEVENT
BEGIN:VEVENT
DTSTART;TZID=America/Los_Angeles:20251025T100000
DTEND;TZID=America/Los_Angeles:20251025T140000
DTSTAMP:20260421T182003
CREATED:20250921T043856Z
LAST-MODIFIED:20251021T031238Z
UID:10000689-1761386400-1761400800@sactownsupermom.com
SUMMARY:Trunk-or-Treat at California Automobile Museum
DESCRIPTION:A trunk-or-treat will take place at the California Automobile Museum on Saturday\, October 25\, 2025. Kids will get to trick-or-treat inside the museum while checking out classic cars. There will be a haunted house for older children. Kids 5 and under are free.
URL:https://sactownsupermom.com/event/trunk-or-treat-at-california-automobile-museum/
LOCATION:California Automobile Museum\, 2200 Front Street\, Sacramento\, CA\, 95818
CATEGORIES:Halloween,Oct 24-26,October,Trunk-or-Treat
END:VEVENT
BEGIN:VEVENT
DTSTART;TZID=America/Los_Angeles:20251025T100000
DTEND;TZID=America/Los_Angeles:20251025T140000
DTSTAMP:20260421T182003
CREATED:20250921T034717Z
LAST-MODIFIED:20251021T031217Z
UID:10000686-1761386400-1761400800@sactownsupermom.com
SUMMARY:Wild Howl-O-Ween at Folsom City Zoo Sanctuary
DESCRIPTION:Go wild for trick-or-treating at the Folsom City Zoo Sanctuary. Wild Howl-O-Ween at Folsom City Zoo Sanctuary takes place on Saturday\, October 25\, 2025. \nChildren under 2 receive free event admission. Tickets are limited and must be purchased online\, in advance. Learn more about visiting the Folsom City Zoo Sanctuary with kids.
URL:https://sactownsupermom.com/event/wild-howl-o-ween-at-folsom-city-zoo-sanctuary/
LOCATION:Folsom City Zoo Sanctuary\, 403 Stafford Street\, Folsom\, CA\, 95630
CATEGORIES:Halloween,Oct 24-26,October
END:VEVENT
BEGIN:VEVENT
DTSTART;TZID=America/Los_Angeles:20251025T100000
DTEND;TZID=America/Los_Angeles:20251025T130000
DTSTAMP:20260421T182003
CREATED:20250921T035519Z
LAST-MODIFIED:20251021T031049Z
UID:10000687-1761386400-1761397200@sactownsupermom.com
SUMMARY:Trunk-or-Treat with Folsom Police and Fire
DESCRIPTION:The Annual free trunk-or-treat with Folsom Police and Fire will take place on Saturday\, October 25\, 2025. Dress in your Halloween costume and bring a treat bag while exploring service vehicles.
URL:https://sactownsupermom.com/event/trunk-or-treat-with-folsom-police-and-fire/
LOCATION:46 Natoma Street\, Folsom\, CA\, 95630
CATEGORIES:Free Halloween,Halloween,Oct 24-26,October,Trunk-or-Treat
END:VEVENT
BEGIN:VEVENT
DTSTART;TZID=America/Los_Angeles:20251025T090000
DTEND;TZID=America/Los_Angeles:20251025T130000
DTSTAMP:20260421T182003
CREATED:20251017T202009Z
LAST-MODIFIED:20251025T165356Z
UID:10000861-1761382800-1761397200@sactownsupermom.com
SUMMARY:Halloween at the Farm (Cancelled)
DESCRIPTION:Note: This event has been cancelled due to weather. Celebrate Halloween at the Farm on Saturday\, October 25\, 2025 at Soil Born Farms in Rancho Cordova. The Spooktacular Youth Garden will have nature crafts for kids\, pumpkin decorating\, and make-your-own flower crowns. There will also be a meet and greet with creepy crawlers. Adults receive free admission when accompanying their child.
URL:https://sactownsupermom.com/event/halloween-at-the-farm/
LOCATION:Soil Born Farms\, 2140 Chase Dr.\, Rancho Cordova\, CA\, 95670
CATEGORIES:Halloween,Oct 24-26
END:VEVENT
END:VCALENDAR