BEGIN:VCALENDAR
VERSION:2.0
PRODID:-//Sactown Supermom - ECPv6.15.20//NONSGML v1.0//EN
CALSCALE:GREGORIAN
METHOD:PUBLISH
X-WR-CALNAME:Sactown Supermom
X-ORIGINAL-URL:https://sactownsupermom.com
X-WR-CALDESC:Events for Sactown Supermom
REFRESH-INTERVAL;VALUE=DURATION:PT1H
X-Robots-Tag:noindex
X-PUBLISHED-TTL:PT1H
BEGIN:VTIMEZONE
TZID:America/Los_Angeles
BEGIN:DAYLIGHT
TZOFFSETFROM:-0800
TZOFFSETTO:-0700
TZNAME:PDT
DTSTART:20240310T100000
END:DAYLIGHT
BEGIN:STANDARD
TZOFFSETFROM:-0700
TZOFFSETTO:-0800
TZNAME:PST
DTSTART:20241103T090000
END:STANDARD
BEGIN:DAYLIGHT
TZOFFSETFROM:-0800
TZOFFSETTO:-0700
TZNAME:PDT
DTSTART:20250309T100000
END:DAYLIGHT
BEGIN:STANDARD
TZOFFSETFROM:-0700
TZOFFSETTO:-0800
TZNAME:PST
DTSTART:20251102T090000
END:STANDARD
BEGIN:DAYLIGHT
TZOFFSETFROM:-0800
TZOFFSETTO:-0700
TZNAME:PDT
DTSTART:20260308T100000
END:DAYLIGHT
BEGIN:STANDARD
TZOFFSETFROM:-0700
TZOFFSETTO:-0800
TZNAME:PST
DTSTART:20261101T090000
END:STANDARD
END:VTIMEZONE
BEGIN:VEVENT
DTSTART;TZID=America/Los_Angeles:20251101T170000
DTEND;TZID=America/Los_Angeles:20251101T190000
DTSTAMP:20260421T143428
CREATED:20250922T214503Z
LAST-MODIFIED:20251029T061132Z
UID:10000708-1762016400-1762023600@sactownsupermom.com
SUMMARY:Día de los Muertos Community Night at Sacramento Children's Museum
DESCRIPTION:Celebrate Día de los Muertos Community Night at the Sacramento Children’s Museum on Saturday\, November 1\, 2025. Kids will be able to add mementos to the museum’s ofrenda\, enjoy face painting\, interactive activities\, and participate in a sugar skulls workshop for an additional fee. \nSugar skulls workshops will take place at 5:30pm and 6pm. Each skull is $15 and supplies are limited. To participate\, register at the front desk when the event begins.
URL:https://sactownsupermom.com/event/dia-de-los-muertos-community-night-at-sacramento-childrens-museum/
LOCATION:Sacramento Children’s Museum\, 2701 Prospect Park\, Rancho Cordova\, CA\, 95670
CATEGORIES:Dia de los Muertos,Nov 1-2,November
END:VEVENT
BEGIN:VEVENT
DTSTART;TZID=America/Los_Angeles:20251101T160000
DTEND;TZID=America/Los_Angeles:20251101T190000
DTSTAMP:20260421T143428
CREATED:20251015T052754Z
LAST-MODIFIED:20251015T052754Z
UID:10000857-1762012800-1762023600@sactownsupermom.com
SUMMARY:TANA’s Día de Muertos Celebration
DESCRIPTION:TANA’s Día de Muertos Celebration will take place on Saturday\, November 1\, 2025 in Woodland. This family-friendly event will have interactive crafts and a community altar. \n 
URL:https://sactownsupermom.com/event/tanas-dia-de-muertos-celebration/
LOCATION:TANA\, 1224 Lemen Ave\, Woodland\, CA\, 95776
CATEGORIES:Dia de los Muertos
END:VEVENT
BEGIN:VEVENT
DTSTART;TZID=America/Los_Angeles:20251101T140000
DTEND;TZID=America/Los_Angeles:20251101T150000
DTSTAMP:20260421T143428
CREATED:20251029T044620Z
LAST-MODIFIED:20251029T044856Z
UID:10000904-1762005600-1762009200@sactownsupermom.com
SUMMARY:Goldie B. Locks and the Three Singing Bears
DESCRIPTION:A kid-friendly four-person operatic of Goldie B. Locks and the Three Singing Bears will be performed for kids of all ages on Saturday\, November 1\, 2025 at the Knights Landing Branch Library. This free performance is presented by the Sacramento Philharmonic and Opera\, and Yolo County Library.
URL:https://sactownsupermom.com/event/goldie-b-locks-and-the-three-singing-bears/
LOCATION:Knights Landing Branch Library\, 42351 Third St\, Knights Landing\, 95645
CATEGORIES:Nov 1-2
END:VEVENT
BEGIN:VEVENT
DTSTART;TZID=America/Los_Angeles:20251101T140000
DTEND;TZID=America/Los_Angeles:20251101T144500
DTSTAMP:20260421T143428
CREATED:20251029T052219Z
LAST-MODIFIED:20251029T052219Z
UID:10000911-1762005600-1762008300@sactownsupermom.com
SUMMARY:Mad Science: Sounds Like Science
DESCRIPTION:Kids can check out a free Mad Science performance at the Arcade Library on Saturday\, November 1\, 2025. There will lively experiments and demonstrations including the loud dinosaur-in-a-can\, a kid-created thunderstorm\, a glowing electric pickle\, and more.
URL:https://sactownsupermom.com/event/mad-science-sounds-like-science/
LOCATION:Arcade Library\, 2443 Marconi Avenue\, Sacramento\, CA\, 95821
CATEGORIES:Nov 1-2
END:VEVENT
BEGIN:VEVENT
DTSTART;TZID=America/Los_Angeles:20251101T130000
DTEND;TZID=America/Los_Angeles:20251102T150000
DTSTAMP:20260421T143428
CREATED:20251020T173302Z
LAST-MODIFIED:20251020T173302Z
UID:10000871-1762002000-1762095600@sactownsupermom.com
SUMMARY:Día de los Muertos at Dave's Pumpkin Patch
DESCRIPTION:Celebrate Día de los Muertos at Dave’s Pumpkin Patch on Saturday and Sunday\, November 1 & 2\, 2025. There will be Mariachi performances\, face painting\, and an Ofrenda that visitors can contribute photos and notes.
URL:https://sactownsupermom.com/event/dia-de-los-muertos-at-daves-pumpkin-patch/
LOCATION:Dave’s Pumpkin Patch
CATEGORIES:Dia de los Muertos
END:VEVENT
BEGIN:VEVENT
DTSTART;TZID=America/Los_Angeles:20251101T120000
DTEND;TZID=America/Los_Angeles:20251101T190000
DTSTAMP:20260421T143428
CREATED:20251024T194228Z
LAST-MODIFIED:20251029T061019Z
UID:10000893-1761998400-1762023600@sactownsupermom.com
SUMMARY:Davis Chamber of Commerce Dia de Muertos
DESCRIPTION:The Davis Chamber of Commerce Dia de Muertos celebration takes place on Saturday\, November 1\, 2025 at G Street Plaza. There will be ofrendas from 4-7pm\, and vendor booths from 4:30-7pm.
URL:https://sactownsupermom.com/event/davis-chamber-of-commerce-dia-de-muertos/
LOCATION:G Street Plaza\, Davis\, CA\, 95616
CATEGORIES:Dia de los Muertos,Nov 1-2
END:VEVENT
BEGIN:VEVENT
DTSTART;TZID=America/Los_Angeles:20251101T110000
DTEND;TZID=America/Los_Angeles:20251102T190000
DTSTAMP:20260421T143428
CREATED:20250921T155644Z
LAST-MODIFIED:20251029T060848Z
UID:10000704-1761994800-1762110000@sactownsupermom.com
SUMMARY:2025 Autumn Lantern Festival & Night Market
DESCRIPTION:The free two-day Autumn Lantern Festival & Night Market will take place on November 1-2\, 2025. There will be free lanterns for kids with pre-registration. There will be performances\, a Silk Lantern display from Hoi An\, food vendors\, and more.
URL:https://sactownsupermom.com/event/2025-autumn-lantern-festival-night-market/
LOCATION:Power Inn Lightrail Station\, 3009 Power Inn Rd\, Sacramento\, CA\, 95826
CATEGORIES:Fall Festivals,Nov 1-2,November
END:VEVENT
BEGIN:VEVENT
DTSTART;TZID=America/Los_Angeles:20251101T110000
DTEND;TZID=America/Los_Angeles:20251101T163000
DTSTAMP:20260421T143428
CREATED:20251029T043924Z
LAST-MODIFIED:20251029T043924Z
UID:10000903-1761994800-1762014600@sactownsupermom.com
SUMMARY:Golden Harvest Parade & Festival
DESCRIPTION:The Golden Harvest Parade & Festival takes place on Saturday\, November 1\, 2025. The parade celebrates peace and harmony and begins and ends at 9th Street / Capitol Mall. There will be marching bands\, floats\, and more. A festival occurs after the parade at the West Side of Capitol. There will be food\, vendors\, children’s games\, performances\, and more. \nA schedule is below: \n\n11am – 12:30pm – Parade\n10am – 4:30pm – Festival
URL:https://sactownsupermom.com/event/golden-harvest-parade-festival/
LOCATION:9th Street / Capitol Mall\, Sacramento\, CA
CATEGORIES:Nov 1-2,November
END:VEVENT
BEGIN:VEVENT
DTSTART;TZID=America/Los_Angeles:20251101T110000
DTEND;TZID=America/Los_Angeles:20251101T160000
DTSTAMP:20260421T143428
CREATED:20251029T050315Z
LAST-MODIFIED:20251029T050315Z
UID:10000909-1761994800-1762012800@sactownsupermom.com
SUMMARY:8th Annual Winters Salmon Festival
DESCRIPTION:The Annual Winters Salmon Festival takes place on Saturday\, November 1\, 2025. This free family-friendly event honors the Fall-Run Chinook Salmon returning to Putah Creek. The festival will have activities for kids\, vendors\, live music\, food trucks\, and more.
URL:https://sactownsupermom.com/event/8th-annual-winters-salmon-festival/
LOCATION:Rotary Park\, 201 Railroad Avenue\, Winters\, CA\, 95694
CATEGORIES:Nov 1-2,November
END:VEVENT
BEGIN:VEVENT
DTSTART;TZID=America/Los_Angeles:20251101T110000
DTEND;TZID=America/Los_Angeles:20251101T140000
DTSTAMP:20260421T143428
CREATED:20251020T214605Z
LAST-MODIFIED:20251029T061632Z
UID:10000872-1761994800-1762005600@sactownsupermom.com
SUMMARY:Make Your Own Mini Ofrenda
DESCRIPTION:Create a mini ofrenda with the Sacramento History Museum on Saturday\, November 1\, 2025. This event is for all ages. Kids will get to make a mini shoebox ofrenda. The workshop will begin at the Sacramento History Museum to view the museum’s Día de los Muertos exhibition. The workshop will then move over to the Hastings Annex building at 1002 2nd Street in Old Sacramento. Spots are limited and registration is required. \n 
URL:https://sactownsupermom.com/event/make-your-own-mini-ofrenda/
LOCATION:Hastings Annex\, 1002 2nd Street\, Sacramento\, CA\, 95814
CATEGORIES:Dia de los Muertos,Nov 1-2
END:VEVENT
BEGIN:VEVENT
DTSTART;TZID=America/Los_Angeles:20251101T100000
DTEND;TZID=America/Los_Angeles:20251101T160000
DTSTAMP:20260421T143428
CREATED:20251029T053132Z
LAST-MODIFIED:20251029T053132Z
UID:10000912-1761991200-1762012800@sactownsupermom.com
SUMMARY:Sacramento Water Festival 2025
DESCRIPTION:The Sacramento Water Festival takes place on Saturday\, November 1\, 2025 at Discovery Park. This free festival will have kids’ activities\, live music and performances\, vendors\, and more.
URL:https://sactownsupermom.com/event/sacramento-water-festival-2025/
LOCATION:Discovery Park\, 1600 Garden Hwy\, Sacramento\, CA\, 95833
CATEGORIES:Nov 1-2
END:VEVENT
BEGIN:VEVENT
DTSTART;TZID=America/Los_Angeles:20251101T100000
DTEND;TZID=America/Los_Angeles:20251101T140000
DTSTAMP:20260421T143428
CREATED:20251029T050940Z
LAST-MODIFIED:20251029T051121Z
UID:10000910-1761991200-1762005600@sactownsupermom.com
SUMMARY:Geology Day at Koobs Nature Area
DESCRIPTION:The Koobs Nature Area will be open to the public for Geology Day on Saturday\, November 1\, 2025. This free event will have activities for families ranging from kindness rocks\, watercolor geodes\, painting\, sand\, and rocks and crystals for kids to observe. \n 
URL:https://sactownsupermom.com/event/bugs-day-at-koobs-nature-area-2/
LOCATION:Earl J. Koobs Nature Area\, 5325 Engle Rd\, Carmichael\, CA\, 95608
CATEGORIES:Nature,Nov 1-2,November
END:VEVENT
BEGIN:VEVENT
DTSTART;TZID=America/Los_Angeles:20251101T100000
DTEND;TZID=America/Los_Angeles:20251101T140000
DTSTAMP:20260421T143428
CREATED:20251026T181622Z
LAST-MODIFIED:20251030T050818Z
UID:10000895-1761991200-1762005600@sactownsupermom.com
SUMMARY:Culture Without Borders at Maidu Library
DESCRIPTION:Culture Without Borders will focus on Dia de los Muertos on Saturday\, November 1\, 2025 at the Maidu Library in Roseville. There will be sugar skull decorating\, Dance ballet folklorico\, and play Loteria at this free community event. 
URL:https://sactownsupermom.com/event/culture-without-borders-at-maidu-library/
LOCATION:Maidu Library\, 1530 Maidu Dr\, Roseville\, CA\, 95661
CATEGORIES:Dia de los Muertos,Nov 1-2
END:VEVENT
BEGIN:VEVENT
DTSTART;TZID=America/Los_Angeles:20251101T100000
DTEND;TZID=America/Los_Angeles:20251101T130000
DTSTAMP:20260421T143428
CREATED:20251031T201025Z
LAST-MODIFIED:20251031T201025Z
UID:10000915-1761991200-1762002000@sactownsupermom.com
SUMMARY:Dia de Muertos Trunk-or-Treat
DESCRIPTION:NorCal Resist will host a free Dia de Muertos Trunk-or-Treat on Saturday\, November 1\, 2025. The trunk-or-treat will be in connection to their free auto light repair program. There will be candy\, food\, and more. \n 
URL:https://sactownsupermom.com/event/dia-de-muertos-trunk-or-treat/
LOCATION:2775 Cottage Way\, Sacramento\, CA\, 95825
CATEGORIES:Dia de los Muertos,Nov 1-2
END:VEVENT
BEGIN:VEVENT
DTSTART;TZID=America/Los_Angeles:20251101T090000
DTEND;TZID=America/Los_Angeles:20251101T140000
DTSTAMP:20260421T143428
CREATED:20251029T054253Z
LAST-MODIFIED:20251029T054253Z
UID:10000913-1761987600-1762005600@sactownsupermom.com
SUMMARY:Celebrate Galt
DESCRIPTION:Celebrate Galt takes place on Saturday\, November 1\, 2025\, and concludes the Saturday Market season. There will be a carnival\, children’s makers mart\, local vendors\, live music\, and more.
URL:https://sactownsupermom.com/event/celebrate-galt/
LOCATION:4th St. Promenade\, Galt\, CA\, 95632
CATEGORIES:Nov 1-2
END:VEVENT
BEGIN:VEVENT
DTSTART;TZID=America/Los_Angeles:20251101T090000
DTEND;TZID=America/Los_Angeles:20251101T110000
DTSTAMP:20260421T143428
CREATED:20250928T012311Z
LAST-MODIFIED:20250928T012311Z
UID:10000780-1761987600-1761994800@sactownsupermom.com
SUMMARY:Día De Los Muertos 5k Race
DESCRIPTION:The Día De Los Muertos 5k Race will take place on Saturday\, November 1\, 2025. The race will occur at North Natomas Regional Park on a fully paved loop around the park. The course is flat and strollers are welcome.
URL:https://sactownsupermom.com/event/dia-de-los-muertos-5k-race/
LOCATION:North Natomas Regional Park\, 4989 Natomas Blvd\, Sacramento\, CA\, 95835
CATEGORIES:Dia de los Muertos
END:VEVENT
BEGIN:VEVENT
DTSTART;TZID=America/Los_Angeles:20251031T190000
DTEND;TZID=America/Los_Angeles:20251031T220000
DTSTAMP:20260421T143428
CREATED:20250921T050620Z
LAST-MODIFIED:20250921T051116Z
UID:10000696-1761937200-1761948000@sactownsupermom.com
SUMMARY:Dave's Haunted Corn Maze
DESCRIPTION:Things get eerie at Dave’s Pumpkin Patch in West Sacramento during the last weekend in October. Dave’s Haunted Corn Maze will take place October 24 & 25\, 2025.
URL:https://sactownsupermom.com/event/daves-haunted-corn-maze/2025-10-31/
LOCATION:Dave’s Pumpkin Patch
CATEGORIES:Fall
END:VEVENT
BEGIN:VEVENT
DTSTART;TZID=America/Los_Angeles:20251031T180000
DTEND;TZID=America/Los_Angeles:20251031T220000
DTSTAMP:20260421T143428
CREATED:20250921T021831Z
LAST-MODIFIED:20251001T215856Z
UID:10000678-1761933600-1761948000@sactownsupermom.com
SUMMARY:Movies Under the Stars
DESCRIPTION:Get in the Halloween spirit by watching family-friendly\, Halloween-themed Movies Under the Stars in Old Sacramento every Thursday and Friday in October. \nHeadphones for the movies are provided. Prices range based on seat selections. Movies begin at sundown. \nA 2025 schedule of Movies Under the Stars is below – \n\nOctober 2 – Goonies\nOctober 3 – Practical Magic\nOctober 9 – Coco\nOctober 10 – Little Shop of Horrors\nOctober 16 & 17 – Hocus Pocus\nOctober 23 – Monsters\, Inc. \nOctober 24 – Ghostbusters\nOctober 30 – Beetlejuice\nOctober 31 – The Sixth Sense (This one may not be as kid-friendly) 
URL:https://sactownsupermom.com/event/movies-under-the-stars/2025-10-31/
LOCATION:Old Sacramento State Historic Park\, 111 I Street\, Sacramento\, CA\, 95814
CATEGORIES:Old Sacramento
END:VEVENT
BEGIN:VEVENT
DTSTART;TZID=America/Los_Angeles:20251031T180000
DTEND;TZID=America/Los_Angeles:20251031T200000
DTSTAMP:20260421T143428
CREATED:20251020T051120Z
LAST-MODIFIED:20251020T051120Z
UID:10000865-1761933600-1761940800@sactownsupermom.com
SUMMARY:Halloween Party at The Garden at The Line
DESCRIPTION:The Garden at The Line will have a free family-friendly Halloween Party on Friday\, October 31\, 2025. There will be a scavenger hunt and a kids’ edition costume contest.
URL:https://sactownsupermom.com/event/halloween-party-at-the-garden-at-the-line/
LOCATION:The Garden at The Line\, 6415 Elvas Ave\, Sacramento\, CA\, 95819
CATEGORIES:Fall
END:VEVENT
BEGIN:VEVENT
DTSTART;TZID=America/Los_Angeles:20251031T170000
DTEND;TZID=America/Los_Angeles:20251031T200000
DTSTAMP:20260421T143428
CREATED:20251005T171944Z
LAST-MODIFIED:20251029T212518Z
UID:10000832-1761930000-1761940800@sactownsupermom.com
SUMMARY:Southgate’s Halloween Carnival & Haunted House
DESCRIPTION:Southgate’s Jose P. Rizal Community Center will turn into a Halloween Carnival & Haunted House on Friday\, October 31\, 2025. The Halloween carnival will have games with candy prizes. There will be a candy walk\, as well as arts and crafts. A family-friendly Halloween movie will also be playing. Older kids can enjoy the Haunted House\, and there will be a designated scare-free zone for younger children. \nAdmission costs are below: \n\n $5 for kids ages 16 and under\nFree carnival for adults\n$2 unlimited Haunted House visits
URL:https://sactownsupermom.com/event/southgates-halloween-carnival-haunted-house/
LOCATION:Jose P. Rizal Community Center\, 7320 Florin Mall Dr\, Sacramento\, CA\, 95823
CATEGORIES:Halloween,Nov 1-2
END:VEVENT
BEGIN:VEVENT
DTSTART;TZID=America/Los_Angeles:20251031T170000
DTEND;TZID=America/Los_Angeles:20251031T200000
DTSTAMP:20260421T143428
CREATED:20251005T162635Z
LAST-MODIFIED:20251029T212927Z
UID:10000825-1761930000-1761940800@sactownsupermom.com
SUMMARY:#STYN Trunk or Treat
DESCRIPTION:The Annual #STYN Trunk-or-Treat at Mack Road Valley Hi Community Center takes place on Friday\, October 31\, 2025. This is a free Halloween event for the community with candy\, games\, food\, and more.
URL:https://sactownsupermom.com/event/styn-trunk-or-treat/
LOCATION:Mack Road Valley Hi Community Center\, 7833 Center Parkway\, Sacramento\, CA\, 95823
CATEGORIES:Free Halloween,Nov 1-2
END:VEVENT
BEGIN:VEVENT
DTSTART;TZID=America/Los_Angeles:20251031T170000
DTEND;TZID=America/Los_Angeles:20251031T190000
DTSTAMP:20260421T143428
CREATED:20251024T144942Z
LAST-MODIFIED:20251024T151936Z
UID:10000889-1761930000-1761937200@sactownsupermom.com
SUMMARY:Trick-or-Treat at Space To Play
DESCRIPTION:Trick-or-Treat on Friday\, October 31\, 2025 at Space To Play in Elk Grove. In addition to trick-or-treating\, there will be activities\, a costume parade\, and more fun for families.
URL:https://sactownsupermom.com/event/trick-or-treat-at-space-to-play/
LOCATION:Space To Play\, 9683 Elk Grove Florin Rd\, Elk Grove\, CA\, 95624
CATEGORIES:Fall
END:VEVENT
BEGIN:VEVENT
DTSTART;TZID=America/Los_Angeles:20251031T163000
DTEND;TZID=America/Los_Angeles:20251031T183000
DTSTAMP:20260421T143428
CREATED:20251005T155934Z
LAST-MODIFIED:20251029T212753Z
UID:10000823-1761928200-1761935400@sactownsupermom.com
SUMMARY:Safe & Sweet Trunk or Treat
DESCRIPTION:Join the Neighbors of College Glen for a Safe & Sweet Trunk or Treat on Halloween night\, October 31\, 2025. There will be a free trunk-or-treat\, kid-friendly activities\, crafts\, a costume contest\, and more.
URL:https://sactownsupermom.com/event/safe-sweet-trunk-or-treat/
LOCATION:3001 Wissemann Dr\, Sacramento\, CA\, 95826
CATEGORIES:Free Halloween,Nov 1-2
END:VEVENT
BEGIN:VEVENT
DTSTART;TZID=America/Los_Angeles:20251031T160000
DTEND;TZID=America/Los_Angeles:20251031T180000
DTSTAMP:20260421T143428
CREATED:20251005T050638Z
LAST-MODIFIED:20251029T212552Z
UID:10000821-1761926400-1761933600@sactownsupermom.com
SUMMARY:River District Halloween Costume Parade
DESCRIPTION:Join in on the fun at the River District Halloween Costume Parade on Friday\, October 31\, 2025 at Mirasol Village Park. This free community event on Halloween will have a costume parade for kids of all ages\, and trick-or-treating.
URL:https://sactownsupermom.com/event/river-district-halloween-costume-parade/
LOCATION:Mirasol Village Park\, 400 Pipevine St\, Sacramento\, CA\, 95811
CATEGORIES:Free Halloween,Nov 1-2
END:VEVENT
BEGIN:VEVENT
DTSTART;TZID=America/Los_Angeles:20251031T150000
DTEND;TZID=America/Los_Angeles:20251031T180000
DTSTAMP:20260421T143428
CREATED:20251024T135301Z
LAST-MODIFIED:20251024T135313Z
UID:10000887-1761922800-1761933600@sactownsupermom.com
SUMMARY:Halloween Spooktacular at El Dorado Hills Town Center
DESCRIPTION:Head to the El Dorado Hills Town Center for Halloween Spooktacular on Halloween\, October 31\, 2025. There will be a festive environment for kids to safely trick-or-treat at participating businesses. The event will commence with a costume contest at 5pm at the Steven Young Amphitheater.
URL:https://sactownsupermom.com/event/halloween-spooktacular-at-el-dorado-hills-town-center/
LOCATION:El Dorado Hills Town Center\, 4364 Town Center Blvd\, El Dorado Hills\, CA\, 95762
CATEGORIES:Free Halloween
END:VEVENT
BEGIN:VEVENT
DTSTART;TZID=America/Los_Angeles:20251031T150000
DTEND;TZID=America/Los_Angeles:20251031T170000
DTSTAMP:20260421T143428
CREATED:20251024T141200Z
LAST-MODIFIED:20251024T141200Z
UID:10000888-1761922800-1761930000@sactownsupermom.com
SUMMARY:Downtown Lincoln Trick-or-Treat
DESCRIPTION:Trick-or-treat in downtown Lincoln on Friday\, October 31\, 2025. The spooky fun begins at Beermann Plaza. There will be candy\, games\, activities\, and costume contests.
URL:https://sactownsupermom.com/event/downtown-lincoln-trick-or-treat/
LOCATION:Beermann Plaza\, 640 5th St\, Lincoln\, CA\, 95648
CATEGORIES:Free Halloween
END:VEVENT
BEGIN:VEVENT
DTSTART;TZID=America/Los_Angeles:20251031T150000
DTEND;TZID=America/Los_Angeles:20251031T170000
DTSTAMP:20260421T143428
CREATED:20251020T052835Z
LAST-MODIFIED:20251020T052835Z
UID:10000867-1761922800-1761930000@sactownsupermom.com
SUMMARY:Davis Commons Treat Trail Festival
DESCRIPTION:The free Davis Commons Treat Trail Festival takes place on Friday\, October 31\, 2025. The festival will be taking place at the same time as the Davis Downtown Treat Trail. There will be trick-or-treating\, Halloween crafts\, face painting\, games\, and more. This is a great place to begin the Davis Downtown Treat Trail.
URL:https://sactownsupermom.com/event/davis-commons-treat-trail-festival/
LOCATION:Davis Commons\, 500 1st Street\, Davis\, CA\, 95616
CATEGORIES:Free Halloween
END:VEVENT
BEGIN:VEVENT
DTSTART;TZID=America/Los_Angeles:20251031T100000
DTEND;TZID=America/Los_Angeles:20251031T150000
DTSTAMP:20260421T143428
CREATED:20251003T043019Z
LAST-MODIFIED:20251003T043019Z
UID:10000806-1761904800-1761922800@sactownsupermom.com
SUMMARY:Halloween Fun at Fairytale Town
DESCRIPTION:Start off Halloween morning with a spooky dance party at Fairytale Town on Friday\, October 31\, 2025. There will be trick-or-treating and a scavenger hunt on Halloween.
URL:https://sactownsupermom.com/event/halloween-fun-at-fairytale-town/
LOCATION:Fairytale Town
CATEGORIES:Halloween
END:VEVENT
BEGIN:VEVENT
DTSTART;TZID=America/Los_Angeles:20251031T100000
DTEND;TZID=America/Los_Angeles:20251031T120000
DTSTAMP:20260421T143428
CREATED:20250921T042054Z
LAST-MODIFIED:20251025T152625Z
UID:10000688-1761904800-1761912000@sactownsupermom.com
SUMMARY:Trick or Treat at Sacramento Children's Museum (Registration Full)
DESCRIPTION:Note: registration for 2025 is full. Kids can trick-or-treat at the Sacramento Children’s Museum on Halloween morning. This free favorite Halloween event for kids is a fun way to start Halloween day. While the event is free\, gently used or new book donations are requested for admission. Advance registration is required (and this event will fill up!).
URL:https://sactownsupermom.com/event/trick-or-treat-at-sacramento-childrens-museum/
LOCATION:Sacramento Children’s Museum\, 2701 Prospect Park\, Rancho Cordova\, CA\, 95670
CATEGORIES:Free Halloween,Halloween,October
END:VEVENT
BEGIN:VEVENT
DTSTART;TZID=America/Los_Angeles:20251030T190000
DTEND;TZID=America/Los_Angeles:20251030T210000
DTSTAMP:20260421T143428
CREATED:20251005T163529Z
LAST-MODIFIED:20251006T030223Z
UID:10000830-1761850800-1761858000@sactownsupermom.com
SUMMARY:Watermelon Music Haunted House
DESCRIPTION:Watermelon Music will have a free family-friendly Haunted House on select nights in October 2025 in Davis. There will be 5 Halloween-themed rooms with no jump scares and no gore. There will also be Halloween karaoke\, pumpkin painting\, and photo ops. Costumes are encouraged. \nThe Watermelon Music Haunted House will take place on the following five evenings: \n\nOctober 24 – 26\nOctober 29 & 30
URL:https://sactownsupermom.com/event/watermelon-music-haunted-house/2025-10-30/
LOCATION:Watermelon Music\, 1970 Lake Blvd Suite 1\, Davis\, CA\, 95616
CATEGORIES:Fall
END:VEVENT
END:VCALENDAR