BEGIN:VCALENDAR
VERSION:2.0
PRODID:-//Sactown Supermom - ECPv6.15.20//NONSGML v1.0//EN
CALSCALE:GREGORIAN
METHOD:PUBLISH
X-WR-CALNAME:Sactown Supermom
X-ORIGINAL-URL:https://sactownsupermom.com
X-WR-CALDESC:Events for Sactown Supermom
REFRESH-INTERVAL;VALUE=DURATION:PT1H
X-Robots-Tag:noindex
X-PUBLISHED-TTL:PT1H
BEGIN:VTIMEZONE
TZID:America/Los_Angeles
BEGIN:DAYLIGHT
TZOFFSETFROM:-0800
TZOFFSETTO:-0700
TZNAME:PDT
DTSTART:20240310T100000
END:DAYLIGHT
BEGIN:STANDARD
TZOFFSETFROM:-0700
TZOFFSETTO:-0800
TZNAME:PST
DTSTART:20241103T090000
END:STANDARD
BEGIN:DAYLIGHT
TZOFFSETFROM:-0800
TZOFFSETTO:-0700
TZNAME:PDT
DTSTART:20250309T100000
END:DAYLIGHT
BEGIN:STANDARD
TZOFFSETFROM:-0700
TZOFFSETTO:-0800
TZNAME:PST
DTSTART:20251102T090000
END:STANDARD
BEGIN:DAYLIGHT
TZOFFSETFROM:-0800
TZOFFSETTO:-0700
TZNAME:PDT
DTSTART:20260308T100000
END:DAYLIGHT
BEGIN:STANDARD
TZOFFSETFROM:-0700
TZOFFSETTO:-0800
TZNAME:PST
DTSTART:20261101T090000
END:STANDARD
END:VTIMEZONE
BEGIN:VEVENT
DTSTART;TZID=America/Los_Angeles:20251111T090000
DTEND;TZID=America/Los_Angeles:20251111T170000
DTSTAMP:20260421T125013
CREATED:20251102T003127Z
LAST-MODIFIED:20251102T003127Z
UID:10000929-1762851600-1762880400@sactownsupermom.com
SUMMARY:Veterans Open Cockpit Day
DESCRIPTION:Celebrate Veterans Day at the Aerospace Museum at their Veterans Open Cockpit Day on Tuesday\, November 11\, 2025. Kids can get into the cockpits of historical aircraft for a unique experience. There will also be hands-on crafts\, letter writing to veterans\, and family-friendly activities. \nThis event is included with regular museum admission.
URL:https://sactownsupermom.com/event/veterans-open-cockpit-day/
LOCATION:Aerospace Museum of California\, 3200 Freedom Park Drive\, McClellan\, CA\, 95652
CATEGORIES:November
END:VEVENT
BEGIN:VEVENT
DTSTART;TZID=America/Los_Angeles:20251111T090000
DTEND;TZID=America/Los_Angeles:20251111T120000
DTSTAMP:20260421T125013
CREATED:20251102T212141Z
LAST-MODIFIED:20251102T212141Z
UID:10000938-1762851600-1762862400@sactownsupermom.com
SUMMARY:Folsom’s 25th Annual Wayne Spence Veterans Day Parade
DESCRIPTION:The 25th annual Wayne Spence Folsom Veterans Day Parade takes place on Tuesday\, November 11\, 2025. This free event honors veterans and will include parade floats\, horseback riders\, classic cars\, color guards\, and more. \nThe parade begins at East Bidwell Street near Montrose Drive and travels westbound on E. Bidwell Street\, northbound on Coloma Street\, proceeding to Natoma Street. The parade concludes at the Veterans Memorial in Folsom City Lions Park with a ceremony to honor local veterans.
URL:https://sactownsupermom.com/event/folsoms-25th-annual-wayne-spence-veterans-day-parade/
LOCATION:Folsom Community Center\, 52 Natoma Street\, Folsom\, CA\, 95630
CATEGORIES:November
END:VEVENT
BEGIN:VEVENT
DTSTART;TZID=America/Los_Angeles:20251109T150000
DTEND;TZID=America/Los_Angeles:20251109T173000
DTSTAMP:20260421T125013
CREATED:20251102T040152Z
LAST-MODIFIED:20251105T065946Z
UID:10000930-1762700400-1762709400@sactownsupermom.com
SUMMARY:Nutcracker Tea
DESCRIPTION:Kick off the holiday season with a Nutcracker Tea on Sunday\, November 9\, 2025. There will be a special performance by the Sacramento Ballet featuring Nutcracker scenes\, family activities\, and a tea service that will include sweets\, hot cocoa\, and other bites. This event is a fundraiser benefitting the School of Sacramento Ballet.
URL:https://sactownsupermom.com/event/nutcracker-tea/
LOCATION:Greek Hellenic Center\, 614 Alhambra Blvd.\, Sacramento\, CA\, 95816
CATEGORIES:Nov 7-9,November
END:VEVENT
BEGIN:VEVENT
DTSTART;TZID=America/Los_Angeles:20251109T140000
DTEND;TZID=America/Los_Angeles:20251109T153000
DTSTAMP:20260421T125013
CREATED:20251101T234620Z
LAST-MODIFIED:20251101T234620Z
UID:10000926-1762696800-1762702200@sactownsupermom.com
SUMMARY:Dr. Seuss' How The Grinch Stole Christmas! The Musical
DESCRIPTION:Get an early start to the holiday season by catching a performance of Dr. Sesuss’ How The Grinch Stole Christmas! The Musical from November 6-9\, 2025. The performances take place at the Harris Center for the Arts in Folsom.
URL:https://sactownsupermom.com/event/dr-seuss-how-the-grinch-stole-christmas-the-musical/2025-11-09/
LOCATION:Harris Center for the Arts\, 10 College Parkway\, Folsom\, CA\, 95630
CATEGORIES:Folsom
END:VEVENT
BEGIN:VEVENT
DTSTART;TZID=America/Los_Angeles:20251109T110000
DTEND;TZID=America/Los_Angeles:20251109T140000
DTSTAMP:20260421T125013
CREATED:20251102T041706Z
LAST-MODIFIED:20251105T065928Z
UID:10000932-1762686000-1762696800@sactownsupermom.com
SUMMARY:Kids Day: Mini Minds in Motion
DESCRIPTION:Kids Day: Mini Minds in Motion will be a day of fun interactive activities and entertainment from Sacramento museums on Sunday\, November 9\, 2025. This event will take place at the Sacramento History Museum in Old Sacramento. Kids under the age of 18 receive free admission. \nThe following museums will be participating and each will have their own unique activities: \n\nCrocker Art Museum\nMOSAC (Museum of Science & Curiosity)\nMaidu Museum & Historic Site\nCalifornia Museum\nCalifornia Auto Museum\nSacramento Waldorf School\nVerge Center for the Arts\nMedical Museum of History\nSutter’s Fort\nCalifornia State Indian Museum\nSacramento Zoo\nSacramento Children’s Museum
URL:https://sactownsupermom.com/event/kids-day-mini-minds-in-motion/
LOCATION:Sacramento History Museum\, 101 I Street\, Old Sacramento\, CA\, 95814
CATEGORIES:Nov 7-9,November
END:VEVENT
BEGIN:VEVENT
DTSTART;TZID=America/Los_Angeles:20251109T100000
DTEND;TZID=America/Los_Angeles:20251109T110000
DTSTAMP:20260421T125013
CREATED:20251104T023843Z
LAST-MODIFIED:20251104T023843Z
UID:10000944-1762682400-1762686000@sactownsupermom.com
SUMMARY:Let's Read Oak Park
DESCRIPTION:Let’s Read Oak Park will have a free storytime\, hands-on activities\, and provide free books on Sunday\, November 9\, 2025 at Underground Books. This event is meant for elementary-aged school children \nThis event is free to attend but registration is required.
URL:https://sactownsupermom.com/event/lets-read-oak-park-2/
LOCATION:Underground Books\, 814 35th Street\, Sacramento\, CA\, 95817
CATEGORIES:Free,Nov 7-9
END:VEVENT
BEGIN:VEVENT
DTSTART;TZID=America/Los_Angeles:20251108T150000
DTEND;TZID=America/Los_Angeles:20251108T190000
DTSTAMP:20260421T125013
CREATED:20251102T211641Z
LAST-MODIFIED:20251105T065904Z
UID:10000937-1762614000-1762628400@sactownsupermom.com
SUMMARY:Water Lantern Festival
DESCRIPTION:The Water Lantern Festival comes to Sacramento on Saturday\, November 8\, 2025. Design a lantern with personal letters\, notes\, and dreams\, then launch it into the water for a mesmerizing experience. This is a family-friendly event with food trucks\, fun\, and music. Children ages 8 and under attend free. \n 
URL:https://sactownsupermom.com/event/water-lantern-festival-2/
LOCATION:Gibson Ranch Regional Park\, 8556 Gibson Ranch Park Rd\, Elverta\, CA
CATEGORIES:Nov 7-9,November
END:VEVENT
BEGIN:VEVENT
DTSTART;TZID=America/Los_Angeles:20251108T110000
DTEND;TZID=America/Los_Angeles:20251108T140000
DTSTAMP:20260421T125013
CREATED:20250921T153322Z
LAST-MODIFIED:20251105T065846Z
UID:10000703-1762599600-1762610400@sactownsupermom.com
SUMMARY:Delta Shores Fall Festival
DESCRIPTION:Note that free tickets are sold out for this event. The Annual Delta Shores Fall Festival will take place on Saturday\, November 8\, 2025. This free\, family-friendly festival will have a petting zoo\, face painting\, interactive activities for kids\, and more. \nWhile this festival is free\, tickets are required.
URL:https://sactownsupermom.com/event/delta-shores-fall-festival/
LOCATION:Delta Shores\, 8270 Delta Shores Circle\, South Sacramento\, CA\, 95832
CATEGORIES:Fall Festivals,November
END:VEVENT
BEGIN:VEVENT
DTSTART;TZID=America/Los_Angeles:20251108T100000
DTEND;TZID=America/Los_Angeles:20251109T160000
DTSTAMP:20260421T125013
CREATED:20251102T044704Z
LAST-MODIFIED:20251105T065814Z
UID:10000935-1762596000-1762704000@sactownsupermom.com
SUMMARY:International Rail Fair
DESCRIPTION:The International Rail Fair chugs into Sacramento on Saturday & Sunday\, November 8 & 9\, 2025. This event takes place during national model train month and will include kids activities\, coloring\, vendors\, operating layouts\, live drawing demonstrations\, and more. \n 
URL:https://sactownsupermom.com/event/international-rail-fair/
LOCATION:Cal Expo\, 1600 Exposition Boulevard\, Sacramento\, CA\, 95815
CATEGORIES:Nov 7-9,Trains
END:VEVENT
BEGIN:VEVENT
DTSTART;TZID=America/Los_Angeles:20251108T100000
DTEND;TZID=America/Los_Angeles:20251108T200000
DTSTAMP:20260421T125013
CREATED:20251101T205339Z
LAST-MODIFIED:20251105T065755Z
UID:10000917-1762596000-1762632000@sactownsupermom.com
SUMMARY:Folsom Historic District Ice Rink Opening Day
DESCRIPTION:The Folsom Historic District Ice Rink opens for the 2025 season on Saturday\, November 8. In addition to ice skating\, there is fireside seating\, theme nights\, and more throughout the holiday season. Purchase tickets in advance online.
URL:https://sactownsupermom.com/event/folsom-historic-district-ice-rink-opening-day/
LOCATION:905 Sutter Street\, Folsom\, CA\, 95630
CATEGORIES:Folsom,Ice Skating,Nov 7-9,November
END:VEVENT
BEGIN:VEVENT
DTSTART;TZID=America/Los_Angeles:20251108T100000
DTEND;TZID=America/Los_Angeles:20251108T150000
DTSTAMP:20260421T125013
CREATED:20251103T234920Z
LAST-MODIFIED:20251103T234920Z
UID:10000941-1762596000-1762614000@sactownsupermom.com
SUMMARY:2025 Native American Heritage Month Parade
DESCRIPTION:The 2nd Annual Native American Heritage Month Parade will take place on Saturday\, November 8\, 2025. The parade will begin at 10am at Capitol Mall in downtown Sacramento. Expect parade floats\, horses\, cultural performers\, and more. After the parade\,  there will be a cultural celebration and free food at the Capitol West Steps.
URL:https://sactownsupermom.com/event/2025-native-american-heritage-month-parade/
LOCATION:California State Capitol\, 10th Street and N Street\, Sacramento\, CA
CATEGORIES:Nov 7-9
END:VEVENT
BEGIN:VEVENT
DTSTART;TZID=America/Los_Angeles:20251108T100000
DTEND;TZID=America/Los_Angeles:20251108T120000
DTSTAMP:20260421T125013
CREATED:20251102T042545Z
LAST-MODIFIED:20251102T042545Z
UID:10000933-1762596000-1762603200@sactownsupermom.com
SUMMARY:Harvest Festival at Child Action\, Inc.
DESCRIPTION:Child Action\, Inc. will be having a free Harvest Festival on Saturday\,  November 8\, 2025. Note that this event is currently full at capacity\, but you can add your name to the waitlist if spots open up. This family-friendly fall festival will include games\, sensory bins\, a cake walk\, obstacle course\, face painting\, balloon twisting\, as well as pizza\, popcorn\, and free books and backpacks while supplies last.
URL:https://sactownsupermom.com/event/harvest-festival-at-child-action-inc/
LOCATION:10540 White Rock Road\, Rancho Cordova\, CA\, 95670
CATEGORIES:Fall Festivals,November
END:VEVENT
BEGIN:VEVENT
DTSTART;TZID=America/Los_Angeles:20251108T093000
DTEND;TZID=America/Los_Angeles:20251108T110000
DTSTAMP:20260421T125013
CREATED:20251101T203153Z
LAST-MODIFIED:20251105T065720Z
UID:10000916-1762594200-1762599600@sactownsupermom.com
SUMMARY:Santa Storytime and Pajama Party
DESCRIPTION:The Annual Santa Storytime and Pajama Party at Arden Fair takes place on Saturday\, November 8\, 2025. Kids can wear PJs and participate in an early holiday celebration with festive hands-on activities\, a light breakfast\, and storytime with Santa.
URL:https://sactownsupermom.com/event/santa-storytime-and-pajama-party/
LOCATION:Arden Fair\, 1689 Arden Way\, #1167\, Sacramento\, CA\, 95815
CATEGORIES:Free Holidays,Holiday Events,Nov 7-9,November
END:VEVENT
BEGIN:VEVENT
DTSTART;TZID=America/Los_Angeles:20251108T090000
DTEND;TZID=America/Los_Angeles:20251108T110000
DTSTAMP:20260421T125013
CREATED:20251101T235307Z
LAST-MODIFIED:20251105T065703Z
UID:10000927-1762592400-1762599600@sactownsupermom.com
SUMMARY:Characters & Cookies: Encanto
DESCRIPTION:Enjoy an fun morning in Arden Park with Mirabel from Encanto on Saturday\, November 8\, 2025. There will be a craft\, songs\, and a story. Treats and hot chocolate will also be provided. Photo opportunities with Mirabel will occur\, and dressing up is encouraged. \nTo attend Characters & Cookies with Mirabel on November 8\, register here. \nTo attend the event: \n\nChildren must be 12 and under and be with an accompanying adult 18+\nEach attendee\, including adults\, must register for the event\nPre-registration for the event is required\nThere are limited spaces for the event
URL:https://sactownsupermom.com/event/characters-cookies-encanto/
LOCATION:Arden Park\, 1000 La Sierra Drive\, Sacramento\, CA\, 95864
CATEGORIES:Nov 7-9,November
END:VEVENT
BEGIN:VEVENT
DTSTART;TZID=America/Los_Angeles:20251108T090000
DTEND;TZID=America/Los_Angeles:20251108T100000
DTSTAMP:20260421T125013
CREATED:20251104T015529Z
LAST-MODIFIED:20251104T015529Z
UID:10000942-1762592400-1762596000@sactownsupermom.com
SUMMARY:Li'l Sprouts in the Garden: Lovely Fall Leaf Fun
DESCRIPTION:Li’l Sprouts in the Garden is a multi-sensory experience for toddlers ages 3-5 at Soil Born Farms in Rancho Cordova. There are multiple sessions\, each with different theme. This session will take place on Saturday\, November 8\, 2025 with the theme of Lovely Fall Leaf Fun. \nKids will get to make art with leaves found in nature\, make a painted leaf collage\, craft a hedgehod\, and create a butterfly. \nChildren will play games\, sing songs\, hear stories\, and use their senses to explore. They will also acquire new words while gaining social skills. \nLi’l Sprouts in the Garden requires an adult chaperone with each child who attends. The adult chaperone is free with a paid toddler.
URL:https://sactownsupermom.com/event/lil-sprouts-in-the-garden-lovely-fall-leaf-fun/
LOCATION:Soil Born Farms\, 2140 Chase Dr.\, Rancho Cordova\, CA\, 95670
CATEGORIES:Nov 7-9,Rancho Cordova
END:VEVENT
BEGIN:VEVENT
DTSTART;TZID=America/Los_Angeles:20251107T180000
DTEND;TZID=America/Los_Angeles:20251108T203000
DTSTAMP:20260421T125013
CREATED:20251102T000857Z
LAST-MODIFIED:20251105T065627Z
UID:10000928-1762538400-1762633800@sactownsupermom.com
SUMMARY:Taylor Swift: Laser Concert Series
DESCRIPTION:Taylor Swift: Laser Concert Series will take place on Friday & Saturday\, November 7 & 8\, 2025 inside the UC Davis Multiverse Theater at MOSAC. This is a one-of-a-kind immersive music experience where full-dome lasers will be paired with Taylor Swift songs. Shows are an hour long. \nThere are multiple times for each date that include: \n\nFriday\, November 7 – 6pm & 7:30pm\nSaturday\, November 8 – 6pm & 7:30pm\n\n 
URL:https://sactownsupermom.com/event/taylor-swift-laser-concert-series/
LOCATION:MOSAC\, 400 Jibboom Street\, Sacramento\, CA\, 95811
CATEGORIES:Nov 7-9,November
END:VEVENT
BEGIN:VEVENT
DTSTART;TZID=America/Los_Angeles:20251106T140000
DTEND;TZID=America/Los_Angeles:20251106T210000
DTSTAMP:20260421T125013
CREATED:20251101T212104Z
LAST-MODIFIED:20251105T070026Z
UID:10000919-1762437600-1762462800@sactownsupermom.com
SUMMARY:Downtown Sacramento Ice Rink Opening Day
DESCRIPTION:The Downtown Sacramento Ice Rink opens for the 2025 season on Thursday\, November 6. This ice skating rink is right near the Golden 1 Center\, making it a fun holiday activity in downtown Sacramento.
URL:https://sactownsupermom.com/event/downtown-sacramento-ice-rink-opening-day/
LOCATION:Ali Youssefi Square\, 7th & K Streets\, Sacramento\, CA\, 95814
CATEGORIES:Ice Skating,Nov 7-9
END:VEVENT
BEGIN:VEVENT
DTSTART;TZID=America/Los_Angeles:20251105T173000
DTEND;TZID=America/Los_Angeles:20251105T183000
DTSTAMP:20260421T125013
CREATED:20251029T045333Z
LAST-MODIFIED:20251029T045333Z
UID:10000906-1762363800-1762367400@sactownsupermom.com
SUMMARY:Goldie B. Locks and the Three Singing Bears
DESCRIPTION:A kid-friendly four-person operatic of Goldie B. Locks and the Three Singing Bears will be performed for kids of all ages on Wednesday\, November 5\, 2025 at the Yolo Branch Library. This free performance is presented by the Sacramento Philharmonic and Opera\, and Yolo County Library.
URL:https://sactownsupermom.com/event/goldie-b-locks-and-the-three-singing-bears-3/
LOCATION:Yolo Branch Library\, 37750 Sacramento Street\, Yolo\, CA\, 95697
CATEGORIES:Free
END:VEVENT
BEGIN:VEVENT
DTSTART;TZID=America/Los_Angeles:20251102T183000
DTEND;TZID=America/Los_Angeles:20251102T203000
DTSTAMP:20260421T125013
CREATED:20250927T232557Z
LAST-MODIFIED:20251001T053714Z
UID:10000772-1762108200-1762115400@sactownsupermom.com
SUMMARY:Disney On Ice: Frozen & Encanto
DESCRIPTION:Disney On Ice glides into Sacramento October 30 – November 2\, 2025 at the Golden 1 Center. The show will center around the beloved Disney movies of Frozen and Encanto. \nThe show lasts approximately an hour and a half to two hours\, which includes a 15-20 minute intermission. Kids under 2 sit on laps for free. \nAn add-on pre-show character experience is available for the shows. \nA full list of dates and showtimes for the Sacramento run is provided below: \n\nThursday\, October 30\, 2025 – 7pm\nSaturday\, November 1\, 2025 – 11am\nSaturday\, November 1\, 2025 – 3pm\nSaturday\, November 1\, 2025 – 7pm\nSunday\, November 2\, 2025 – 10:30am\nSunday\, November 2\, 2025 – 2:30pm\nSunday\, November 2\, 2025 – 6:30pm
URL:https://sactownsupermom.com/event/disney-on-ice-frozen-encanto/2025-11-02/3/
LOCATION:Golden 1 Center\, 500 David J Stern Walk\, Sacramento\, CA\, 95814
CATEGORIES:Golden 1 Center
END:VEVENT
BEGIN:VEVENT
DTSTART;TZID=America/Los_Angeles:20251102T140000
DTEND;TZID=America/Los_Angeles:20251102T150000
DTSTAMP:20260421T125013
CREATED:20250928T010914Z
LAST-MODIFIED:20250928T010914Z
UID:10000778-1762092000-1762095600@sactownsupermom.com
SUMMARY:Día de los Muertos with Cascada de Flores
DESCRIPTION:Celebrate Day of the Dead by dancing and singing with Cascada de Flores at a free bilingual concert on Sunday\, November 2\, 2025 in Davis. Help build a musical ofrenda.
URL:https://sactownsupermom.com/event/dia-de-los-muertos-with-cascada-de-flores/
LOCATION:Mary L Stephens Davis Branch Library\, 315 E 14th St\, Davis\, CA\, 95616
CATEGORIES:Dia de los Muertos
END:VEVENT
BEGIN:VEVENT
DTSTART;TZID=America/Los_Angeles:20251102T130000
DTEND;TZID=America/Los_Angeles:20251102T160000
DTSTAMP:20260421T125013
CREATED:20251015T050011Z
LAST-MODIFIED:20251029T061259Z
UID:10000855-1762088400-1762099200@sactownsupermom.com
SUMMARY:West Sacramento Día de los Muertos
DESCRIPTION:The Annual West Sacramento Día de los Muertos Celebration takes place on Sunday\, November 2\, 2025. This free community event will have crafts\, games\, an ofrenda (altar)\, Aztec dancers\, a lowrider car show\, vendors\, and more.
URL:https://sactownsupermom.com/event/west-sacramento-dia-de-los-muertos/
LOCATION:VFW Post 8762: West Sacramento\, 905 Drever St\, West Sacramento\, CA\, 95691
CATEGORIES:Dia de los Muertos,Nov 1-2,November
END:VEVENT
BEGIN:VEVENT
DTSTART;TZID=America/Los_Angeles:20251102T120000
DTEND;TZID=America/Los_Angeles:20251102T160000
DTSTAMP:20260421T125013
CREATED:20251020T215326Z
LAST-MODIFIED:20251020T225335Z
UID:10000875-1762084800-1762099200@sactownsupermom.com
SUMMARY:El Panteón de Sacramento
DESCRIPTION:The Annual El Panteón de Sacramento takes place over three days from October 31 – November 2\, 2025. Celebrate arts and culture during Día de los Muertos with altars\, music\, and a recreated cemetery (El Panteón). Pay tribute to loved ones at this popular community event at the Latino Center of Arts and Culture.
URL:https://sactownsupermom.com/event/el-panteon-de-sacramento/2025-11-02/
LOCATION:Latino Center of Art and Culture\, 2700 Front Street\, Sacramento\, CA\, 95818
CATEGORIES:Fall
END:VEVENT
BEGIN:VEVENT
DTSTART;TZID=America/Los_Angeles:20251102T120000
DTEND;TZID=America/Los_Angeles:20251102T150000
DTSTAMP:20260421T125013
CREATED:20251029T060143Z
LAST-MODIFIED:20251029T061231Z
UID:10000914-1762084800-1762095600@sactownsupermom.com
SUMMARY:Pumpkin Launch at Jessie's Grove Winery
DESCRIPTION:Bring your pumpkins and send them flying at the Pumpkin Launch on Sunday\, November 2\, 2025 at Jessie’s Grove Winery in Lodi. This is a family-friendly event. Pumpkins will be available to purchase for $3\, or you can bring your own.
URL:https://sactownsupermom.com/event/pumpkin-launch-at-jessies-grove-winery/
LOCATION:Jessie’s Grove Winery\, 1973 West Turner Road\, Lodi\, CA\, 95242
CATEGORIES:Nov 1-2,November
END:VEVENT
BEGIN:VEVENT
DTSTART;TZID=America/Los_Angeles:20251102T100000
DTEND;TZID=America/Los_Angeles:20251102T190000
DTSTAMP:20260421T125013
CREATED:20251021T010259Z
LAST-MODIFIED:20251021T010259Z
UID:10000877-1762077600-1762110000@sactownsupermom.com
SUMMARY:Día de Los Muertos at Late Mouse Coffee
DESCRIPTION:Late Mouse Coffee in Folsom will have an all day Día de Los Muertos celebration on Sunday\, November 2\, 2025. There will be free coloring activities for children\, music\, conchas\, and seasonal drinks.
URL:https://sactownsupermom.com/event/dia-de-los-muertos-at-late-mouse-coffee/
LOCATION:Late Mouse Coffee\, 13000 Folsom Blvd STE 302A\, Folsom\, CA\, 95630
CATEGORIES:Dia de los Muertos
END:VEVENT
BEGIN:VEVENT
DTSTART;TZID=America/Los_Angeles:20251102T100000
DTEND;TZID=America/Los_Angeles:20251102T150000
DTSTAMP:20260421T125013
CREATED:20251025T152227Z
LAST-MODIFIED:20251029T061202Z
UID:10000894-1762077600-1762095600@sactownsupermom.com
SUMMARY:Day of the Dead at Fairytale Town
DESCRIPTION:A Day of the Dead Celebration will take place on Sunday\, November 2\, 2025 at Fairytale Town. There will be face painting\, stories\, and crafting sugar skull masks. Families can add mementos to the ofrenda. A special dance performance will take place at 12pm and 1:30pm.
URL:https://sactownsupermom.com/event/day-of-the-dead-at-fairytale-town/
LOCATION:Fairytale Town
CATEGORIES:Dia de los Muertos,Nov 1-2,November
END:VEVENT
BEGIN:VEVENT
DTSTART;TZID=America/Los_Angeles:20251101T170000
DTEND;TZID=America/Los_Angeles:20251101T190000
DTSTAMP:20260421T125013
CREATED:20250922T214503Z
LAST-MODIFIED:20251029T061132Z
UID:10000708-1762016400-1762023600@sactownsupermom.com
SUMMARY:Día de los Muertos Community Night at Sacramento Children's Museum
DESCRIPTION:Celebrate Día de los Muertos Community Night at the Sacramento Children’s Museum on Saturday\, November 1\, 2025. Kids will be able to add mementos to the museum’s ofrenda\, enjoy face painting\, interactive activities\, and participate in a sugar skulls workshop for an additional fee. \nSugar skulls workshops will take place at 5:30pm and 6pm. Each skull is $15 and supplies are limited. To participate\, register at the front desk when the event begins.
URL:https://sactownsupermom.com/event/dia-de-los-muertos-community-night-at-sacramento-childrens-museum/
LOCATION:Sacramento Children’s Museum\, 2701 Prospect Park\, Rancho Cordova\, CA\, 95670
CATEGORIES:Dia de los Muertos,Nov 1-2,November
END:VEVENT
BEGIN:VEVENT
DTSTART;TZID=America/Los_Angeles:20251101T160000
DTEND;TZID=America/Los_Angeles:20251101T190000
DTSTAMP:20260421T125013
CREATED:20251015T052754Z
LAST-MODIFIED:20251015T052754Z
UID:10000857-1762012800-1762023600@sactownsupermom.com
SUMMARY:TANA’s Día de Muertos Celebration
DESCRIPTION:TANA’s Día de Muertos Celebration will take place on Saturday\, November 1\, 2025 in Woodland. This family-friendly event will have interactive crafts and a community altar. \n 
URL:https://sactownsupermom.com/event/tanas-dia-de-muertos-celebration/
LOCATION:TANA\, 1224 Lemen Ave\, Woodland\, CA\, 95776
CATEGORIES:Dia de los Muertos
END:VEVENT
BEGIN:VEVENT
DTSTART;TZID=America/Los_Angeles:20251101T140000
DTEND;TZID=America/Los_Angeles:20251101T150000
DTSTAMP:20260421T125013
CREATED:20251029T044620Z
LAST-MODIFIED:20251029T044856Z
UID:10000904-1762005600-1762009200@sactownsupermom.com
SUMMARY:Goldie B. Locks and the Three Singing Bears
DESCRIPTION:A kid-friendly four-person operatic of Goldie B. Locks and the Three Singing Bears will be performed for kids of all ages on Saturday\, November 1\, 2025 at the Knights Landing Branch Library. This free performance is presented by the Sacramento Philharmonic and Opera\, and Yolo County Library.
URL:https://sactownsupermom.com/event/goldie-b-locks-and-the-three-singing-bears/
LOCATION:Knights Landing Branch Library\, 42351 Third St\, Knights Landing\, 95645
CATEGORIES:Nov 1-2
END:VEVENT
BEGIN:VEVENT
DTSTART;TZID=America/Los_Angeles:20251101T140000
DTEND;TZID=America/Los_Angeles:20251101T144500
DTSTAMP:20260421T125013
CREATED:20251029T052219Z
LAST-MODIFIED:20251029T052219Z
UID:10000911-1762005600-1762008300@sactownsupermom.com
SUMMARY:Mad Science: Sounds Like Science
DESCRIPTION:Kids can check out a free Mad Science performance at the Arcade Library on Saturday\, November 1\, 2025. There will lively experiments and demonstrations including the loud dinosaur-in-a-can\, a kid-created thunderstorm\, a glowing electric pickle\, and more.
URL:https://sactownsupermom.com/event/mad-science-sounds-like-science/
LOCATION:Arcade Library\, 2443 Marconi Avenue\, Sacramento\, CA\, 95821
CATEGORIES:Nov 1-2
END:VEVENT
BEGIN:VEVENT
DTSTART;TZID=America/Los_Angeles:20251101T130000
DTEND;TZID=America/Los_Angeles:20251102T150000
DTSTAMP:20260421T125013
CREATED:20251020T173302Z
LAST-MODIFIED:20251020T173302Z
UID:10000871-1762002000-1762095600@sactownsupermom.com
SUMMARY:Día de los Muertos at Dave's Pumpkin Patch
DESCRIPTION:Celebrate Día de los Muertos at Dave’s Pumpkin Patch on Saturday and Sunday\, November 1 & 2\, 2025. There will be Mariachi performances\, face painting\, and an Ofrenda that visitors can contribute photos and notes.
URL:https://sactownsupermom.com/event/dia-de-los-muertos-at-daves-pumpkin-patch/
LOCATION:Dave’s Pumpkin Patch
CATEGORIES:Dia de los Muertos
END:VEVENT
END:VCALENDAR