BEGIN:VCALENDAR
VERSION:2.0
PRODID:-//Sactown Supermom - ECPv6.15.20//NONSGML v1.0//EN
CALSCALE:GREGORIAN
METHOD:PUBLISH
X-ORIGINAL-URL:https://sactownsupermom.com
X-WR-CALDESC:Events for Sactown Supermom
REFRESH-INTERVAL;VALUE=DURATION:PT1H
X-Robots-Tag:noindex
X-PUBLISHED-TTL:PT1H
BEGIN:VTIMEZONE
TZID:America/Los_Angeles
BEGIN:DAYLIGHT
TZOFFSETFROM:-0800
TZOFFSETTO:-0700
TZNAME:PDT
DTSTART:20240310T100000
END:DAYLIGHT
BEGIN:STANDARD
TZOFFSETFROM:-0700
TZOFFSETTO:-0800
TZNAME:PST
DTSTART:20241103T090000
END:STANDARD
BEGIN:DAYLIGHT
TZOFFSETFROM:-0800
TZOFFSETTO:-0700
TZNAME:PDT
DTSTART:20250309T100000
END:DAYLIGHT
BEGIN:STANDARD
TZOFFSETFROM:-0700
TZOFFSETTO:-0800
TZNAME:PST
DTSTART:20251102T090000
END:STANDARD
BEGIN:DAYLIGHT
TZOFFSETFROM:-0800
TZOFFSETTO:-0700
TZNAME:PDT
DTSTART:20260308T100000
END:DAYLIGHT
BEGIN:STANDARD
TZOFFSETFROM:-0700
TZOFFSETTO:-0800
TZNAME:PST
DTSTART:20261101T090000
END:STANDARD
END:VTIMEZONE
BEGIN:VEVENT
DTSTART;TZID=America/Los_Angeles:20251204T163000
DTEND;TZID=America/Los_Angeles:20251204T193000
DTSTAMP:20260421T095458
CREATED:20251116T062354Z
LAST-MODIFIED:20251116T062354Z
UID:10001052-1764865800-1764876600@sactownsupermom.com
SUMMARY:Holiday Tree Lighting in Carmichael
DESCRIPTION:Carmichael will ring in the holiday spirit at their annual Holiday Tree Lighting on Thursday\, December 4\, 2025. Santa photos will be available in exchange for a donation of 1 canned good per child. There will be arts and crafts\, festive fun\, and a snowfall after the tree lighting ceremony.
URL:https://sactownsupermom.com/event/holiday-tree-lighting-in-carmichael/
LOCATION:Carmichael Park\, 5750 Grant Ave\, Carmichael\, CA\, 95608
CATEGORIES:Free Holidays
END:VEVENT
BEGIN:VEVENT
DTSTART;TZID=America/Los_Angeles:20251203T150000
DTEND;TZID=America/Los_Angeles:20251203T170000
DTSTAMP:20260421T095458
CREATED:20251127T052823Z
LAST-MODIFIED:20251127T052823Z
UID:10001145-1764774000-1764781200@sactownsupermom.com
SUMMARY:Winterfest at Arden-Dimick Library
DESCRIPTION:Kids can enjoy Winterfest at the Arden-Dimick Library on Wednesday\, December 3\, 2025. Each child will receive two free books at the event. There will also be face painting\, crafts\, and stories.
URL:https://sactownsupermom.com/event/winterfest-at-arden-dimick-library/
LOCATION:Arden – Dimick Library\, 891 Watt Avenue\, Sacramento\, CA\, 95864
CATEGORIES:December
END:VEVENT
BEGIN:VEVENT
DTSTART;TZID=America/Los_Angeles:20251130T160000
DTEND;TZID=America/Los_Angeles:20251130T193000
DTSTAMP:20260421T095458
CREATED:20251102T040739Z
LAST-MODIFIED:20251126T210958Z
UID:10000931-1764518400-1764531000@sactownsupermom.com
SUMMARY:Cordova Community Christmas Tree Lighting
DESCRIPTION:The Cordova Community Christmas Tree Lighting will take place on Sunday\, November 30\, 2025. This free event will include the annual tree lighting and fireworks will begin at 7pm. There will be hay rides\, train rides\, snow\, Santa\, a live nativity\, and more. Bring a new\, unwrapped gift to stuff a squad car for kids in need.
URL:https://sactownsupermom.com/event/cordova-community-christmas-tree-lighting/
LOCATION:Village Green Park\, 3141 Bridgeway Drive\, Rancho Cordova\, CA\, 95670
CATEGORIES:Free Holidays,Nov 28-30,November,Tree Lightings
END:VEVENT
BEGIN:VEVENT
DTSTART;TZID=America/Los_Angeles:20251130T100000
DTEND;TZID=America/Los_Angeles:20251130T150000
DTSTAMP:20260421T095458
CREATED:20251115T001121Z
LAST-MODIFIED:20251115T001121Z
UID:10001029-1764496800-1764514800@sactownsupermom.com
SUMMARY:Santa Visits Apple Ridge Farms
DESCRIPTION:Santa will visit Apple Ridge Farms in Apple Hill over Thanksgiving weekend from November 28-30\, 2025 from 10am to 3pm.
URL:https://sactownsupermom.com/event/santa-visits-apple-ridge-farms/2025-11-30/
LOCATION:Apple Ridge Farms\, 1800 Larsen Dr\, Camino\, CA\, 95709
CATEGORIES:Apple Hill
END:VEVENT
BEGIN:VEVENT
DTSTART;TZID=America/Los_Angeles:20251129T103000
DTEND;TZID=America/Los_Angeles:20251129T130000
DTSTAMP:20260421T095458
CREATED:20251111T044518Z
LAST-MODIFIED:20251126T210814Z
UID:10000986-1764412200-1764421200@sactownsupermom.com
SUMMARY:Cocoa & Cookies with Santa
DESCRIPTION:Cocoa & Cookies with Santa is a free holiday event taking place on Saturday\, November 29\, 2025 in Elk Grove. There will be interactive activities for kids such as building your own stuffy\, and an arts and crafts table. Children will get to meet and take a photo with Santa.
URL:https://sactownsupermom.com/event/cocoa-cookies-with-santa/
LOCATION:9250 Laguna Springs Dr.\, Elk Grove\, CA\, 95758
CATEGORIES:Free Holidays,Nov 28-30,November
END:VEVENT
BEGIN:VEVENT
DTSTART;TZID=America/Los_Angeles:20251129T100000
DTEND;TZID=America/Los_Angeles:20251129T180000
DTSTAMP:20260421T095458
CREATED:20251101T205922Z
LAST-MODIFIED:20251126T210734Z
UID:10000918-1764410400-1764439200@sactownsupermom.com
SUMMARY:Dickens Street Faire
DESCRIPTION:The Annual Dickens Street Faire in Elk Grove takes place on Saturday\, November 29\, 2025. Old Town Elk Grove will be full of festive fun and vendors over Thanksgiving weekend. Santa will be rescued by the fire department. There will be free entertainment\, a kids’ craft corner\, and live performers. After the vendors close\, the event switches to Christmas with carolers and a storytime with Santa. A Christmas tree lighting will take place at 6pm.
URL:https://sactownsupermom.com/event/dickens-street-faire/
LOCATION:Old Town Plaza\, 9615 Railroad Street\, Elk Grove\, CA\, 95624
CATEGORIES:Holiday Events,Nov 28-30,November
END:VEVENT
BEGIN:VEVENT
DTSTART;TZID=America/Los_Angeles:20251129T100000
DTEND;TZID=America/Los_Angeles:20251129T130000
DTSTAMP:20260421T095458
CREATED:20251114T181432Z
LAST-MODIFIED:20251126T210716Z
UID:10001025-1764410400-1764421200@sactownsupermom.com
SUMMARY:Santa at the Train Depot
DESCRIPTION:Santa will be at the Woodland Train Depot on Saturday\, November 29\, 2025. There will be family fun\, activities for kids\, fire trucks\, and more. A family donation to the Sacramento Valley Historical Railways will include a visit with Santa and a holiday ornament for each child.
URL:https://sactownsupermom.com/event/santa-at-the-train-depot/
LOCATION:Woodland Train Depot\, 1120 Lincoln Avenue\, Woodland\, CA
CATEGORIES:Free Holidays,Nov 28-30,November,Santa Photos
END:VEVENT
BEGIN:VEVENT
DTSTART;TZID=America/Los_Angeles:20251128T090000
DTEND;TZID=America/Los_Angeles:20251128T120000
DTSTAMP:20260421T095458
CREATED:20251124T003146Z
LAST-MODIFIED:20251126T210525Z
UID:10001120-1764320400-1764331200@sactownsupermom.com
SUMMARY:Black Friday Bash at Space To Play
DESCRIPTION:After the Black Friday chaos\, take a break and spend the morning at a Black Friday Bash at Space To Play on Friday\, November 28\, 2025. Admission is $10 from 9am to 12pm for three hours of play. There will also be free coffee and hot cocoa. Parents/caregivers included in admission. \n 
URL:https://sactownsupermom.com/event/black-friday-bash-at-space-to-play/
LOCATION:Space To Play\, 9683 Elk Grove Florin Rd\, Elk Grove\, CA\, 95624
CATEGORIES:Elk Grove,Nov 28-30
END:VEVENT
BEGIN:VEVENT
DTSTART;TZID=America/Los_Angeles:20251127T100000
DTEND;TZID=America/Los_Angeles:20251127T210000
DTSTAMP:20260421T095458
CREATED:20251114T232248Z
LAST-MODIFIED:20251114T232248Z
UID:10001026-1764237600-1764277200@sactownsupermom.com
SUMMARY:Thanksgiving PJ Party at the Rink
DESCRIPTION:The Folsom Historic Ice Rink will have a Thanksgiving PJ Party at the Rink on Thursday\, November 27\, 2025. Wear your pajamas while ice skating on Thanksgiving. Regular rates apply and skate sessions are two hours.
URL:https://sactownsupermom.com/event/thanksgiving-pj-party-at-the-rink/
LOCATION:Historic Folsom Ice Rink\, 905 Leidesdorff St #100\, Folsom\, CA\, 95630
CATEGORIES:Folsom
END:VEVENT
BEGIN:VEVENT
DTSTART;TZID=America/Los_Angeles:20251127T080000
DTEND;TZID=America/Los_Angeles:20251127T113000
DTSTAMP:20260421T095458
CREATED:20250929T142744Z
LAST-MODIFIED:20250929T142744Z
UID:10000784-1764230400-1764243000@sactownsupermom.com
SUMMARY:Elk Grove Gobble Wobble
DESCRIPTION:Start out Thanksgiving morning in Elk Grove with the annual Elk Grove Gobble Wobble on Thursday\, November 27\, 2025. The 5k run/walk supports the nonprofit\, Chicks in Crisis. There is also a non-timed kids 1/4 mile fun run. \nThis is a rain or shine event. A schedule of events is below – \n\n8am – Check-In (refreshments\, vendor booths\, etc)\n8:55am – National Anthem\n9am – Kids 1/4 mile fun run\n9:15am – 5k Run begins\n10-11:30am – Snacks\, Awards\, Music\, Vendors
URL:https://sactownsupermom.com/event/elk-grove-gobble-wobble/
LOCATION:8280 Longleaf Drive\, Elk Grove\, CA\, 95758
CATEGORIES:Elk Grove
END:VEVENT
BEGIN:VEVENT
DTSTART;TZID=America/Los_Angeles:20251126T171500
DTEND;TZID=America/Los_Angeles:20251126T184500
DTSTAMP:20260421T095458
CREATED:20251114T044925Z
LAST-MODIFIED:20251114T044925Z
UID:10001020-1764177300-1764182700@sactownsupermom.com
SUMMARY:Old Sacramento Tree Lighting Ceremony & Theatre of Lights Opening Night
DESCRIPTION:The Old Sacramento Waterfront Tree Lighting takes place on Thanksgiving Eve\, Wednesday\, November 26\, 2025. Festivities will begin at 5:30pm. The first Theatre of Lights show of 2025 will follow the tree lighting and kicks off at 6:15pm. Theatre of Lights is a 20-minute free production.
URL:https://sactownsupermom.com/event/old-sacramento-tree-lighting-ceremony-theatre-of-lights-opening-night/
LOCATION:Old Sacramento Waterfront\, Sacramento\, CA
CATEGORIES:November,Old Sacramento
END:VEVENT
BEGIN:VEVENT
DTSTART;TZID=America/Los_Angeles:20251125T103000
DTEND;TZID=America/Los_Angeles:20251125T133000
DTSTAMP:20260421T095458
CREATED:20251118T063801Z
LAST-MODIFIED:20251118T063801Z
UID:10001083-1764066600-1764077400@sactownsupermom.com
SUMMARY:Holiday Food Distribution (Midtown - River City Food Bank)
DESCRIPTION:River City Food Bank will be having a free Holiday Food Distribution on Tuesday\, November 25\, 2025 in Midtown Sacramento. The distribution will take place at 1800 28th Street beginning at 10:30am and will include healthy\, holiday-inspired groceries (no frozen turkeys). Must be present to receive food.
URL:https://sactownsupermom.com/event/holiday-food-distribution-midtown-river-city-food-bank/
LOCATION:1800 28th Street\, Sacramento\, CA\, 95816
CATEGORIES:Turkey Giveaways
END:VEVENT
BEGIN:VEVENT
DTSTART;TZID=America/Los_Angeles:20251125T083000
DTEND;TZID=America/Los_Angeles:20251125T160000
DTSTAMP:20260421T095458
CREATED:20251118T061045Z
LAST-MODIFIED:20251118T061045Z
UID:10001079-1764059400-1764086400@sactownsupermom.com
SUMMARY:Holiday Food Distribution (Elica Health Centers)
DESCRIPTION:A free Holiday Food Distribution will take place on Tuesday\, November 25\, 2025 in North Highlands. Food boxes and gift cards will be available at the event (no frozen turkeys). Limited to 1 family while supplies last starting at 8:30am.
URL:https://sactownsupermom.com/event/holiday-food-distribution-elica-health-centers/
LOCATION:Elica Resource Center\, 5735 Watt Ave.\, North Highlands\, CA\, 95660
CATEGORIES:Turkey Giveaways
END:VEVENT
BEGIN:VEVENT
DTSTART;TZID=America/Los_Angeles:20251124T100000
DTEND;TZID=America/Los_Angeles:20251124T120000
DTSTAMP:20260421T095458
CREATED:20251111T172021Z
LAST-MODIFIED:20251118T070750Z
UID:10000990-1763978400-1763985600@sactownsupermom.com
SUMMARY:Thanksgiving Food Boxes Giveaway
DESCRIPTION:Paradise Missionary Baptist Church will have a free Thanksgiving Food Boxes Giveaway on Monday\, November 24\, 2025. The giveaway begins at 10am and is free to the whole community. Note this is for food boxes (no turkeys).
URL:https://sactownsupermom.com/event/thanksgiving-food-boxes-giveaway/
LOCATION:5240 Martin Luther King Blvd\, Sacramento\, CA\, 95820
CATEGORIES:Turkey Giveaways
END:VEVENT
BEGIN:VEVENT
DTSTART;TZID=America/Los_Angeles:20251123T110000
DTEND;TZID=America/Los_Angeles:20251123T113000
DTSTAMP:20260421T095458
CREATED:20251118T062559Z
LAST-MODIFIED:20251118T062559Z
UID:10001081-1763895600-1763897400@sactownsupermom.com
SUMMARY:Storytime with Dinger!
DESCRIPTION:Dinger\, the Sacramento River Cats mascot\, will be at a special storytime on Sunday\, November 23\, 2025 at Wild Sisters Book Co. While the event is free\, RSVP is required.
URL:https://sactownsupermom.com/event/storytime-with-dinger/
LOCATION:Wild Sisters Book Company\, 3325 Folsom Blvd.\, Sacramento\, CA\, 95816
CATEGORIES:Nov 21-23
END:VEVENT
BEGIN:VEVENT
DTSTART;TZID=America/Los_Angeles:20251123T100000
DTEND;TZID=America/Los_Angeles:20251123T160000
DTSTAMP:20260421T095458
CREATED:20250921T032831Z
LAST-MODIFIED:20250921T032847Z
UID:10000685-1763892000-1763913600@sactownsupermom.com
SUMMARY:Mountain Mandarin Festival
DESCRIPTION:The Mountain Mandarin Festival returns for three days\, November 21-23\, 2025 at the grounds in Roseville. This annual festival celebrates the arrival of mandarins when they begin to become ripe for the season. There will be family-friendly activities\, live entertainment\, and more.
URL:https://sactownsupermom.com/event/mountain-mandarin-festival/2025-11-23/
LOCATION:@the grounds\, 700 Event Center Dr\, Roseville\, CA\, 95678
CATEGORIES:Roseville
END:VEVENT
BEGIN:VEVENT
DTSTART;TZID=America/Los_Angeles:20251123T090000
DTEND;TZID=America/Los_Angeles:20251123T130000
DTSTAMP:20260421T095458
CREATED:20251112T224543Z
LAST-MODIFIED:20251120T031458Z
UID:10001016-1763888400-1763902800@sactownsupermom.com
SUMMARY:Harvest of Thanks Celebration
DESCRIPTION:The Harvest of Thanks Celebration takes place on Sunday\, November 23\, 2025 at the Maidu Park Farmers Market. There will be inflatables for kids\, games\, pie walks\, and shopping specials.
URL:https://sactownsupermom.com/event/harvest-of-thanks-celebration/
LOCATION:Maidu Park Farmers Market\, 1550 Maidu Park Dr\, Roseville\, CA\, 95661
CATEGORIES:Nov 21-23,Roseville
END:VEVENT
BEGIN:VEVENT
DTSTART;TZID=America/Los_Angeles:20251123T080000
DTEND;TZID=America/Los_Angeles:20251123T130000
DTSTAMP:20260421T095458
CREATED:20251111T062546Z
LAST-MODIFIED:20251111T062546Z
UID:10000989-1763884800-1763902800@sactownsupermom.com
SUMMARY:Ceaze the Moment Thanksgiving Turkey Giveaway
DESCRIPTION:Ceaze the Moment will be having a free Thanksgiving Turkey Giveaway on Sunday\, November 23\, 2025 in Oak Park. They plan to distribute 500 turkeys to families in need\, which are first come\, first serve starting at 8am. Turkeys limited to 1 per family/vehicle.
URL:https://sactownsupermom.com/event/ceaze-the-moment-thanksgiving-turkey-giveaway/
LOCATION:Father Keith B. Kenney Elementary School – Parking Lot\, 3525 Martin Luther King Jr. Blvd.\, Sacramento\, CA\, 95817
CATEGORIES:Turkey Giveaways
END:VEVENT
BEGIN:VEVENT
DTSTART;TZID=America/Los_Angeles:20251122T170000
DTEND;TZID=America/Los_Angeles:20251122T190000
DTSTAMP:20260421T095458
CREATED:20251102T043919Z
LAST-MODIFIED:20251118T160106Z
UID:10000934-1763830800-1763838000@sactownsupermom.com
SUMMARY:Fountains Tree Lighting Celebration
DESCRIPTION:The Fountains Tree Lighting Celebration will take place on Saturday\, November 22\, 2025. This free holiday event will include carols\, crafts\, letters to Santa\, and a walk through decorated trees.
URL:https://sactownsupermom.com/event/fountains-tree-lighting-celebration/
LOCATION:Fountains at Roseville\, 1013 Galleria Blvd\, Roseville\, CA\, 95678
CATEGORIES:Nov 21-23,November,Tree Lightings
END:VEVENT
BEGIN:VEVENT
DTSTART;TZID=America/Los_Angeles:20251122T170000
DTEND;TZID=America/Los_Angeles:20251122T180000
DTSTAMP:20260421T095458
CREATED:20251104T024212Z
LAST-MODIFIED:20251118T160043Z
UID:10000945-1763830800-1763834400@sactownsupermom.com
SUMMARY:Palladio Tree Lighting
DESCRIPTION:The annual Palladio Tree Lighting will take place on Saturday\, November 22\, 2025. This free event in Folsom will have refreshments\, performances\, and holiday fun with Santa and friends.
URL:https://sactownsupermom.com/event/palladio-tree-lighting/
LOCATION:Palladio Piazza\, 350 Palladio Pkwy\, Folsom\, CA\, 95630
CATEGORIES:Nov 21-23,Tree Lightings
END:VEVENT
BEGIN:VEVENT
DTSTART;TZID=America/Los_Angeles:20251122T140000
DTEND;TZID=America/Los_Angeles:20251122T190000
DTSTAMP:20260421T095458
CREATED:20251111T042214Z
LAST-MODIFIED:20251118T160020Z
UID:10000983-1763820000-1763838000@sactownsupermom.com
SUMMARY:Harvest of Hope 2025
DESCRIPTION:Harvest of Hope will be supporting families in need on Saturday\, November 22\, 2025 in Orangevale\, distributing frozen turkeys and dinners. This free event will also have fun activities for kids\, direct access to organizations\, local services\, and community resources.
URL:https://sactownsupermom.com/event/harvest-of-hope-2025/
LOCATION:5948 Pecan Ave.\, Orangevale\, CA\, 95662
CATEGORIES:Nov 21-23,Turkey Giveaways
END:VEVENT
BEGIN:VEVENT
DTSTART;TZID=America/Los_Angeles:20251122T140000
DTEND;TZID=America/Los_Angeles:20251122T150000
DTSTAMP:20260421T095458
CREATED:20251119T163227Z
LAST-MODIFIED:20251119T163227Z
UID:10001110-1763820000-1763823600@sactownsupermom.com
SUMMARY:Tea Party at Space To Play
DESCRIPTION:Kids can bring along a stuffed animal for a Tea Party on Saturday\, November 22\, 2025 at Space To Play in Elk Grove. The afternoon will include kid-friendly decaf tea\, juice\, snacks\, and open play time at the play space.
URL:https://sactownsupermom.com/event/tea-party-at-space-to-play/
LOCATION:Space To Play\, 9683 Elk Grove Florin Rd\, Elk Grove\, CA\, 95624
CATEGORIES:Nov 21-23
END:VEVENT
BEGIN:VEVENT
DTSTART;TZID=America/Los_Angeles:20251122T140000
DTEND;TZID=America/Los_Angeles:20251122T150000
DTSTAMP:20260421T095458
CREATED:20251029T045721Z
LAST-MODIFIED:20251118T155950Z
UID:10000908-1763820000-1763823600@sactownsupermom.com
SUMMARY:Goldie B. Locks and the Three Singing Bears
DESCRIPTION:A kid-friendly four-person operatic of Goldie B. Locks and the Three Singing Bears will be performed for kids of all ages on Saturday\, November 22\, 2025 at the Mary L. Stephens Davis Library. This free performance is presented by the Sacramento Philharmonic and Opera\, and Yolo County Library.
URL:https://sactownsupermom.com/event/goldie-b-locks-and-the-three-singing-bears-5/
LOCATION:Mary L Stephens Davis Branch Library\, 315 E 14th St\, Davis\, CA\, 95616
CATEGORIES:Free,Nov 21-23
END:VEVENT
BEGIN:VEVENT
DTSTART;TZID=America/Los_Angeles:20251122T110000
DTEND;TZID=America/Los_Angeles:20251122T140000
DTSTAMP:20260421T095458
CREATED:20251114T153757Z
LAST-MODIFIED:20251114T153757Z
UID:10001023-1763809200-1763820000@sactownsupermom.com
SUMMARY:BYLP Love Thy Neighbor Turkey Giveaway in Elk Grove
DESCRIPTION:BYLP HQ will be having its annual Love Thy Neighbor Turkey Giveaway on Saturday\, November 22\, 2025 in Elk Grove. RSVP is required. Turkey giveaway is drive-thru pickup only. Limited to one turkey per family. RSVP here.
URL:https://sactownsupermom.com/event/bylp-love-thy-neighbor-turkey-giveaway-in-elk-grove/
LOCATION:BYLP HQ\, 9300 W Stockton Blvd\, Elk Grove\, CA\, 95758
CATEGORIES:Turkey Giveaways
END:VEVENT
BEGIN:VEVENT
DTSTART;TZID=America/Los_Angeles:20251122T103000
DTEND;TZID=America/Los_Angeles:20251122T133000
DTSTAMP:20260421T095458
CREATED:20251118T063514Z
LAST-MODIFIED:20251118T063514Z
UID:10001082-1763807400-1763818200@sactownsupermom.com
SUMMARY:Holiday Food Distribution (Arden - River City Food Bank)
DESCRIPTION:River City Food Bank will be having a free Holiday Food Distribution on Saturday\, November 22\, 2025 in Arden. The distribution will take place at The Center at St. Matthew’s in Arden beginning at 10:30am and will include healthy\, holiday-inspired groceries (no frozen turkeys). Must be present to receive food.
URL:https://sactownsupermom.com/event/holiday-food-distribution-arden-river-city-food-bank/
LOCATION:The Center at St. Matthew’s\, 2300 Edison Ave\, Sacramento\, CA
CATEGORIES:Turkey Giveaways
END:VEVENT
BEGIN:VEVENT
DTSTART;TZID=America/Los_Angeles:20251122T100000
DTEND;TZID=America/Los_Angeles:20251122T120000
DTSTAMP:20260421T095458
CREATED:20251114T050558Z
LAST-MODIFIED:20251114T050558Z
UID:10001021-1763805600-1763812800@sactownsupermom.com
SUMMARY:Park Spotlight at Chardonnay Park
DESCRIPTION:There will be free family-friendly activities and hands-on crafts the morning of Saturday\, November 22\, 2025 in Chardonnay Park in North Highlands.
URL:https://sactownsupermom.com/event/park-spotlight-at-chardonnay-park/
LOCATION:Chardonnay Park\, 5171 Cherbourg Dr\, Sacramento\, CA\, 95842
CATEGORIES:Nov 21-23
END:VEVENT
BEGIN:VEVENT
DTSTART;TZID=America/Los_Angeles:20251122T090000
DTEND;TZID=America/Los_Angeles:20251122T150000
DTSTAMP:20260421T095458
CREATED:20251119T204337Z
LAST-MODIFIED:20251119T204337Z
UID:10001112-1763802000-1763823600@sactownsupermom.com
SUMMARY:2025 Christmas Craft Faire
DESCRIPTION:A Christmas Craft Faire takes place in Cameron Park on Saturday\, November 22\, 2025. In addition to vendors\, and a festive atmosphere\, there will be free photos with Santa from 10am to 12pm.
URL:https://sactownsupermom.com/event/2025-christmas-craft-faire/
LOCATION:2502 Country Club Dr.\, Cameron Park\, 95682
CATEGORIES:Nov 21-23
END:VEVENT
BEGIN:VEVENT
DTSTART;TZID=America/Los_Angeles:20251122T090000
DTEND;TZID=America/Los_Angeles:20251122T110000
DTSTAMP:20260421T095458
CREATED:20251111T043007Z
LAST-MODIFIED:20251111T043007Z
UID:10000984-1763802000-1763809200@sactownsupermom.com
SUMMARY:Thanksgiving Drive-Thru Turkey Giveaway at Cosumnes River College
DESCRIPTION:A free Thanksgiving Drive-Thru Turkey Giveaway will take place on Saturday\, November 22\, 2025 at Cosumnes River College in Parking Lot E. Free turkeys will be distributed starting at 9am until supplies last. Visitors must remain in the car and enter from Calvine Road only. Limited to 1 turkey per family.
URL:https://sactownsupermom.com/event/thanksgiving-drive-thru-turkey-giveaway-at-cosumnes-river-college/
LOCATION:Cosumnes River College\, Parking Lot E\, 8401 Center Pkwy\, Sacramento\, CA\, 95823
CATEGORIES:Turkey Giveaways
END:VEVENT
BEGIN:VEVENT
DTSTART;TZID=America/Los_Angeles:20251122T090000
DTEND;TZID=America/Los_Angeles:20251122T100000
DTSTAMP:20260421T095458
CREATED:20251104T023123Z
LAST-MODIFIED:20251118T155921Z
UID:10000943-1763802000-1763805600@sactownsupermom.com
SUMMARY:Li'l Sprouts in the Garden: Farm Animal Friends Art Day
DESCRIPTION:Li’l Sprouts in the Garden is a multi-sensory experience for toddlers ages 3-5 at Soil Born Farms in Rancho Cordova. There are multiple sessions\, each with different theme. This session will take place on Saturday\, November 22\, 2025 with the theme of Farm Animal Friends Art Day. \nKids will get to learn about farm animals by making foxes out of leaves\, and sheep out of cotton. They’ll also get to meet the chickens on the farm and make chicken art. \nChildren will play games\, sing songs\, hear stories\, and use their senses to explore. They will also acquire new words while gaining social skills. \nLi’l Sprouts in the Garden requires an adult chaperone with each child who attends. The adult chaperone is free with a paid toddler.
URL:https://sactownsupermom.com/event/lil-sprouts-in-the-garden-farm-animal-friends-art-day/
LOCATION:Soil Born Farms\, 2140 Chase Dr.\, Rancho Cordova\, CA\, 95670
CATEGORIES:Farms,Nov 21-23,Rancho Cordova
END:VEVENT
BEGIN:VEVENT
DTSTART;TZID=America/Los_Angeles:20251122T080000
DTEND;TZID=America/Los_Angeles:20251122T120000
DTSTAMP:20260421T095458
CREATED:20251111T045403Z
LAST-MODIFIED:20251118T070823Z
UID:10000987-1763798400-1763812800@sactownsupermom.com
SUMMARY:Yolo County Children's Alliance Community Giveaway Day
DESCRIPTION:The Yolo County Children’s Alliance will host their annual Community Giveaway Day on Saturday\, November 22\, 2025 at River City High School in West Sacramento. Proof of Yolo County residence is required to receive resources. There will be free Thanksgiving meal kits (no turkeys) and free coats and blankets. Event is first-come\, first-serve.
URL:https://sactownsupermom.com/event/yolo-county-childrens-alliance-community-giveaway-day/
LOCATION:River City High School\, 1 Raider Lane\, West Sacramento\, CA\, 95691
CATEGORIES:Turkey Giveaways
END:VEVENT
END:VCALENDAR