BEGIN:VCALENDAR
VERSION:2.0
PRODID:-//Sactown Supermom - ECPv6.15.20//NONSGML v1.0//EN
CALSCALE:GREGORIAN
METHOD:PUBLISH
X-WR-CALNAME:Sactown Supermom
X-ORIGINAL-URL:https://sactownsupermom.com
X-WR-CALDESC:Events for Sactown Supermom
REFRESH-INTERVAL;VALUE=DURATION:PT1H
X-Robots-Tag:noindex
X-PUBLISHED-TTL:PT1H
BEGIN:VTIMEZONE
TZID:America/Los_Angeles
BEGIN:DAYLIGHT
TZOFFSETFROM:-0800
TZOFFSETTO:-0700
TZNAME:PDT
DTSTART:20240310T100000
END:DAYLIGHT
BEGIN:STANDARD
TZOFFSETFROM:-0700
TZOFFSETTO:-0800
TZNAME:PST
DTSTART:20241103T090000
END:STANDARD
BEGIN:DAYLIGHT
TZOFFSETFROM:-0800
TZOFFSETTO:-0700
TZNAME:PDT
DTSTART:20250309T100000
END:DAYLIGHT
BEGIN:STANDARD
TZOFFSETFROM:-0700
TZOFFSETTO:-0800
TZNAME:PST
DTSTART:20251102T090000
END:STANDARD
BEGIN:DAYLIGHT
TZOFFSETFROM:-0800
TZOFFSETTO:-0700
TZNAME:PDT
DTSTART:20260308T100000
END:DAYLIGHT
BEGIN:STANDARD
TZOFFSETFROM:-0700
TZOFFSETTO:-0800
TZNAME:PST
DTSTART:20261101T090000
END:STANDARD
END:VTIMEZONE
BEGIN:VEVENT
DTSTART;TZID=America/Los_Angeles:20251221T170000
DTEND;TZID=America/Los_Angeles:20251221T193000
DTSTAMP:20260421T040037
CREATED:20251210T042151Z
LAST-MODIFIED:20251210T042151Z
UID:10001191-1766336400-1766345400@sactownsupermom.com
SUMMARY:Pamela Hayes Classical Ballet presents The Nutcracker
DESCRIPTION:Pamela Hayes Classical Ballet presents The Nutcracker on December 19-21\, 2025 at the Harris Center for the Arts in Folsom. A dress rehearsal will occur on Thursday\, December 18\, 2025 with reduced tickets for $30 that the public may attend.
URL:https://sactownsupermom.com/event/pamela-hayes-classical-ballet-presents-the-nutcracker/2025-12-21/2/
LOCATION:Harris Center for the Arts\, 10 College Parkway\, Folsom\, CA\, 95630
CATEGORIES:Folsom
END:VEVENT
BEGIN:VEVENT
DTSTART;TZID=America/Los_Angeles:20251221T170000
DTEND;TZID=America/Los_Angeles:20251221T190000
DTSTAMP:20260421T040037
CREATED:20251117T041052Z
LAST-MODIFIED:20251204T172528Z
UID:10001069-1766336400-1766343600@sactownsupermom.com
SUMMARY:Nutcracker (Sacramento Ballet)
DESCRIPTION:The Sacramento Ballet performs the timeless holiday classic\, Nutcracker on select nights in December 2025. The show performances begin on Friday\, December 12. The performances will be accompanied by the Sacramento Philharmonic and Opera and take place at the Safe Credit Union Performing Arts Center. The showtime runs for approximately two hours.
URL:https://sactownsupermom.com/event/nutcracker-sacramento-ballet/2025-12-21/2/
LOCATION:Safe Credit Union Performing Arts Center\, 1301 L St\, Sacramento\, CA\, 95814
CATEGORIES:Ballet,Holidays
END:VEVENT
BEGIN:VEVENT
DTSTART;TZID=America/Los_Angeles:20251221T150000
DTEND;TZID=America/Los_Angeles:20251221T190000
DTSTAMP:20260421T040037
CREATED:20251116T052815Z
LAST-MODIFIED:20251210T063340Z
UID:10001050-1766329200-1766343600@sactownsupermom.com
SUMMARY:Old-Fashioned Christmas in Elk Grove
DESCRIPTION:Elk Grove’s Historical Society Old Fashioned Christmas returns in 2025 starting on Friday\, December 5\, 2025. It will take place the first three weekends of December. The grounds will be decorated in holiday lights and decor\, Santa will be there\, and activities for families such as cookie decorating and ornament making.
URL:https://sactownsupermom.com/event/old-fashioned-christmas-in-elk-grove/2025-12-21/
LOCATION:Elk Grove House & Stage Shop\, 9941 East Stockton Blvd.\, Elk Grove\, CA\, 95624
CATEGORIES:Elk Grove
END:VEVENT
BEGIN:VEVENT
DTSTART;TZID=America/Los_Angeles:20251221T150000
DTEND;TZID=America/Los_Angeles:20251221T170000
DTSTAMP:20260421T040037
CREATED:20251217T074040Z
LAST-MODIFIED:20251217T074040Z
UID:10001208-1766329200-1766336400@sactownsupermom.com
SUMMARY:Gingerbread Buddy Workshop: Interactive Kid's Cookie Decorating Experience
DESCRIPTION:Ever After Wine in Elk Grove will have a kid-friendly Gingerbread Buddy Workshop on Sunday\, December 21\, 2025. Each child attending will be paired with a gingerbread ‘buddy’ that they’ll get to decorate with icing\, sprinkles\, and their imagination. Pre-baked gingerbread cookies\, decoration supplies\, and a take-home box will be provided.
URL:https://sactownsupermom.com/event/gingerbread-buddy-workshop-interactive-kids-cookie-decorating-experience/
LOCATION:Ever After Wine\, 9639 East Stockton Boulevard\, Elk Grove\, CA\, 95624
CATEGORIES:Dec 19-21
END:VEVENT
BEGIN:VEVENT
DTSTART;TZID=America/Los_Angeles:20251221T110000
DTEND;TZID=America/Los_Angeles:20251221T143000
DTSTAMP:20260421T040037
CREATED:20251110T063403Z
LAST-MODIFIED:20251204T172950Z
UID:10000961-1766314800-1766327400@sactownsupermom.com
SUMMARY:Santa's Whistlestop Adventure
DESCRIPTION:Climb aboard the Placerville & Sacramento Valley Railroad (PSVRR) for Santa’s Whistlestop Adventure from Oak Station to Willow Springs the first three weekends in December 2025. A rail motorcar trip will take passengers to meet Santa. There will also be additional activities for kids and refreshments. \nThe rail trip will take a total of approximately 40-60 minutes. Each motorcar departs the station every 30 minutes starting at 11am. Families are welcome to stay as long as they like when reaching Willow Springs. \nChildren ages 4 and under ride free. \nThe PSVRR boarding location is next to Family Fitness at 700 Oak Pkwy in Folsom. Parking is in the Family Fitness parking lot (on the side facing the tracks).
URL:https://sactownsupermom.com/event/santas-whistlestop-adventure/2025-12-21/
LOCATION:Parking at PSVRR\, 700 Oak Ave Pkwy\, Folsom\, CA\, 95630
CATEGORIES:Folsom,Oct 17-19
END:VEVENT
BEGIN:VEVENT
DTSTART;TZID=America/Los_Angeles:20251221T110000
DTEND;TZID=America/Los_Angeles:20251221T120000
DTSTAMP:20260421T040037
CREATED:20251217T075050Z
LAST-MODIFIED:20251217T075050Z
UID:10001210-1766314800-1766318400@sactownsupermom.com
SUMMARY:Meet Santa at Wild Sisters Book Co
DESCRIPTION:Kids will get to meet Santa for free on Sunday\, December 21\, 2025 at Wild Sisters Book Co. Special guests Buddy the Elf and Mrs Claus will be joining in on the festive fun.
URL:https://sactownsupermom.com/event/meet-santa-at-wild-sisters-book-co/
LOCATION:Wild Sisters Book Company\, 3325 Folsom Blvd.\, Sacramento\, CA\, 95816
CATEGORIES:Dec 19-21,Free Holidays
END:VEVENT
BEGIN:VEVENT
DTSTART;TZID=America/Los_Angeles:20251220T180000
DTEND;TZID=America/Los_Angeles:20251220T210000
DTSTAMP:20260421T040037
CREATED:20251218T000731Z
LAST-MODIFIED:20251218T000731Z
UID:10001183-1766253600-1766264400@sactownsupermom.com
SUMMARY:Santa's Christmas Cottage in Historic Folsom (Cancelled)
DESCRIPTION:For one of the best free photos with Santa in Sacramento\, head to Santa’s Christmas Cottage in Historic Folsom next to the ice rink. Take photos with your own camera and enjoy this festive atmosphere with Santa\, Mrs Claus\, Rudolph\, and other holiday characters. Santa’s Christmas Cottage is open in 2025 on Friday and Saturday evenings in December from 6-9pm.
URL:https://sactownsupermom.com/event/santas-christmas-cottage-in-historic-folsom-3/2025-12-20/
LOCATION:Santa’s Christmas Cottage\, 826 Sutter Street\, Folsom\, CA\, 95630
CATEGORIES:Folsom,Free Holidays
END:VEVENT
BEGIN:VEVENT
DTSTART;TZID=America/Los_Angeles:20251220T170000
DTEND;TZID=America/Los_Angeles:20251220T210000
DTSTAMP:20260421T040037
CREATED:20251210T214329Z
LAST-MODIFIED:20251218T001542Z
UID:10001185-1766250000-1766264400@sactownsupermom.com
SUMMARY:Auburn's Country Christmas
DESCRIPTION:Country Christmas takes place in Auburn on December 13 & 20\, 2025. This free holiday event will have a festive atmosphere with activities\, vendors\, holiday treats\, live music\, holiday decor\, and more. Kids can enjoy visits with Santa and family-friendly activities.
URL:https://sactownsupermom.com/event/auburns-country-christmas-2/
LOCATION:Old Town Auburn\, CA\, 95603
CATEGORIES:Dec 19-21,Free Holidays,Holidays
END:VEVENT
BEGIN:VEVENT
DTSTART;TZID=America/Los_Angeles:20251220T170000
DTEND;TZID=America/Los_Angeles:20251220T190000
DTSTAMP:20260421T040037
CREATED:20251126T193935Z
LAST-MODIFIED:20251204T173107Z
UID:10001137-1766250000-1766257200@sactownsupermom.com
SUMMARY:Experience Winter at the Square
DESCRIPTION:Winter at The Square at Folsom History will take place over two weekends in 2025 on December 12-13 & 19-20. There will be elf-led gold planning\, a holiday postcard scavenger hunt\, hot chocolate\, make your own holiday gifts\, and a winter wonderland with lights and decorations. Kids and adults ages 13+ can forge candy canes for $15. Tickets available at the door.
URL:https://sactownsupermom.com/event/experience-winter-at-the-square/2025-12-20/
LOCATION:Folsom History Museum\, 823 Sutter St\, Folsom\, CA\, 95630
CATEGORIES:Folsom
END:VEVENT
BEGIN:VEVENT
DTSTART;TZID=America/Los_Angeles:20251220T170000
DTEND;TZID=America/Los_Angeles:20251220T190000
DTSTAMP:20260421T040037
CREATED:20251126T043910Z
LAST-MODIFIED:20251216T050115Z
UID:10001121-1766250000-1766257200@sactownsupermom.com
SUMMARY:Winterfest at Swanston Community Center (Cancelled)
DESCRIPTION:NOTE: This event has been cancelled for 2025. Winterfest will take place on Saturday\, December 20\, 2025 at the Swanston Community Center. This free event will include train rides\, carnival games\, snow machines\, a dance party\, hot cocoa\, and more festive fun.
URL:https://sactownsupermom.com/event/winterfest-at-at-swanston-community-center/
LOCATION:Swanston Community Center\, 2350 Northrop Ave\, Sacramento\, CA\, 95825
CATEGORIES:Free Holidays
END:VEVENT
BEGIN:VEVENT
DTSTART;TZID=America/Los_Angeles:20251220T160000
DTEND;TZID=America/Los_Angeles:20251220T180000
DTSTAMP:20260421T040037
CREATED:20251218T004350Z
LAST-MODIFIED:20251218T004350Z
UID:10001213-1766246400-1766253600@sactownsupermom.com
SUMMARY:Santa in the Plaza (Lincoln)
DESCRIPTION:Take photos with Santa in the Plaza in downtown Lincoln on Saturday\, December 20\, 2025. Enjoy free photos with Santa at Beermann Plaza. The Grinch may also be hanging out in the area.
URL:https://sactownsupermom.com/event/santa-in-the-plaza-lincoln/
LOCATION:Beermann Plaza\, 640 5th St\, Lincoln\, CA\, 95648
CATEGORIES:Dec 19-21
END:VEVENT
BEGIN:VEVENT
DTSTART;TZID=America/Los_Angeles:20251220T150000
DTEND;TZID=America/Los_Angeles:20251220T160000
DTSTAMP:20260421T040037
CREATED:20251218T021844Z
LAST-MODIFIED:20251218T023858Z
UID:10001219-1766242800-1766246400@sactownsupermom.com
SUMMARY:Snowfall & Sips at Common Coffee
DESCRIPTION:Common Coffee in Elk Grove will have a family-friendly Snowfall & Sips on December 18-20. A gentle snow effect will take place on their back patio every 15 minutes from 10am to 11am and 3pm to 4pm.
URL:https://sactownsupermom.com/event/snowfall-sips-at-common-coffee/2025-12-20/2/
LOCATION:Common Coffee\, 9645 Elk Grove Florin Rd\, Elk Grove\, CA\, 95624
CATEGORIES:Elk Grove
END:VEVENT
BEGIN:VEVENT
DTSTART;TZID=America/Los_Angeles:20251220T140000
DTEND;TZID=America/Los_Angeles:20251220T160000
DTSTAMP:20260421T040037
CREATED:20251217T072825Z
LAST-MODIFIED:20251217T072825Z
UID:10001206-1766239200-1766246400@sactownsupermom.com
SUMMARY:Cardboard Gingerbread House Decorating Party
DESCRIPTION:Space To Play in Elk Grove will have a gingerbread house decorating party on Saturday\, December 20\, 2025. Kids will get to enjoy festive crafts without the mess. \n 
URL:https://sactownsupermom.com/event/cardboard-gingerbread-house-decorating-party/
LOCATION:Space To Play\, 9683 Elk Grove Florin Rd\, Elk Grove\, CA\, 95624
CATEGORIES:Dec 19-21
END:VEVENT
BEGIN:VEVENT
DTSTART;TZID=America/Los_Angeles:20251220T140000
DTEND;TZID=America/Los_Angeles:20251220T150000
DTSTAMP:20260421T040037
CREATED:20251210T010956Z
LAST-MODIFIED:20251218T001435Z
UID:10001174-1766239200-1766242800@sactownsupermom.com
SUMMARY:Snickerdoodle Cookie Workshop
DESCRIPTION:A free snickerdoodle cookie workshop will take place on Saturday\, December 20\, 2025 at the Arthur F Turner Community Library in Davis. Kids will get to mix up dough and then take it home to bake cookies.
URL:https://sactownsupermom.com/event/snickerdoodle-cookie-workshop/
LOCATION:Arthur F. Turner Community Library\, 1212 Merkley Avenue\, West Sacramento\, CA\, 95691
CATEGORIES:Dec 19-21,Food,Free
END:VEVENT
BEGIN:VEVENT
DTSTART;TZID=America/Los_Angeles:20251220T133000
DTEND;TZID=America/Los_Angeles:20251220T153000
DTSTAMP:20260421T040037
CREATED:20251118T074528Z
LAST-MODIFIED:20251118T074528Z
UID:10001108-1766237400-1766244600@sactownsupermom.com
SUMMARY:Letters to Santa with Snowflake the Elf
DESCRIPTION:Snowflake the Elf will help kids write letters to Santa at Santa’s Christmas Cottage in Historic Folsom on select days in November and December 2025. Kids can enjoy storytime\, create holiday cards\, and enjoy a festive atmosphere at this free event.
URL:https://sactownsupermom.com/event/letters-to-santa-with-snowflake-the-elf/2025-12-20/
LOCATION:Santa’s Christmas Cottage\, 826 Sutter Street\, Folsom\, CA\, 95630
CATEGORIES:Folsom
END:VEVENT
BEGIN:VEVENT
DTSTART;TZID=America/Los_Angeles:20251220T130000
DTEND;TZID=America/Los_Angeles:20251220T143000
DTSTAMP:20260421T040037
CREATED:20251218T001347Z
LAST-MODIFIED:20251218T001347Z
UID:10001075-1766235600-1766241000@sactownsupermom.com
SUMMARY:'Tis the Season 2025
DESCRIPTION:As part of the B Street Theatre Family Series\, ‘Tis The Season: Hometown Holidays\, Traditions of Sacramento & Northern California will run on select nights in December 2025 beginning November 30. The performance will bring the regions holiday traditions to life in a comedic and charming style. The show is recommended for ages 5+. Run time is 1 hour and 30 minutes with an intermission.
URL:https://sactownsupermom.com/event/tis-the-season-2025-3/
LOCATION:B Street Theatre\, 2700 Capitol Avenue\, Sacramento\, CA\, 95816
CATEGORIES:Dec 19-21,Holidays
END:VEVENT
BEGIN:VEVENT
DTSTART;TZID=America/Los_Angeles:20251220T110000
DTEND;TZID=America/Los_Angeles:20251220T140000
DTSTAMP:20260421T040037
CREATED:20251218T001120Z
LAST-MODIFIED:20251218T001120Z
UID:10001032-1766228400-1766239200@sactownsupermom.com
SUMMARY:Free Pictures with Santa at Harley-Davidson of Sacramento
DESCRIPTION:Families can get free pictures with Santa at Harley-Davidson of Sacramento on Saturday\, December 6 & 20\, 2025. Bring your own camera!
URL:https://sactownsupermom.com/event/free-pictures-with-santa-at-harley-davidson-of-sacramento-3/
LOCATION:Harley-Davidson of Sacramento\, 1000 Arden Way\, Sacramento\, CA\, 95815
CATEGORIES:Dec 19-21,Holidays
END:VEVENT
BEGIN:VEVENT
DTSTART;TZID=America/Los_Angeles:20251220T100000
DTEND;TZID=America/Los_Angeles:20251220T113000
DTSTAMP:20260421T040037
CREATED:20251217T070753Z
LAST-MODIFIED:20251217T070753Z
UID:10001202-1766224800-1766230200@sactownsupermom.com
SUMMARY:Christmas Tea with Santa
DESCRIPTION:Enjoy Christmas tea with Santa at the Sotherton Tea Room on Saturday\, December 20\, 2025. Santa will visit during a tea party. Reservations must be made by phone at (530)305-4152.
URL:https://sactownsupermom.com/event/christmas-tea-with-santa/
LOCATION:Sotherton Tea Room\, 1520 Del Webb Blvd ste c 101\, Lincoln\, CA\, 95648
CATEGORIES:Dec 19-21
END:VEVENT
BEGIN:VEVENT
DTSTART;TZID=America/Los_Angeles:20251219T180000
DTEND;TZID=America/Los_Angeles:20251219T220000
DTSTAMP:20260421T040037
CREATED:20251218T001010Z
LAST-MODIFIED:20251218T042708Z
UID:10001200-1766167200-1766181600@sactownsupermom.com
SUMMARY:Cozy Climb at Quarry Park Adventures (Cancelled)
DESCRIPTION:Get in the festive spirit with a Cozy Climb at Quarry Park Adventures for a holiday night climb on December 12 & 19\, 2025. The three-hour experience will include a welcoming hot chocolate\, a 30-minute gear-up and orientation\, and access to Quarry Park’s most popular attractions from rock climbing to the zip line. \n 
URL:https://sactownsupermom.com/event/cozy-climb-at-quarry-park-adventures-2/
LOCATION:Quarry Park Adventures\, 5373 Pacific St\, Rocklin\, CA\, 95677
CATEGORIES:Dec 12-14,Rocklin
END:VEVENT
BEGIN:VEVENT
DTSTART;TZID=America/Los_Angeles:20251219T180000
DTEND;TZID=America/Los_Angeles:20251219T200000
DTSTAMP:20260421T040037
CREATED:20251217T072232Z
LAST-MODIFIED:20251217T072232Z
UID:10001205-1766167200-1766174400@sactownsupermom.com
SUMMARY:Meadowview in the Lights
DESCRIPTION:Enjoy a festive evening at the free Meadowview in the Lights on Friday\, December 19\, 2025. There will be holiday lights\, hot cocoa\, popcorn\, treats\, and more.
URL:https://sactownsupermom.com/event/meadowview-in-the-lights/
LOCATION:Pannell Meadowview Community Center\, 2450 Meadowview Rd\, Sacramento\, CA\, 95832
CATEGORIES:Dec 19-21
END:VEVENT
BEGIN:VEVENT
DTSTART;TZID=America/Los_Angeles:20251219T170000
DTEND;TZID=America/Los_Angeles:20251219T200000
DTSTAMP:20260421T040037
CREATED:20251217T074505Z
LAST-MODIFIED:20251217T074505Z
UID:10001209-1766163600-1766174400@sactownsupermom.com
SUMMARY:Christmas Silent Disco
DESCRIPTION:Dance away at a Christmas Silent Disco on Friday\, December 19\, 2025 at the Mack Road Valley Hi Community Center. There will be dancing\, food\, and festive fun.
URL:https://sactownsupermom.com/event/christmas-silent-disco/
LOCATION:Mack Road Valley Hi Community Center\, 7833 Center Parkway\, Sacramento\, CA\, 95823
CATEGORIES:Dec 19-21
END:VEVENT
BEGIN:VEVENT
DTSTART;TZID=America/Los_Angeles:20251219T160000
DTEND;TZID=America/Los_Angeles:20251219T170000
DTSTAMP:20260421T040037
CREATED:20251217T073354Z
LAST-MODIFIED:20251217T073354Z
UID:10001207-1766160000-1766163600@sactownsupermom.com
SUMMARY:Gingerbread Stuffies (West Sacramento)
DESCRIPTION:Kids will get to create their own stuffed gingerbread stuffie at the Arthur F Turner Community Library in West Sacramento at this free library event.
URL:https://sactownsupermom.com/event/gingerbread-stuffies-west-sacramento/
LOCATION:Arthur F. Turner Community Library\, 1212 Merkley Avenue\, West Sacramento\, CA\, 95691
CATEGORIES:Dec 19-21
END:VEVENT
BEGIN:VEVENT
DTSTART;TZID=America/Los_Angeles:20251218T153000
DTEND;TZID=America/Los_Angeles:20251218T183000
DTSTAMP:20260421T040037
CREATED:20251209T173236Z
LAST-MODIFIED:20251209T173244Z
UID:10001167-1766071800-1766082600@sactownsupermom.com
SUMMARY:Posada Navideña (La Familia)
DESCRIPTION:La Familia will be having its annual Posada Navideña on Thursday\, December 18\, 2025. The free event will have activities for kids\, hot chocolate\, pan dulce\, a visit from Santa\, community resources\, and more.
URL:https://sactownsupermom.com/event/posada-navidena-la-familia/
LOCATION:3301 37th Ave.\, Sacramento\, CA\, 95824
CATEGORIES:December,Free Holidays
END:VEVENT
BEGIN:VEVENT
DTSTART;TZID=America/Los_Angeles:20251216T193000
DTEND;TZID=America/Los_Angeles:20251216T213000
DTSTAMP:20260421T040037
CREATED:20251116T035610Z
LAST-MODIFIED:20251204T173857Z
UID:10001038-1765913400-1765920600@sactownsupermom.com
SUMMARY:Cirque Musica Holiday Wonderland
DESCRIPTION:Cirque Musica Holiday Wonderland takes place on Tuesday\, December 16\, 2025. This holiday show will have acrobatics and aerial performances in a winter wonderland the whole family will love. Two performances at 3:30pm and 7:30pm will occur at the Harris Center for the Arts in Folsom.
URL:https://sactownsupermom.com/event/cirque-musica-holiday-wonderland/
LOCATION:Harris Center for the Arts\, 10 College Parkway\, Folsom\, CA\, 95630
CATEGORIES:Folsom
END:VEVENT
BEGIN:VEVENT
DTSTART;TZID=America/Los_Angeles:20251215T180000
DTEND;TZID=America/Los_Angeles:20251215T200000
DTSTAMP:20260421T040037
CREATED:20251126T074331Z
LAST-MODIFIED:20251126T074331Z
UID:10001133-1765821600-1765828800@sactownsupermom.com
SUMMARY:Dinner with Santa at Hop Gardens
DESCRIPTION:Enjoy free photos with Santa at Hop Gardens on Monday\, December 15\, 2025. Any kids are welcome to take photos with Santa (not just diners). Reservations will not be taken at the restaurant and tables will be first-come\, first-serve.
URL:https://sactownsupermom.com/event/dinner-with-santa-at-hop-gardens/
LOCATION:Hop Gardens\, 2904 Franklin Blvd\, Sacramento\, CA\, 95818
CATEGORIES:Santa Photos
END:VEVENT
BEGIN:VEVENT
DTSTART;TZID=America/Los_Angeles:20251214T183000
DTEND;TZID=America/Los_Angeles:20251214T210000
DTSTAMP:20260421T040037
CREATED:20251211T042712Z
LAST-MODIFIED:20251211T042712Z
UID:10001198-1765737000-1765746000@sactownsupermom.com
SUMMARY:Menorah Lighting at Palladio
DESCRIPTION:The Chabad Jewish Community Center will lead a menorah lighting at the Palladio in Folsom on Sunday\, December 14\, 2025 from 6:30-9pm.
URL:https://sactownsupermom.com/event/menorah-lighting-at-palladio/
LOCATION:Palladio Piazza\, 350 Palladio Pkwy\, Folsom\, CA\, 95630
CATEGORIES:Dec 12-14
END:VEVENT
BEGIN:VEVENT
DTSTART;TZID=America/Los_Angeles:20251214T180000
DTEND;TZID=America/Los_Angeles:20251214T200000
DTSTAMP:20260421T040037
CREATED:20251116T172328Z
LAST-MODIFIED:20251116T173059Z
UID:10001058-1765735200-1765742400@sactownsupermom.com
SUMMARY:Live Nativity 2025 (Rancho Cordova)
DESCRIPTION:The Live Nativity in Rancho Cordova takes place from December 12-14\, 2025. Free reservations are encouraged but not required. This is an outdoor event that’s wheelchair accessible. Walking journeys begin every 15 minutes. Last presentation takes place at 8pm.
URL:https://sactownsupermom.com/event/live-nativity-2025-rancho-cordova/2025-12-14/
LOCATION:2100 California Circle\, Rancho Cordova\, CA\, 95742
CATEGORIES:Rancho Cordova
END:VEVENT
BEGIN:VEVENT
DTSTART;TZID=America/Los_Angeles:20251214T170000
DTEND;TZID=America/Los_Angeles:20251214T210000
DTSTAMP:20260421T040037
CREATED:20251201T041513Z
LAST-MODIFIED:20251210T213708Z
UID:10001147-1765731600-1765746000@sactownsupermom.com
SUMMARY:Southside Santa Parade 2025
DESCRIPTION:The Southside Santa Parade will kick off from McClatchy Park on Sunday\, December 14\, 2025. This free holiday event will have Santa visiting parks and schools in South Sacramento throughout the night. Families will be able to take free photos with Santa while enjoying a hot cocoa stand and Christmas carolers. \nThe Southside Santa Parade 2025 Parade Route is below: \n\n5:30pm – McClatchy Park – 3500 5th Ave\, Sacramento\n 5:50-6:20pm – Ethel Phillips Elementary School – 2930 21st Ave\, Sacramento\n 6:40-7:10pm @ St. Robert School – 2251 Irvin Wy\, Sacramento\n 7:30-8pm @ Argonaut Park – 1402 Dickson St\, Sacramento\n 8:20-8:50pm @ Chorley Park – 7000-7098 20th St\, Sacramento
URL:https://sactownsupermom.com/event/southside-santa-parade-2025/
LOCATION:McClatchy Park\, 3500 5th Avenue\, Sacramento\, CA\, 95817
CATEGORIES:Dec 12-14,December,Free Holidays
END:VEVENT
BEGIN:VEVENT
DTSTART;TZID=America/Los_Angeles:20251214T150000
DTEND;TZID=America/Los_Angeles:20251214T170000
DTSTAMP:20260421T040037
CREATED:20251210T010329Z
LAST-MODIFIED:20251210T010329Z
UID:10001173-1765724400-1765731600@sactownsupermom.com
SUMMARY:A Fresh Aire Holiday Concert in Rancho Cordova
DESCRIPTION:Enjoy A Fresh Aire Holiday Concert with the Rancho Cordova River City Concert Band on Sunday\, December 14\, 2025. This free holiday concert will have the music of Manheim Steamroller and features the Cordova High School Choir.
URL:https://sactownsupermom.com/event/a-fresh-aire-holiday-concert-in-rancho-cordova-2/
LOCATION:Cordova Performing Arts Center\, 2239 Chase Drive\, Rancho Cordova\, CA\, 95670
CATEGORIES:Dec 12-14,Rancho Cordova
END:VEVENT
BEGIN:VEVENT
DTSTART;TZID=America/Los_Angeles:20251214T143000
DTEND;TZID=America/Los_Angeles:20251214T160000
DTSTAMP:20260421T040037
CREATED:20251128T230848Z
LAST-MODIFIED:20251210T213830Z
UID:10001146-1765722600-1765728000@sactownsupermom.com
SUMMARY:Light Up Elk Grove
DESCRIPTION:The Chabad of Elk Grove will have its annual free Hanukkah celebration\, Light Up Elk Grove on Sunday\, December 14\, 2025. There will be latkes and donuts\, balloon twisting\, face painting\, cookie decorating\, caricatures\, a 9-ft LED menorah\, and more at this free community event.
URL:https://sactownsupermom.com/event/light-up-elk-grove/
LOCATION:Old Town Plaza\, 9615 Railroad Street\, Elk Grove\, CA\, 95624
CATEGORIES:Dec 12-14,December,Elk Grove,Free Holidays,Holiday Events
END:VEVENT
END:VCALENDAR