BEGIN:VCALENDAR
VERSION:2.0
PRODID:-//Sactown Supermom - ECPv6.15.20//NONSGML v1.0//EN
CALSCALE:GREGORIAN
METHOD:PUBLISH
X-ORIGINAL-URL:https://sactownsupermom.com
X-WR-CALDESC:Events for Sactown Supermom
REFRESH-INTERVAL;VALUE=DURATION:PT1H
X-Robots-Tag:noindex
X-PUBLISHED-TTL:PT1H
BEGIN:VTIMEZONE
TZID:America/Los_Angeles
BEGIN:DAYLIGHT
TZOFFSETFROM:-0800
TZOFFSETTO:-0700
TZNAME:PDT
DTSTART:20240310T100000
END:DAYLIGHT
BEGIN:STANDARD
TZOFFSETFROM:-0700
TZOFFSETTO:-0800
TZNAME:PST
DTSTART:20241103T090000
END:STANDARD
BEGIN:DAYLIGHT
TZOFFSETFROM:-0800
TZOFFSETTO:-0700
TZNAME:PDT
DTSTART:20250309T100000
END:DAYLIGHT
BEGIN:STANDARD
TZOFFSETFROM:-0700
TZOFFSETTO:-0800
TZNAME:PST
DTSTART:20251102T090000
END:STANDARD
BEGIN:DAYLIGHT
TZOFFSETFROM:-0800
TZOFFSETTO:-0700
TZNAME:PDT
DTSTART:20260308T100000
END:DAYLIGHT
BEGIN:STANDARD
TZOFFSETFROM:-0700
TZOFFSETTO:-0800
TZNAME:PST
DTSTART:20261101T090000
END:STANDARD
END:VTIMEZONE
BEGIN:VEVENT
DTSTART;TZID=America/Los_Angeles:20251231T130000
DTEND;TZID=America/Los_Angeles:20251231T160000
DTSTAMP:20260421T023206
CREATED:20251230T164917Z
LAST-MODIFIED:20251230T164926Z
UID:10001295-1767186000-1767196800@sactownsupermom.com
SUMMARY:Kids NYE Silent Disco (Folsom)
DESCRIPTION:Dance your way into 2026 at a Kids NYE Silent Disco on Wednesday\, December 31\, 2025 at Uncle Charlie’s Firehouse & Brew in Folsom. For $15\, kids will receive pizza and get to enjoy a silent disco party during the day on New Year’s Eve.
URL:https://sactownsupermom.com/event/kids-nye-silent-disco/
LOCATION:Uncle Charlie’s Firehouse & Brew\, 905 Leidesdorff St #100\, Folsom\, CA\, 95630
CATEGORIES:Noon Year's Eve
END:VEVENT
BEGIN:VEVENT
DTSTART;TZID=America/Los_Angeles:20251231T120000
DTEND;TZID=America/Los_Angeles:20251231T160000
DTSTAMP:20260421T023207
CREATED:20251222T044901Z
LAST-MODIFIED:20251222T044901Z
UID:10001238-1767182400-1767196800@sactownsupermom.com
SUMMARY:Noon Year's Eve at Roller King
DESCRIPTION:Skate into 2026 at Noon Year’s Eve at Roller King in Roseville. There will be a countdown\, balloon drop\, and prizes. The $25 admission fee includes roller skate rental.
URL:https://sactownsupermom.com/event/noon-years-eve-at-roller-king/
LOCATION:Roller King Skating Center\, 889 Riverside Avenue\, Roseville\, CA\, 95678
CATEGORIES:Noon Year's Eve
END:VEVENT
BEGIN:VEVENT
DTSTART;TZID=America/Los_Angeles:20251231T113000
DTEND;TZID=America/Los_Angeles:20251231T123000
DTSTAMP:20260421T023207
CREATED:20251221T171202Z
LAST-MODIFIED:20251221T171343Z
UID:10001222-1767180600-1767184200@sactownsupermom.com
SUMMARY:Noon Year's Eve (West Sacramento)
DESCRIPTION:The Arthur F Turner Community Library in West Sacramento will have a free Noon Year’s Eve party for kids on Wednesday\, December 31\, 2025. There will be music\, dancing\, sparkling juice\, a photo booth\, and a countdown to noon. \n 
URL:https://sactownsupermom.com/event/noon-years-eve-west-sacramento/
LOCATION:Arthur F. Turner Community Library\, 1212 Merkley Avenue\, West Sacramento\, CA\, 95691
CATEGORIES:Noon Year's Eve
END:VEVENT
BEGIN:VEVENT
DTSTART;TZID=America/Los_Angeles:20251231T111500
DTEND;TZID=America/Los_Angeles:20251231T123000
DTSTAMP:20260421T023207
CREATED:20251226T154614Z
LAST-MODIFIED:20251226T154614Z
UID:10001245-1767179700-1767184200@sactownsupermom.com
SUMMARY:Countdown to Noon Year's Eve
DESCRIPTION:Celebrate the start of 2026 at Countdown to Noon Year’s Eve at The Little Gym in Elk Grove on Wednesday\, December 31\, 2025. Kids will get to enjoy storytime\, crafts\, and tumble in the gym before counting down to a ball drop at noon. Non-members are welcome.
URL:https://sactownsupermom.com/event/countdown-to-noon-years-eve/
LOCATION:The Little Gym of Elk Grove\, 9163 East Stockton Boulevard #SPACE 340\, Elk Grove\, CA\, 95624
CATEGORIES:Noon Year's Eve
END:VEVENT
BEGIN:VEVENT
DTSTART;TZID=America/Los_Angeles:20251231T110000
DTEND;TZID=America/Los_Angeles:20251231T130000
DTSTAMP:20260421T023207
CREATED:20251222T043235Z
LAST-MODIFIED:20251222T043235Z
UID:10001236-1767178800-1767186000@sactownsupermom.com
SUMMARY:BusyKids Noon Year's Eve Party
DESCRIPTION:BusyKids in Folsom will have its annual Noon Year’s Eve Party on Wednesday\, December 31\, 2025. Kids will enjoy a countdown with confetti and balloons. There will be crafts\, treats\, and open play.
URL:https://sactownsupermom.com/event/busykids-noon-years-eve-party/
LOCATION:BusyKids\, 1014 Riley St\, Folsom\, CA\, 95630
CATEGORIES:Noon Year's Eve
END:VEVENT
BEGIN:VEVENT
DTSTART;TZID=America/Los_Angeles:20251231T110000
DTEND;TZID=America/Los_Angeles:20251231T130000
DTSTAMP:20260421T023207
CREATED:20251222T042919Z
LAST-MODIFIED:20251222T042919Z
UID:10001235-1767178800-1767186000@sactownsupermom.com
SUMMARY:Noon Year's Eve at Space To Play
DESCRIPTION:Little ones can celebrate Noon Year’s Eve at Space To Play in Elk Grove on Wednesday\, December 31\, 2025. Doors will open at 11am and a balloon drop will take place at 12pm. $10 per child also gets you two hours of play. There will be crafts and face painting.
URL:https://sactownsupermom.com/event/noon-years-eve-at-space-to-play/
LOCATION:Space To Play\, 9683 Elk Grove Florin Rd\, Elk Grove\, CA\, 95624
CATEGORIES:Noon Year's Eve
END:VEVENT
BEGIN:VEVENT
DTSTART;TZID=America/Los_Angeles:20251231T110000
DTEND;TZID=America/Los_Angeles:20251231T123000
DTSTAMP:20260421T023207
CREATED:20251226T194252Z
LAST-MODIFIED:20251226T194252Z
UID:10001246-1767178800-1767184200@sactownsupermom.com
SUMMARY:Noon Year's Eve at Wild Sisters Book Co
DESCRIPTION:A countdown to noon will take place at Noon Year’s Eve at Wild Sisters Book Co on Wednesday\, December 31\, 2025. There will be stories and crafts at this free celebration.
URL:https://sactownsupermom.com/event/noon-years-eve-at-wild-sisters-book-co/
LOCATION:Wild Sisters Book Company\, 3325 Folsom Blvd.\, Sacramento\, CA\, 95816
CATEGORIES:Noon Year's Eve
END:VEVENT
BEGIN:VEVENT
DTSTART;TZID=America/Los_Angeles:20251231T103000
DTEND;TZID=America/Los_Angeles:20251231T140000
DTSTAMP:20260421T023207
CREATED:20251120T010605Z
LAST-MODIFIED:20251230T154439Z
UID:10001113-1767177000-1767189600@sactownsupermom.com
SUMMARY:Noon Year's Eve at The Crocker (Sold Out)
DESCRIPTION:Ring in 2026 at a family-friendly Noon Year’s Eve on December 31\, 2025 at The Crocker Art Museum. Little ones can enjoy this free celebration at the early time of 10:30am with live performances and music\, storytimes\, interactive activities\, and more.
URL:https://sactownsupermom.com/event/noon-years-eve-at-the-crocker/
LOCATION:Crocker Art Museum\, 216 O Street\, Sacramento\, CA\, 95814
CATEGORIES:December,Noon Year's Eve
END:VEVENT
BEGIN:VEVENT
DTSTART;TZID=America/Los_Angeles:20251231T100000
DTEND;TZID=America/Los_Angeles:20251231T213000
DTSTAMP:20260421T023207
CREATED:20251222T054510Z
LAST-MODIFIED:20251222T054510Z
UID:10001241-1767175200-1767216600@sactownsupermom.com
SUMMARY:Rockin’ New Year’s Eve Party at the Rink
DESCRIPTION:Glide into 2026 at a Rockin’ New Year’s Eve Party at the Historic Folsom ice rink on Wednesday\, December 31\, 2025. The day will include a 12pm Noon Year’s Eve Celebration\, 6pm & 8pm figure skating shows\, and an 8pm ball drop party.
URL:https://sactownsupermom.com/event/rockin-new-years-eve-party-at-the-rink/
LOCATION:Historic Folsom Ice Rink\, 905 Leidesdorff St #100\, Folsom\, CA\, 95630
CATEGORIES:Noon Year's Eve
END:VEVENT
BEGIN:VEVENT
DTSTART;TZID=America/Los_Angeles:20251231T100000
DTEND;TZID=America/Los_Angeles:20251231T150000
DTSTAMP:20260421T023207
CREATED:20251222T050619Z
LAST-MODIFIED:20251222T050619Z
UID:10001240-1767175200-1767193200@sactownsupermom.com
SUMMARY:New Year's Play at Sacramento Children's Museum
DESCRIPTION:Kids can enjoy New Year’s Play at the Sacramento Children’s Museum on Wednesday\, December 31\, 2025. This New Year’s Eve celebration will include hourly bubble stomps and themed activities. There is special $5 admission for the event.
URL:https://sactownsupermom.com/event/new-years-play-at-sacramento-childrens-museum/
LOCATION:Sacramento Children’s Museum\, 2701 Prospect Park\, Rancho Cordova\, CA\, 95670
CATEGORIES:Noon Year's Eve
END:VEVENT
BEGIN:VEVENT
DTSTART;TZID=America/Los_Angeles:20251231T100000
DTEND;TZID=America/Los_Angeles:20251231T140000
DTSTAMP:20260421T023207
CREATED:20251222T042513Z
LAST-MODIFIED:20251222T042513Z
UID:10001234-1767175200-1767189600@sactownsupermom.com
SUMMARY:Noon Year’s Eve Pajama Party
DESCRIPTION:Ring in 2026 at a Noon Year’s Eve Pajama Party on Wednesday\, December 31\, 2025 at the Aerospace Museum of California. The festive celebration will include New Year’s crafts\, a balloon drop countdown\, sing-alongs\, and a hot cocoa bar.
URL:https://sactownsupermom.com/event/noon-years-eve-pajama-party/
LOCATION:Aerospace Museum of California\, 3200 Freedom Park Drive\, McClellan\, CA\, 95652
CATEGORIES:Noon Year's Eve
END:VEVENT
BEGIN:VEVENT
DTSTART;TZID=America/Los_Angeles:20251231T100000
DTEND;TZID=America/Los_Angeles:20251231T130000
DTSTAMP:20260421T023207
CREATED:20251222T044447Z
LAST-MODIFIED:20251226T194324Z
UID:10001237-1767175200-1767186000@sactownsupermom.com
SUMMARY:Noon Year's Eve at Sacramento History Museum
DESCRIPTION:Kick off 2026 at Noon Year’s Eve on Wednesday\, December 31\, 2025 at the Sacramento History Museum. This family-friendly event will include a balloon drop\, a countdown to noon\, craft stations with the Sacramento Children’s Museum\, face painting\, and storytimes at 10:30am and 11:30am. This event is included with regular museum admission.
URL:https://sactownsupermom.com/event/noon-years-eve-at-sacramento-history-museum/
LOCATION:Sacramento History Museum\, 101 I Street\, Old Sacramento\, CA\, 95814
CATEGORIES:Noon Year's Eve
END:VEVENT
BEGIN:VEVENT
DTSTART;TZID=America/Los_Angeles:20251231T090000
DTEND;TZID=America/Los_Angeles:20251231T110000
DTSTAMP:20260421T023207
CREATED:20251223T164045Z
LAST-MODIFIED:20251223T164045Z
UID:10001242-1767171600-1767178800@sactownsupermom.com
SUMMARY:Kids’ New Year’s Day Eve Party
DESCRIPTION:MOSAIC Children’s Museum in Woodland will have a Kids’ New Year’s Day Eve Party on Wednesday\, December 31\, 2025. There will be a countdown to a ball drop\, interactive crafts\, and themed fun to ring in the New Year early in the day. This event is included with regular museum admission.
URL:https://sactownsupermom.com/event/kids-new-years-day-eve-party/
LOCATION:MOSAIC Children’s Museum\, 120 Main Street\, Suite D\, Woodland\, CA\, 95695
CATEGORIES:Noon Year's Eve
END:VEVENT
BEGIN:VEVENT
DTSTART;TZID=America/Los_Angeles:20251227T140000
DTEND;TZID=America/Los_Angeles:20251227T160000
DTSTAMP:20260421T023207
CREATED:20251221T204206Z
LAST-MODIFIED:20251222T063517Z
UID:10001226-1766844000-1766851200@sactownsupermom.com
SUMMARY:Sacramento Kings Kids & Family Day
DESCRIPTION:The Sacramento Kings will have a Sesame Street-themed Kids and Family Day game on Saturday\, December 27\, 2025. This is a 2pm day game against the Dallas Mavericks. There will be a Cookie Monster scavenger hunt through the arena. Kids can collect stamps to redeem for a cookie and dental kit. The first 7\,000 fans in attendance will receive a complimentary Elmo bucket hat. Additional activities include face painting and balloon art.
URL:https://sactownsupermom.com/event/sacramento-kings-kids-family-day/
LOCATION:Golden 1 Center\, 500 David J Stern Walk\, Sacramento\, CA\, 95814
CATEGORIES:Christmas Week,Golden 1 Center
END:VEVENT
BEGIN:VEVENT
DTSTART;TZID=America/Los_Angeles:20251227T100000
DTEND;TZID=America/Los_Angeles:20251227T113000
DTSTAMP:20260421T023207
CREATED:20251217T071330Z
LAST-MODIFIED:20251222T063442Z
UID:10001203-1766829600-1766835000@sactownsupermom.com
SUMMARY:Princess & Me Royal Tea
DESCRIPTION:A Princess & Me Royal Tea will take place on Saturday\, December 27\, 2025 at the Sotherton Tea Room in Lincoln. There will be treats\, tea\, and a meet-and-greet with this month’s princess. Reservations must be made by phone at (530)-305-4152. \n 
URL:https://sactownsupermom.com/event/princess-me-royal-tea/
LOCATION:Sotherton Tea Room\, 1520 Del Webb Blvd ste c 101\, Lincoln\, CA\, 95648
CATEGORIES:Christmas Week
END:VEVENT
BEGIN:VEVENT
DTSTART;TZID=America/Los_Angeles:20251225T100000
DTEND;TZID=America/Los_Angeles:20251225T213000
DTSTAMP:20260421T023207
CREATED:20251217T071922Z
LAST-MODIFIED:20251222T063427Z
UID:10001204-1766656800-1766698200@sactownsupermom.com
SUMMARY:Rudolph's Christmas Party at the Folsom Rink
DESCRIPTION:Go ice skating under the sparkling Christmas tree and festive atmosphere at Rudolph’s Christmas Party on Thursday\, December 25\, 2025 at the Historic Folsom ice rink.
URL:https://sactownsupermom.com/event/rudolphs-christmas-party-at-the-folsom-rink/
LOCATION:Historic Folsom Ice Rink\, 905 Leidesdorff St #100\, Folsom\, CA\, 95630
CATEGORIES:Christmas Week,Folsom
END:VEVENT
BEGIN:VEVENT
DTSTART;TZID=America/Los_Angeles:20251225T090000
DTEND;TZID=America/Los_Angeles:20251225T160000
DTSTAMP:20260421T023207
CREATED:20251217T081024Z
LAST-MODIFIED:20251222T064847Z
UID:10001211-1766653200-1766678400@sactownsupermom.com
SUMMARY:Unlimited Free Bowling at Country Club Lanes
DESCRIPTION:It’s a Christmas miracle! Country Club Lanes will have unlimited free bowling on Christmas Day from 9am to 4pm. Shoe rentals do need to be purchased which are $6.75 per person. Laser tag will also be available for $5 per person per game.
URL:https://sactownsupermom.com/event/unlimited-bowling-at-country-club-lanes/
LOCATION:Country Club Lanes\, 2600 Watt Ave\, Sacramento\, CA\, 95821
CATEGORIES:Christmas Week,December
END:VEVENT
BEGIN:VEVENT
DTSTART;TZID=America/Los_Angeles:20251224T150000
DTEND;TZID=America/Los_Angeles:20251224T170000
DTSTAMP:20260421T023207
CREATED:20251223T232416Z
LAST-MODIFIED:20251223T232416Z
UID:10001244-1766588400-1766595600@sactownsupermom.com
SUMMARY:Free Christmas Eve Holiday Meal
DESCRIPTION:The annual Davis Food Co-Op Christmas Eve Holiday Meal will take place on Wednesday\, December 24\, 2025 from 3-5pm. This is free for anyone to attend at the Davis Veterans Memorial Center. \nThe menu includes: \n\nGreen Salad\nOven Roasted Chicken Thighs (Vegan Option: Stuffed Pepper)\nSmashed Potatoes with Miso Gravy\nGreen Beans\nDinner Rolls\nDesserts (Baked & donated by community members)
URL:https://sactownsupermom.com/event/free-christmas-eve-holiday-meal/
LOCATION:Davis Veterans Memorial Center\, 203 E 14th St\, Davis\, CA\, 95616
CATEGORIES:Christmas Week
END:VEVENT
BEGIN:VEVENT
DTSTART;TZID=America/Los_Angeles:20251224T140000
DTEND;TZID=America/Los_Angeles:20251224T170000
DTSTAMP:20260421T023207
CREATED:20251221T194657Z
LAST-MODIFIED:20251222T063020Z
UID:10001225-1766584800-1766595600@sactownsupermom.com
SUMMARY:Christmas Eve Pajama Skate Party
DESCRIPTION:Glide over to Skatetown Ice Arena for a Christmas Eve Pajama Skate Party on Wednesday\, December 24\, 2025. There will be laser and disco light shows\, snow falling from the ceiling\, games\, a live DJ\, beginner skater lessons\, and more. Children 4 and under receive free admission\, including skates\, with a paid adult.
URL:https://sactownsupermom.com/event/christmas-eve-pajama-skate-party/
LOCATION:Skatetown Ice Arena\, 1009 Orlando Ave\, Roseville\, CA\, 95661
CATEGORIES:Christmas Week,Roseville
END:VEVENT
BEGIN:VEVENT
DTSTART;TZID=America/Los_Angeles:20251223T193000
DTEND;TZID=America/Los_Angeles:20251223T210000
DTSTAMP:20260421T023207
CREATED:20251222T062855Z
LAST-MODIFIED:20251222T062855Z
UID:10001164-1766518200-1766523600@sactownsupermom.com
SUMMARY:Winter Tube Hill in El Dorado Hills
DESCRIPTION:Families can go tubing for free for several days and nights in December 2025 on the Winter Tube Hill at Bayside Church in El Dorado Hills. This is a free event on a tube hill (no snow) for all to enjoy. \nThe Tube Hill will take place on the following dates and times in 2025: \n\n12/5 5-8pm (Santa’s Village)\n12/7 12:30pm to 2pm\n12/9 6:30-8:30pm (EDH Fire Santa Run)\n12/12 12:30pm to 2pm\n12/14 5-8pm (Welcome to Who-ville)\n12/21 12:30pm to 2pm\n12/23 7:30-9pm
URL:https://sactownsupermom.com/event/winter-tube-hill-in-el-dorado-hills-5/
LOCATION:Bayside Church\, 800 White Rock Rd\, El Dorado. Hills\, CA\, 95762
CATEGORIES:Christmas Week,Free
END:VEVENT
BEGIN:VEVENT
DTSTART;TZID=America/Los_Angeles:20251223T111000
DTEND;TZID=America/Los_Angeles:20251223T121000
DTSTAMP:20260421T023207
CREATED:20251221T185803Z
LAST-MODIFIED:20251222T071318Z
UID:10001223-1766488200-1766491800@sactownsupermom.com
SUMMARY:Read Move & Groove: The Snowy Day
DESCRIPTION:The Little Gym in Elk Grove will have a Read Move & Groove on Tuesday\, December 23\, 2025. Kids can will get to enjoy a reading of The Snowy Day. There will also be a craft\, snack\, and open gym time. This event is open to non-members and is geared toward children ages 4 months to 5 years old.
URL:https://sactownsupermom.com/event/read-move-groove-the-snowy-day/
LOCATION:The Little Gym of Elk Grove\, 9163 East Stockton Boulevard #SPACE 340\, Elk Grove\, CA\, 95624
CATEGORIES:Christmas Week,Elk Grove
END:VEVENT
BEGIN:VEVENT
DTSTART;TZID=America/Los_Angeles:20251223T090000
DTEND;TZID=America/Los_Angeles:20251223T160000
DTSTAMP:20260421T023207
CREATED:20251221T190621Z
LAST-MODIFIED:20251222T071305Z
UID:10001224-1766480400-1766505600@sactownsupermom.com
SUMMARY:$10 Community Day at Sacramento Zoo
DESCRIPTION:The Sacramento Zoo will have a $10 Community Day on Tuesday\, December 23\, 2025.
URL:https://sactownsupermom.com/event/10-community-day-at-sacramento-zoo-5/
LOCATION:Sacramento Zoo\, 3930 W Land Park Dr.\, Sacramento\, CA\, 95822
CATEGORIES:Christmas Week,Sacramento Zoo
END:VEVENT
BEGIN:VEVENT
DTSTART;TZID=America/Los_Angeles:20251222T170000
DTEND;TZID=America/Los_Angeles:20251222T200000
DTSTAMP:20260421T023207
CREATED:20251222T062725Z
LAST-MODIFIED:20251222T071143Z
UID:10000973-1766422800-1766433600@sactownsupermom.com
SUMMARY:Wild Nights and Holiday Lights
DESCRIPTION:Wild Nights and Holiday Lights returns to the Folsom City Zoo Sanctuary in December 2025. The zoo is transformed into a holiday wonderland with tons of twinkling lights. The Folsom Valley Railway miniature train also provides nighttime rides through holiday lights.
URL:https://sactownsupermom.com/event/wild-nights-and-holiday-lights-4/
LOCATION:Folsom City Zoo Sanctuary\, 403 Stafford Street\, Folsom\, CA\, 95630
CATEGORIES:Christmas Week,Folsom,Folsom Zoo
END:VEVENT
BEGIN:VEVENT
DTSTART;TZID=America/Los_Angeles:20251222T100000
DTEND;TZID=America/Los_Angeles:20251222T140000
DTSTAMP:20260421T023207
CREATED:20251217T065653Z
LAST-MODIFIED:20251222T062708Z
UID:10001201-1766397600-1766412000@sactownsupermom.com
SUMMARY:Tutu School Elk Grove Nutcracker Day Camp
DESCRIPTION:Tutu School Elk Grove will have a Nutcracker Day Camp on Monday\, December 22\, 2025 for little super plums. Dancers will get to participate in Nutcracker-themed crafts\, a festive ballet lesson\, play games\, enjoy storytime\, and more. Dancers should bring their own lunch to the day camp.
URL:https://sactownsupermom.com/event/tutu-school-elk-grove-nutcracker-day-camp/
LOCATION:Tutu School Elk Grove\, 5030 Elk Grove Blvd Suite 140\, Elk Grove\, CA\, 95758
CATEGORIES:Ballet,Christmas Week
END:VEVENT
BEGIN:VEVENT
DTSTART;TZID=America/Los_Angeles:20251221T170000
DTEND;TZID=America/Los_Angeles:20251221T200000
DTSTAMP:20260421T023207
CREATED:20251210T050946Z
LAST-MODIFIED:20251210T050955Z
UID:10001194-1766336400-1766347200@sactownsupermom.com
SUMMARY:River Park Holiday Lights Competition
DESCRIPTION:The River Park Holiday Lights Competition will take place on December 20 & 21\, 2025. Pick up a route map and voting ballot from the cocoa and cider station at 5809 Callister. Walk the route to vote for your favorite houses in holiday lights in 3 different categories. Santa will also be at the event on Saturday\, December 20\, 2025.
URL:https://sactownsupermom.com/event/river-park-holiday-lights-competition/2025-12-21/
LOCATION:5809 Callister Ave\, Sacramento\, CA\, 95819
CATEGORIES:Free Holidays,Holidays
END:VEVENT
BEGIN:VEVENT
DTSTART;TZID=America/Los_Angeles:20251221T170000
DTEND;TZID=America/Los_Angeles:20251221T193000
DTSTAMP:20260421T023207
CREATED:20251210T042151Z
LAST-MODIFIED:20251210T042151Z
UID:10001191-1766336400-1766345400@sactownsupermom.com
SUMMARY:Pamela Hayes Classical Ballet presents The Nutcracker
DESCRIPTION:Pamela Hayes Classical Ballet presents The Nutcracker on December 19-21\, 2025 at the Harris Center for the Arts in Folsom. A dress rehearsal will occur on Thursday\, December 18\, 2025 with reduced tickets for $30 that the public may attend.
URL:https://sactownsupermom.com/event/pamela-hayes-classical-ballet-presents-the-nutcracker/2025-12-21/2/
LOCATION:Harris Center for the Arts\, 10 College Parkway\, Folsom\, CA\, 95630
CATEGORIES:Folsom
END:VEVENT
BEGIN:VEVENT
DTSTART;TZID=America/Los_Angeles:20251221T170000
DTEND;TZID=America/Los_Angeles:20251221T190000
DTSTAMP:20260421T023207
CREATED:20251117T041052Z
LAST-MODIFIED:20251204T172528Z
UID:10001069-1766336400-1766343600@sactownsupermom.com
SUMMARY:Nutcracker (Sacramento Ballet)
DESCRIPTION:The Sacramento Ballet performs the timeless holiday classic\, Nutcracker on select nights in December 2025. The show performances begin on Friday\, December 12. The performances will be accompanied by the Sacramento Philharmonic and Opera and take place at the Safe Credit Union Performing Arts Center. The showtime runs for approximately two hours.
URL:https://sactownsupermom.com/event/nutcracker-sacramento-ballet/2025-12-21/2/
LOCATION:Safe Credit Union Performing Arts Center\, 1301 L St\, Sacramento\, CA\, 95814
CATEGORIES:Ballet,Holidays
END:VEVENT
BEGIN:VEVENT
DTSTART;TZID=America/Los_Angeles:20251221T150000
DTEND;TZID=America/Los_Angeles:20251221T190000
DTSTAMP:20260421T023207
CREATED:20251116T052815Z
LAST-MODIFIED:20251210T063340Z
UID:10001050-1766329200-1766343600@sactownsupermom.com
SUMMARY:Old-Fashioned Christmas in Elk Grove
DESCRIPTION:Elk Grove’s Historical Society Old Fashioned Christmas returns in 2025 starting on Friday\, December 5\, 2025. It will take place the first three weekends of December. The grounds will be decorated in holiday lights and decor\, Santa will be there\, and activities for families such as cookie decorating and ornament making.
URL:https://sactownsupermom.com/event/old-fashioned-christmas-in-elk-grove/2025-12-21/
LOCATION:Elk Grove House & Stage Shop\, 9941 East Stockton Blvd.\, Elk Grove\, CA\, 95624
CATEGORIES:Elk Grove
END:VEVENT
BEGIN:VEVENT
DTSTART;TZID=America/Los_Angeles:20251221T150000
DTEND;TZID=America/Los_Angeles:20251221T170000
DTSTAMP:20260421T023207
CREATED:20251217T074040Z
LAST-MODIFIED:20251217T074040Z
UID:10001208-1766329200-1766336400@sactownsupermom.com
SUMMARY:Gingerbread Buddy Workshop: Interactive Kid's Cookie Decorating Experience
DESCRIPTION:Ever After Wine in Elk Grove will have a kid-friendly Gingerbread Buddy Workshop on Sunday\, December 21\, 2025. Each child attending will be paired with a gingerbread ‘buddy’ that they’ll get to decorate with icing\, sprinkles\, and their imagination. Pre-baked gingerbread cookies\, decoration supplies\, and a take-home box will be provided.
URL:https://sactownsupermom.com/event/gingerbread-buddy-workshop-interactive-kids-cookie-decorating-experience/
LOCATION:Ever After Wine\, 9639 East Stockton Boulevard\, Elk Grove\, CA\, 95624
CATEGORIES:Dec 19-21
END:VEVENT
BEGIN:VEVENT
DTSTART;TZID=America/Los_Angeles:20251221T110000
DTEND;TZID=America/Los_Angeles:20251221T143000
DTSTAMP:20260421T023207
CREATED:20251110T063403Z
LAST-MODIFIED:20251204T172950Z
UID:10000961-1766314800-1766327400@sactownsupermom.com
SUMMARY:Santa's Whistlestop Adventure
DESCRIPTION:Climb aboard the Placerville & Sacramento Valley Railroad (PSVRR) for Santa’s Whistlestop Adventure from Oak Station to Willow Springs the first three weekends in December 2025. A rail motorcar trip will take passengers to meet Santa. There will also be additional activities for kids and refreshments. \nThe rail trip will take a total of approximately 40-60 minutes. Each motorcar departs the station every 30 minutes starting at 11am. Families are welcome to stay as long as they like when reaching Willow Springs. \nChildren ages 4 and under ride free. \nThe PSVRR boarding location is next to Family Fitness at 700 Oak Pkwy in Folsom. Parking is in the Family Fitness parking lot (on the side facing the tracks).
URL:https://sactownsupermom.com/event/santas-whistlestop-adventure/2025-12-21/
LOCATION:Parking at PSVRR\, 700 Oak Ave Pkwy\, Folsom\, CA\, 95630
CATEGORIES:Folsom,Oct 17-19
END:VEVENT
END:VCALENDAR